Back to Multiple platform build/check report for BioC 3.21:   simplified   long
ABCDEFGHIJKLMNOPQ[R]STUVWXYZ

This page was generated on 2025-04-28 13:43 -0400 (Mon, 28 Apr 2025).

HostnameOSArch (*)R versionInstalled pkgs
nebbiolo1Linux (Ubuntu 24.04.1 LTS)x86_644.5.0 RC (2025-04-04 r88126) -- "How About a Twenty-Six" 4832
palomino7Windows Server 2022 Datacenterx644.5.0 RC (2025-04-04 r88126 ucrt) -- "How About a Twenty-Six" 4574
Click on any hostname to see more info about the system (e.g. compilers)      (*) as reported by 'uname -p', except on Windows and Mac OS X

Package 1685/2341HostnameOS / ArchINSTALLBUILDCHECKBUILD BIN
RAIDS 1.6.1  (landing page)
Pascal Belleau
Snapshot Date: 2025-04-24 15:01 -0400 (Thu, 24 Apr 2025)
git_url: https://git.bioconductor.org/packages/RAIDS
git_branch: RELEASE_3_21
git_last_commit: cf24404
git_last_commit_date: 2025-04-15 22:57:27 -0400 (Tue, 15 Apr 2025)
nebbiolo1Linux (Ubuntu 24.04.1 LTS) / x86_64  OK    OK    OK  UNNEEDED, same version is already published
palomino7Windows Server 2022 Datacenter / x64  OK    OK    OK    OK  UNNEEDED, same version is already published


CHECK results for RAIDS on palomino7

To the developers/maintainers of the RAIDS package:
- Allow up to 24 hours (and sometimes 48 hours) for your latest push to git@git.bioconductor.org:packages/RAIDS.git to reflect on this report. See Troubleshooting Build Report for more information.
- Use the following Renviron settings to reproduce errors and warnings.
- If 'R CMD check' started to fail recently on the Linux builder(s) over a missing dependency, add the missing dependency to 'Suggests:' in your DESCRIPTION file. See Renviron.bioc for more information.

raw results


Summary

Package: RAIDS
Version: 1.6.1
Command: E:\biocbuild\bbs-3.21-bioc\R\bin\R.exe CMD check --no-multiarch --install=check:RAIDS.install-out.txt --library=E:\biocbuild\bbs-3.21-bioc\R\library --no-vignettes --timings RAIDS_1.6.1.tar.gz
StartedAt: 2025-04-25 06:48:22 -0400 (Fri, 25 Apr 2025)
EndedAt: 2025-04-25 06:57:59 -0400 (Fri, 25 Apr 2025)
EllapsedTime: 577.6 seconds
RetCode: 0
Status:   OK  
CheckDir: RAIDS.Rcheck
Warnings: 0

Command output

##############################################################################
##############################################################################
###
### Running command:
###
###   E:\biocbuild\bbs-3.21-bioc\R\bin\R.exe CMD check --no-multiarch --install=check:RAIDS.install-out.txt --library=E:\biocbuild\bbs-3.21-bioc\R\library --no-vignettes --timings RAIDS_1.6.1.tar.gz
###
##############################################################################
##############################################################################


* using log directory 'E:/biocbuild/bbs-3.21-bioc/meat/RAIDS.Rcheck'
* using R version 4.5.0 RC (2025-04-04 r88126 ucrt)
* using platform: x86_64-w64-mingw32
* R was compiled by
    gcc.exe (GCC) 14.2.0
    GNU Fortran (GCC) 14.2.0
* running under: Windows Server 2022 x64 (build 20348)
* using session charset: UTF-8
* using option '--no-vignettes'
* checking for file 'RAIDS/DESCRIPTION' ... OK
* checking extension type ... Package
* this is package 'RAIDS' version '1.6.1'
* package encoding: UTF-8
* checking package namespace information ... OK
* checking package dependencies ... OK
* checking if this is a source package ... OK
* checking if there is a namespace ... OK
* checking for hidden files and directories ... OK
* checking for portable file names ... OK
* checking whether package 'RAIDS' can be installed ... OK
* checking installed package size ... OK
* checking package directory ... OK
* checking 'build' directory ... OK
* checking DESCRIPTION meta-information ... OK
* checking top-level files ... OK
* checking for left-over files ... OK
* checking index information ... OK
* checking package subdirectories ... OK
* checking code files for non-ASCII characters ... OK
* checking R files for syntax errors ... OK
* checking whether the package can be loaded ... OK
* checking whether the package can be loaded with stated dependencies ... OK
* checking whether the package can be unloaded cleanly ... OK
* checking whether the namespace can be loaded with stated dependencies ... OK
* checking whether the namespace can be unloaded cleanly ... OK
* checking dependencies in R code ... OK
* checking S3 generic/method consistency ... OK
* checking replacement functions ... OK
* checking foreign function calls ... OK
* checking R code for possible problems ... OK
* checking Rd files ... OK
* checking Rd metadata ... OK
* checking Rd cross-references ... OK
* checking for missing documentation entries ... OK
* checking for code/documentation mismatches ... OK
* checking Rd \usage sections ... NOTE
Documented arguments not in \usage in Rd file 'wrapperAncestry.Rd':
  'pathGeno'

Functions with \usage entries need to have the appropriate \alias
entries, and all their arguments documented.
The \usage entries must correspond to syntactically valid R code.
See chapter 'Writing R documentation files' in the 'Writing R
Extensions' manual.
* checking Rd contents ... OK
* checking for unstated dependencies in examples ... OK
* checking contents of 'data' directory ... OK
* checking data for non-ASCII characters ... OK
* checking data for ASCII and uncompressed saves ... OK
* checking files in 'vignettes' ... OK
* checking examples ... OK
Examples with CPU (user + system) or elapsed time > 5s
                                 user system elapsed
selParaPCAUpQuartile             7.78   0.14    7.92
readSNVVCF                       7.43   0.18    7.60
computeAncestryFromSyntheticFile 7.33   0.23    7.56
groupChr1KGSNV                   0.07   0.04    5.25
* checking for unstated dependencies in 'tests' ... OK
* checking tests ...
  Running 'testthat.R'
 OK
* checking for unstated dependencies in vignettes ... OK
* checking package vignettes ... OK
* checking running R code from vignettes ... SKIPPED
* checking re-building of vignette outputs ... SKIPPED
* checking PDF version of manual ... OK
* DONE

Status: 1 NOTE
See
  'E:/biocbuild/bbs-3.21-bioc/meat/RAIDS.Rcheck/00check.log'
for details.


Installation output

RAIDS.Rcheck/00install.out

##############################################################################
##############################################################################
###
### Running command:
###
###   E:\biocbuild\bbs-3.21-bioc\R\bin\R.exe CMD INSTALL RAIDS
###
##############################################################################
##############################################################################


* installing to library 'E:/biocbuild/bbs-3.21-bioc/R/library'
* installing *source* package 'RAIDS' ...
** this is package 'RAIDS' version '1.6.1'
** using staged installation
** R
** data
** inst
** byte-compile and prepare package for lazy loading
** help
*** installing help indices
** building package indices
** installing vignettes
** testing if installed package can be loaded from temporary location
** testing if installed package can be loaded from final location
** testing if installed package keeps a record of temporary installation path
* DONE (RAIDS)

Tests output

RAIDS.Rcheck/tests/testthat.Rout


R version 4.5.0 RC (2025-04-04 r88126 ucrt) -- "How About a Twenty-Six"
Copyright (C) 2025 The R Foundation for Statistical Computing
Platform: x86_64-w64-mingw32/x64

R is free software and comes with ABSOLUTELY NO WARRANTY.
You are welcome to redistribute it under certain conditions.
Type 'license()' or 'licence()' for distribution details.

R is a collaborative project with many contributors.
Type 'contributors()' for more information and
'citation()' on how to cite R or R packages in publications.

Type 'demo()' for some demos, 'help()' for on-line help, or
'help.start()' for an HTML browser interface to help.
Type 'q()' to quit R.

> library(testthat)
> library(RAIDS)
Loading required package: gdsfmt
Loading required package: SNPRelate
SNPRelate -- supported by Streaming SIMD Extensions 2 (SSE2)
Loading required package: GENESIS
Loading required package: dplyr

Attaching package: 'dplyr'

The following object is masked from 'package:testthat':

    matches

The following objects are masked from 'package:stats':

    filter, lag

The following objects are masked from 'package:base':

    intersect, setdiff, setequal, union

Loading required package: Rsamtools
Loading required package: GenomeInfoDb
Loading required package: BiocGenerics
Loading required package: generics

Attaching package: 'generics'

The following object is masked from 'package:dplyr':

    explain

The following objects are masked from 'package:base':

    as.difftime, as.factor, as.ordered, intersect, is.element, setdiff,
    setequal, union


Attaching package: 'BiocGenerics'

The following object is masked from 'package:dplyr':

    combine

The following objects are masked from 'package:stats':

    IQR, mad, sd, var, xtabs

The following objects are masked from 'package:base':

    Filter, Find, Map, Position, Reduce, anyDuplicated, aperm, append,
    as.data.frame, basename, cbind, colnames, dirname, do.call,
    duplicated, eval, evalq, get, grep, grepl, is.unsorted, lapply,
    mapply, match, mget, order, paste, pmax, pmax.int, pmin, pmin.int,
    rank, rbind, rownames, sapply, saveRDS, table, tapply, unique,
    unsplit, which.max, which.min

Loading required package: S4Vectors
Loading required package: stats4

Attaching package: 'S4Vectors'

The following objects are masked from 'package:dplyr':

    first, rename

The following object is masked from 'package:utils':

    findMatches

The following objects are masked from 'package:base':

    I, expand.grid, unname

Loading required package: IRanges

Attaching package: 'IRanges'

The following objects are masked from 'package:dplyr':

    collapse, desc, slice

The following object is masked from 'package:grDevices':

    windows

Loading required package: GenomicRanges
Loading required package: Biostrings
Loading required package: XVector

Attaching package: 'Biostrings'

The following object is masked from 'package:base':

    strsplit

> 
> ## Run all unit tests
> test_check("RAIDS")

Attaching package: 'Matrix'

The following object is masked from 'package:S4Vectors':

    expand

[ FAIL 0 | WARN 0 | SKIP 0 | PASS 445 ]
> 
> proc.time()
   user  system elapsed 
  36.03    3.20   41.09 

Example timings

RAIDS.Rcheck/RAIDS-Ex.timings

nameusersystemelapsed
add1KG2SampleGDS0.110.000.19
addBlockFromDetFile0.020.000.05
addBlockInGDSAnnot0.020.000.03
addGDS1KGLDBlock0.020.000.03
addGDSRef0.000.000.03
addGDSStudyPruning0.010.000.03
addGeneBlockGDSRefAnnot1.050.121.82
addGeneBlockRefAnnot0.000.000.03
addRef2GDS1KG0.00.00.1
addStudy1Kg0.010.020.13
addStudyGDSSample0.020.000.03
addUpdateLap0.000.000.03
addUpdateSegment0.000.010.06
appendGDSRefSample0.020.000.03
appendGDSSampleOnly0.000.000.03
appendGDSgenotype0.030.020.06
appendGDSgenotypeMat0.000.000.02
calcAFMLRNA0.010.000.02
computeAlleleFraction000
computeAllelicFractionDNA0.240.040.39
computeAllelicFractionRNA0.330.020.36
computeAllelicImbDNAChr000
computeAncestryFromSynthetic0.050.000.04
computeAncestryFromSyntheticFile7.330.237.56
computeKNNRefSample0.030.010.05
computeKNNRefSynthetic1.840.141.99
computeLOHBlocksDNAChr0.020.000.01
computePCAMultiSynthetic0.000.020.01
computePCARefRMMulti0.250.040.29
computePCARefSample0.390.020.40
computePoolSyntheticAncestryGr0.770.080.84
computeSyntheticConfMat0.030.000.03
computeSyntheticROC0.060.010.08
createAUROCGraph0.910.030.95
createAccuracyGraph0.970.051.03
createProfile0.080.020.12
createStudy2GDS1KG0.090.000.11
demoKnownSuperPop1KG2.190.122.31
demoPCA1KG0.000.020.02
demoPCASyntheticProfiles2.110.092.19
demoPedigreeEx10.010.000.01
estimateAllelicFraction0.130.000.16
extractNucleotide000
generateGDS1KG0.000.020.03
generateGDS1KGgenotypeFromSNPPileup0.100.000.16
generateGDSRefSample0.010.000.05
generateGDSSNPinfo0.020.000.03
generateGDSgenotype0.030.000.03
generateGeneBlock000
generateMapSnvSel0.010.000.05
generatePhase1KG2GDS0.020.010.06
generatePhaseRef0.010.000.01
generateProfileGDS0.060.030.11
getBlockIDs0.000.020.02
getRef1KGPop000
getRefSuperPop0.020.000.02
getTableSNV0.020.010.07
groupChr1KGSNV0.070.045.25
identifyRelative0.030.010.13
identifyRelativeRef0.020.000.08
inferAncestry0.000.020.02
inferAncestryDNA0.020.000.02
inferAncestryGeneAware0.010.000.01
matKNNSynthetic0.050.010.07
pedSynthetic0.060.020.08
prepPed1KG0.020.000.01
prepPedSynthetic1KG0.010.000.01
prepSynthetic0.030.010.08
processBlockChr000
processPileupChrBin4.240.004.24
profileAncestry0.030.020.05
pruning1KGbyChr0.000.000.01
pruningSample0.070.000.09
readSNVBAM000
readSNVFileGeneric000
readSNVPileupFile0.040.000.04
readSNVVCF7.430.187.60
runExomeAncestry0.010.010.03
runIBDKING0.030.020.08
runLDPruning0.030.000.03
runProfileAncestry0.030.000.03
runRNAAncestry0.030.000.03
runWrapperAncestry0.030.000.03
selParaPCAUpQuartile7.780.147.92
select1KGPop0.020.000.02
select1KGPopForSynthetic0.000.020.01
snpPositionDemo0.020.020.03
snvListVCF0.010.000.08
splitSelectByPop0.020.000.01
syntheticGeno0.030.000.11
tableBlockAF0.030.000.04
testAlleleFractionChange000
testEmptyBox000
validateAdd1KG2SampleGDS0.020.000.01
validateAddStudy1Kg000
validateCharacterString000
validateComputeAncestryFromSyntheticFile0.000.010.02
validateComputeKNNRefSample0.000.030.03
validateComputeKNNRefSynthetic0.030.000.03
validateComputePCAMultiSynthetic0.010.000.02
validateComputePCARefSample000
validateComputePoolSyntheticAncestryGr000
validateComputeSyntheticRoc0.020.030.05
validateCreateAccuracyGraph000
validateCreateStudy2GDS1KG000
validateDataRefSynParameter000
validateEstimateAllelicFraction0.010.000.02
validateGDSClass000
validateGenerateGDS1KG0.020.000.02
validateLogical000
validatePEDStudyParameter000
validatePepSynthetic0.000.020.02
validatePositiveIntegerVector000
validatePrepPed1KG000
validateProfileGDSExist000
validatePruningSample000
validateRunExomeOrRNAAncestry0.000.010.02
validateSingleRatio000
validateStudyDataFrameParameter000
validateSyntheticGeno000
validatecreateProfile0.010.000.02
wrapperAncestry0.040.020.05