Back to Multiple platform build/check report for BioC 3.21:   simplified   long
ABCDEFGHIJKLMNO[P]QRSTUVWXYZ

This page was generated on 2025-05-01 11:42 -0400 (Thu, 01 May 2025).

HostnameOSArch (*)R versionInstalled pkgs
nebbiolo1Linux (Ubuntu 24.04.1 LTS)x86_644.5.0 RC (2025-04-04 r88126) -- "How About a Twenty-Six" 4832
palomino7Windows Server 2022 Datacenterx644.5.0 RC (2025-04-04 r88126 ucrt) -- "How About a Twenty-Six" 4574
merida1macOS 12.7.5 Montereyx86_644.5.0 RC (2025-04-04 r88126) -- "How About a Twenty-Six" 4599
kjohnson1macOS 13.6.6 Venturaarm644.5.0 RC (2025-04-04 r88129) -- "How About a Twenty-Six" 4553
Click on any hostname to see more info about the system (e.g. compilers)      (*) as reported by 'uname -p', except on Windows and Mac OS X

Package 1577/2341HostnameOS / ArchINSTALLBUILDCHECKBUILD BIN
PhyloProfile 2.0.0  (landing page)
Vinh Tran
Snapshot Date: 2025-04-28 17:48 -0400 (Mon, 28 Apr 2025)
git_url: https://git.bioconductor.org/packages/PhyloProfile
git_branch: RELEASE_3_21
git_last_commit: 4d5f10f
git_last_commit_date: 2025-04-15 11:48:31 -0400 (Tue, 15 Apr 2025)
nebbiolo1Linux (Ubuntu 24.04.1 LTS) / x86_64  OK    OK    OK  UNNEEDED, same version is already published
palomino7Windows Server 2022 Datacenter / x64  OK    OK    OK    OK  UNNEEDED, same version is already published
merida1macOS 12.7.5 Monterey / x86_64  OK    OK    OK    OK  UNNEEDED, same version is already published
kjohnson1macOS 13.6.6 Ventura / arm64  OK    OK    OK    OK  UNNEEDED, same version is already published


CHECK results for PhyloProfile on merida1

To the developers/maintainers of the PhyloProfile package:
- Allow up to 24 hours (and sometimes 48 hours) for your latest push to git@git.bioconductor.org:packages/PhyloProfile.git to reflect on this report. See Troubleshooting Build Report for more information.
- Use the following Renviron settings to reproduce errors and warnings.
- If 'R CMD check' started to fail recently on the Linux builder(s) over a missing dependency, add the missing dependency to 'Suggests:' in your DESCRIPTION file. See Renviron.bioc for more information.

raw results


Summary

Package: PhyloProfile
Version: 2.0.0
Command: /Library/Frameworks/R.framework/Resources/bin/R CMD check --install=check:PhyloProfile.install-out.txt --library=/Library/Frameworks/R.framework/Resources/library --no-vignettes --timings PhyloProfile_2.0.0.tar.gz
StartedAt: 2025-04-29 11:13:31 -0400 (Tue, 29 Apr 2025)
EndedAt: 2025-04-29 11:20:10 -0400 (Tue, 29 Apr 2025)
EllapsedTime: 399.4 seconds
RetCode: 0
Status:   OK  
CheckDir: PhyloProfile.Rcheck
Warnings: 0

Command output

##############################################################################
##############################################################################
###
### Running command:
###
###   /Library/Frameworks/R.framework/Resources/bin/R CMD check --install=check:PhyloProfile.install-out.txt --library=/Library/Frameworks/R.framework/Resources/library --no-vignettes --timings PhyloProfile_2.0.0.tar.gz
###
##############################################################################
##############################################################################


* using log directory ‘/Users/biocbuild/bbs-3.21-bioc/meat/PhyloProfile.Rcheck’
* using R version 4.5.0 RC (2025-04-04 r88126)
* using platform: x86_64-apple-darwin20
* R was compiled by
    Apple clang version 14.0.0 (clang-1400.0.29.202)
    GNU Fortran (GCC) 14.2.0
* running under: macOS Monterey 12.7.6
* using session charset: UTF-8
* using option ‘--no-vignettes’
* checking for file ‘PhyloProfile/DESCRIPTION’ ... OK
* this is package ‘PhyloProfile’ version ‘2.0.0’
* package encoding: UTF-8
* checking package namespace information ... OK
* checking package dependencies ... INFO
Imports includes 32 non-default packages.
Importing from so many packages makes the package vulnerable to any of
them becoming unavailable.  Move as many as possible to Suggests and
use conditionally.
* checking if this is a source package ... OK
* checking if there is a namespace ... OK
* checking for hidden files and directories ... OK
* checking for portable file names ... OK
* checking for sufficient/correct file permissions ... OK
* checking whether package ‘PhyloProfile’ can be installed ... OK
* checking installed package size ... OK
* checking package directory ... OK
* checking ‘build’ directory ... OK
* checking DESCRIPTION meta-information ... OK
* checking top-level files ... OK
* checking for left-over files ... OK
* checking index information ... OK
* checking package subdirectories ... OK
* checking code files for non-ASCII characters ... OK
* checking R files for syntax errors ... OK
* checking whether the package can be loaded ... OK
* checking whether the package can be loaded with stated dependencies ... OK
* checking whether the package can be unloaded cleanly ... OK
* checking whether the namespace can be loaded with stated dependencies ... OK
* checking whether the namespace can be unloaded cleanly ... OK
* checking dependencies in R code ... OK
* checking S3 generic/method consistency ... OK
* checking replacement functions ... OK
* checking foreign function calls ... OK
* checking R code for possible problems ... OK
* checking Rd files ... OK
* checking Rd metadata ... OK
* checking Rd cross-references ... OK
* checking for missing documentation entries ... OK
* checking for code/documentation mismatches ... OK
* checking Rd \usage sections ... OK
* checking Rd contents ... OK
* checking for unstated dependencies in examples ... OK
* checking contents of ‘data’ directory ... OK
* checking data for non-ASCII characters ... OK
* checking data for ASCII and uncompressed saves ... OK
* checking files in ‘vignettes’ ... OK
* checking examples ... OK
Examples with CPU (user + system) or elapsed time > 5s
                     user system elapsed
createArchiPlot     5.141  0.052   5.345
heatmapPlottingFast 4.761  0.301   4.732
* checking for unstated dependencies in ‘tests’ ... OK
* checking tests ...
  Running ‘testthat.R’
 OK
* checking for unstated dependencies in vignettes ... OK
* checking package vignettes ... OK
* checking running R code from vignettes ... SKIPPED
* checking re-building of vignette outputs ... SKIPPED
* checking PDF version of manual ... OK
* DONE

Status: OK


Installation output

PhyloProfile.Rcheck/00install.out

##############################################################################
##############################################################################
###
### Running command:
###
###   /Library/Frameworks/R.framework/Resources/bin/R CMD INSTALL PhyloProfile
###
##############################################################################
##############################################################################


* installing to library ‘/Library/Frameworks/R.framework/Versions/4.5-x86_64/Resources/library’
* installing *source* package ‘PhyloProfile’ ...
** this is package ‘PhyloProfile’ version ‘2.0.0’
** using staged installation
** R
** data
** inst
** byte-compile and prepare package for lazy loading
** help
*** installing help indices
** building package indices
** installing vignettes
** testing if installed package can be loaded from temporary location
** testing if installed package can be loaded from final location
** testing if installed package keeps a record of temporary installation path
* DONE (PhyloProfile)

Tests output

PhyloProfile.Rcheck/tests/testthat.Rout


R version 4.5.0 RC (2025-04-04 r88126) -- "How About a Twenty-Six"
Copyright (C) 2025 The R Foundation for Statistical Computing
Platform: x86_64-apple-darwin20

R is free software and comes with ABSOLUTELY NO WARRANTY.
You are welcome to redistribute it under certain conditions.
Type 'license()' or 'licence()' for distribution details.

R is a collaborative project with many contributors.
Type 'contributors()' for more information and
'citation()' on how to cite R or R packages in publications.

Type 'demo()' for some demos, 'help()' for on-line help, or
'help.start()' for an HTML browser interface to help.
Type 'q()' to quit R.

> library(testthat)
> library(PhyloProfile)
> 
> test_check("PhyloProfile")
[ FAIL 0 | WARN 0 | SKIP 0 | PASS 22 ]
> 
> proc.time()
   user  system elapsed 
 16.813   1.092  18.238 

Example timings

PhyloProfile.Rcheck/PhyloProfile-Ex.timings

nameusersystemelapsed
addDimRedTaxaColors2.1890.1372.765
addFeatureColors0.0610.0040.071
addRankDivisionPlot1.6920.0401.776
calcPresSpec0.0660.0050.072
checkColorPalette0.0000.0010.002
checkInputValidity0.0080.0010.011
checkNewick0.0040.0010.006
checkOmaID000
checkOverlapDomains0.0290.0020.030
clusterDataDend0.0380.0030.041
compareMedianTaxonGroups0.0550.0070.062
compareTaxonGroups0.0750.0070.083
createArchiPlot5.1410.0525.345
createDimRedPlotData1.4230.0351.503
createGeneAgePlot0.4630.0040.468
createLongMatrix0.0310.0210.054
createPercentageDistributionData0.1540.0260.181
createProfileFromOma0.0010.0000.000
createUnrootedTree0.0500.0030.053
createVarDistPlot0.3470.0050.355
createVariableDistributionData0.0150.0130.028
createVariableDistributionDataSubset0.0130.0040.018
dataCustomizedPlot0.0670.0050.072
dataFeatureTaxGroup0.0280.0050.033
dataMainPlot0.0850.0280.113
dataVarDistTaxGroup0.0100.0050.015
dimReduction1.9770.0302.027
estimateGeneAge0.2760.0210.306
fastaParser0.0640.0020.066
featureDistTaxPlot0.4660.0060.474
filterProfileData0.2370.0760.320
fromInputToProfile0.3590.0170.402
geneAgePlotDf0.0170.0010.018
generateSinglePlot0.8950.0160.931
getAllDomainsOma0.0000.0000.001
getAllFastaOma000
getCommonAncestor0.0870.0120.104
getCoreGene0.1920.0190.221
getDataClustering0.0370.0060.044
getDataForOneOma0.0000.0000.001
getDendrogram0.1020.0050.109
getDistanceMatrix0.0360.0030.037
getDomainFolder0.0010.0010.002
getFastaFromFasInput0.0300.0020.034
getFastaFromFile0.0210.0020.024
getFastaFromFolder0.0150.0020.017
getIDsRank0.0420.0050.047
getInputTaxaID0.0040.0030.008
getInputTaxaName0.0230.0060.028
getNameList0.0410.0600.101
getOmaDataForOneOrtholog000
getOmaDomainFromURL0.0010.0000.001
getOmaMembers0.0000.0000.001
getQualColForVector000
getSelectedFastaOma0.0010.0000.001
getSelectedTaxonNames0.0340.0070.041
getTaxHierarchy0.0310.0030.035
getTaxonomyInfo0.0280.0030.032
getTaxonomyMatrix0.2320.2460.480
getTaxonomyRanks0.0010.0010.002
gridArrangeSharedLegend0.0000.0010.001
groupLabelDimRedData0.0990.0160.114
heatmapPlotting0.6280.0060.635
heatmapPlottingFast4.7610.3014.732
highlightProfilePlot0.7060.0090.717
id2name0.0080.0010.009
joinPlotMergeLegends1.3390.0311.374
linearizeArchitecture0.0170.0010.019
mainTaxonomyRank0.0000.0010.002
modifyFeatureName0.0330.0410.074
pairDomainPlotting0.9760.0060.984
parseDomainInput0.0330.0360.069
parseInfoProfile0.2290.0210.251
plotDimRed2.1100.0242.145
plotDimRed3D2.0970.1022.242
prepareDimRedData0.1040.0200.128
processNcbiTaxonomy0.0000.0010.001
processOrthoID0.2560.1040.398
qualitativeColours0.0010.0010.001
rankIndexing0.1200.0040.126
reduceProfile0.1080.0010.110
resolveOverlapFeatures0.0340.0020.036
runPhyloProfile0.0000.0010.000
singleDomainPlotting0.4690.0050.478
sortDomains0.0150.0020.017
sortDomainsByList0.0180.0030.020
sortInputTaxa0.0650.0110.080
sortTaxaFromTree0.0290.0020.033
taxonomyTableCreator0.2180.0070.229
varDistTaxPlot1.9320.0171.985
wideToLong0.0250.0190.044
xmlParser0.0390.0060.045