Back to Multiple platform build/check report for BioC 3.21:   simplified   long
ABCDEFGHIJKL[M]NOPQRSTUVWXYZ

This page was generated on 2025-04-28 13:01 -0400 (Mon, 28 Apr 2025).

HostnameOSArch (*)R versionInstalled pkgs
nebbiolo1Linux (Ubuntu 24.04.1 LTS)x86_644.5.0 RC (2025-04-04 r88126) -- "How About a Twenty-Six" 4832
palomino7Windows Server 2022 Datacenterx644.5.0 RC (2025-04-04 r88126 ucrt) -- "How About a Twenty-Six" 4574
merida1macOS 12.7.5 Montereyx86_644.5.0 RC (2025-04-04 r88126) -- "How About a Twenty-Six" 4558
kjohnson1macOS 13.6.6 Venturaarm644.5.0 RC (2025-04-04 r88129) -- "How About a Twenty-Six" 4553
Click on any hostname to see more info about the system (e.g. compilers)      (*) as reported by 'uname -p', except on Windows and Mac OS X

Package 1326/2341HostnameOS / ArchINSTALLBUILDCHECKBUILD BIN
ModCon 1.16.0  (landing page)
Johannes Ptok
Snapshot Date: 2025-04-24 15:01 -0400 (Thu, 24 Apr 2025)
git_url: https://git.bioconductor.org/packages/ModCon
git_branch: RELEASE_3_21
git_last_commit: 2ead6d7
git_last_commit_date: 2025-04-15 12:21:22 -0400 (Tue, 15 Apr 2025)
nebbiolo1Linux (Ubuntu 24.04.1 LTS) / x86_64  OK    OK    OK  UNNEEDED, same version is already published
palomino7Windows Server 2022 Datacenter / x64  OK    OK    OK    OK  UNNEEDED, same version is already published
merida1macOS 12.7.5 Monterey / x86_64  OK    OK    OK    ERROR  
kjohnson1macOS 13.6.6 Ventura / arm64  OK    OK    OK    ERROR  


BUILD BIN results for ModCon on merida1

To the developers/maintainers of the ModCon package:
- Allow up to 24 hours (and sometimes 48 hours) for your latest push to git@git.bioconductor.org:packages/ModCon.git to reflect on this report. See Troubleshooting Build Report for more information.
- Use the following Renviron settings to reproduce errors and warnings.
- If 'R CMD check' started to fail recently on the Linux builder(s) over a missing dependency, add the missing dependency to 'Suggests:' in your DESCRIPTION file. See Renviron.bioc for more information.

raw results


Summary

Package: ModCon
Version: 1.16.0
Command: rm -rf ModCon.buildbin-libdir && mkdir ModCon.buildbin-libdir && /Users/biocbuild/BBS/utils/build-universal.sh ModCon_1.16.0.tar.gz /Library/Frameworks/R.framework/Resources/bin/R ModCon.buildbin-libdir
StartedAt: 2025-04-25 13:55:08 -0400 (Fri, 25 Apr 2025)
EndedAt: 2025-04-25 13:55:29 -0400 (Fri, 25 Apr 2025)
EllapsedTime: 20.9 seconds
RetCode: 1
Status:   ERROR  
PackageFile: None
PackageFileSize: NA

Command output

##############################################################################
##############################################################################
###
### Running command:
###
###   rm -rf ModCon.buildbin-libdir && mkdir ModCon.buildbin-libdir && /Users/biocbuild/BBS/utils/build-universal.sh ModCon_1.16.0.tar.gz /Library/Frameworks/R.framework/Resources/bin/R ModCon.buildbin-libdir
###
##############################################################################
##############################################################################


>>>>>>> 
>>>>>>> INSTALLATION WITH 'R CMD INSTALL --preclean --no-multiarch --library=ModCon.buildbin-libdir ModCon_1.16.0.tar.gz'
>>>>>>> 

* installing *source* package ‘ModCon’ ...
** this is package ‘ModCon’ version ‘1.16.0’
** using staged installation
** R
** data
*** moving datasets to lazyload DB
** inst
** byte-compile and prepare package for lazy loading
** help
*** installing help indices
** building package indices
** installing vignettes
** testing if installed package can be loaded from temporary location
** testing if installed package can be loaded from final location
** testing if installed package keeps a record of temporary installation path
* DONE (ModCon)


chown: ModCon.buildbin-libdir/ModCon/extdata/score5.pl: Operation not permitted
chown: ModCon.buildbin-libdir/ModCon/extdata/referenceDnaStringSet.fa: Operation not permitted
chown: ModCon.buildbin-libdir/ModCon/extdata/score3.pl: Operation not permitted
chown: ModCon.buildbin-libdir/ModCon/extdata/splicemodels/me2s0acc9: Operation not permitted
chown: ModCon.buildbin-libdir/ModCon/extdata/splicemodels/me2s0acc7: Operation not permitted
chown: ModCon.buildbin-libdir/ModCon/extdata/splicemodels/me2s0acc1: Operation not permitted
chown: ModCon.buildbin-libdir/ModCon/extdata/splicemodels/me2s0acc6: Operation not permitted
chown: ModCon.buildbin-libdir/ModCon/extdata/splicemodels/me2s0acc8: Operation not permitted
chown: ModCon.buildbin-libdir/ModCon/extdata/splicemodels/me1s0acc9: Operation not permitted
chown: ModCon.buildbin-libdir/ModCon/extdata/splicemodels/me1s0acc7: Operation not permitted
chown: ModCon.buildbin-libdir/ModCon/extdata/splicemodels/me1s0acc6: Operation not permitted
chown: ModCon.buildbin-libdir/ModCon/extdata/splicemodels/me1s0acc1: Operation not permitted
chown: ModCon.buildbin-libdir/ModCon/extdata/splicemodels/me1s0acc8: Operation not permitted
chown: ModCon.buildbin-libdir/ModCon/extdata/splicemodels/me2x3acc7: Operation not permitted
chown: ModCon.buildbin-libdir/ModCon/extdata/splicemodels/me2x3acc9: Operation not permitted
chown: ModCon.buildbin-libdir/ModCon/extdata/splicemodels/me2x3acc8: Operation not permitted
chown: ModCon.buildbin-libdir/ModCon/extdata/splicemodels/me2x3acc6: Operation not permitted
chown: ModCon.buildbin-libdir/ModCon/extdata/splicemodels/me2x3acc1: Operation not permitted
chown: ModCon.buildbin-libdir/ModCon/extdata/splicemodels/me2s0acc3: Operation not permitted
chown: ModCon.buildbin-libdir/ModCon/extdata/splicemodels/me2s0acc4: Operation not permitted
chown: ModCon.buildbin-libdir/ModCon/extdata/splicemodels/me2s0acc5: Operation not permitted
chown: ModCon.buildbin-libdir/ModCon/extdata/splicemodels/me2s0acc2: Operation not permitted
chown: ModCon.buildbin-libdir/ModCon/extdata/splicemodels/me2s0: Operation not permitted
chown: ModCon.buildbin-libdir/ModCon/extdata/splicemodels/me1s0acc4: Operation not permitted
chown: ModCon.buildbin-libdir/ModCon/extdata/splicemodels/me1s0acc3: Operation not permitted
chown: ModCon.buildbin-libdir/ModCon/extdata/splicemodels/me1s0acc2: Operation not permitted
chown: ModCon.buildbin-libdir/ModCon/extdata/splicemodels/me1s0acc5: Operation not permitted
chown: ModCon.buildbin-libdir/ModCon/extdata/splicemodels/me2x3acc4: Operation not permitted
chown: ModCon.buildbin-libdir/ModCon/extdata/splicemodels/hashseq.m: Operation not permitted
chown: ModCon.buildbin-libdir/ModCon/extdata/splicemodels/me2x3acc3: Operation not permitted
chown: ModCon.buildbin-libdir/ModCon/extdata/splicemodels/me2x3acc2: Operation not permitted
chown: ModCon.buildbin-libdir/ModCon/extdata/splicemodels/me2x3acc5: Operation not permitted
chown: ModCon.buildbin-libdir/ModCon/extdata/splicemodels/splice5sequences: Operation not permitted
chown: ModCon.buildbin-libdir/ModCon/extdata/splicemodels/me2x5: Operation not permitted
chown: ModCon.buildbin-libdir/ModCon/extdata/splicemodels: Operation not permitted
chown: ModCon.buildbin-libdir/ModCon/extdata/test3: Operation not permitted
chown: ModCon.buildbin-libdir/ModCon/extdata/test5: Operation not permitted
chown: ModCon.buildbin-libdir/ModCon/extdata/me2x5: Operation not permitted
chown: ModCon.buildbin-libdir/ModCon/extdata: Operation not permitted
chown: ModCon.buildbin-libdir/ModCon/LICENSE: Operation not permitted
chown: ModCon.buildbin-libdir/ModCon/R/ModCon.rdb: Operation not permitted
chown: ModCon.buildbin-libdir/ModCon/R/ModCon.rdx: Operation not permitted
chown: ModCon.buildbin-libdir/ModCon/R/sysdata.rdb: Operation not permitted
chown: ModCon.buildbin-libdir/ModCon/R/sysdata.rdx: Operation not permitted
chown: ModCon.buildbin-libdir/ModCon/R/ModCon: Operation not permitted
chown: ModCon.buildbin-libdir/ModCon/R: Operation not permitted
chown: ModCon.buildbin-libdir/ModCon/Meta/vignette.rds: Operation not permitted
chown: ModCon.buildbin-libdir/ModCon/Meta/data.rds: Operation not permitted
chown: ModCon.buildbin-libdir/ModCon/Meta/links.rds: Operation not permitted
chown: ModCon.buildbin-libdir/ModCon/Meta/features.rds: Operation not permitted
chown: ModCon.buildbin-libdir/ModCon/Meta/nsInfo.rds: Operation not permitted
chown: ModCon.buildbin-libdir/ModCon/Meta/package.rds: Operation not permitted
chown: ModCon.buildbin-libdir/ModCon/Meta/hsearch.rds: Operation not permitted
chown: ModCon.buildbin-libdir/ModCon/Meta/Rd.rds: Operation not permitted
chown: ModCon.buildbin-libdir/ModCon/Meta: Operation not permitted
chown: ModCon.buildbin-libdir/ModCon/NAMESPACE: Operation not permitted
chown: ModCon.buildbin-libdir/ModCon/html/R.css: Operation not permitted
chown: ModCon.buildbin-libdir/ModCon/html/00Index.html: Operation not permitted
chown: ModCon.buildbin-libdir/ModCon/html: Operation not permitted
chown: ModCon.buildbin-libdir/ModCon/DESCRIPTION: Operation not permitted
chown: ModCon.buildbin-libdir/ModCon/NEWS: Operation not permitted
chown: ModCon.buildbin-libdir/ModCon/shinyApp/app.R: Operation not permitted
chown: ModCon.buildbin-libdir/ModCon/shinyApp: Operation not permitted
chown: ModCon.buildbin-libdir/ModCon/INDEX: Operation not permitted
chown: ModCon.buildbin-libdir/ModCon/doc/ModCon.Rmd: Operation not permitted
chown: ModCon.buildbin-libdir/ModCon/doc/index.html: Operation not permitted
chown: ModCon.buildbin-libdir/ModCon/doc/ModCon.html: Operation not permitted
chown: ModCon.buildbin-libdir/ModCon/doc/ModCon.R: Operation not permitted
chown: ModCon.buildbin-libdir/ModCon/doc: Operation not permitted
chown: ModCon.buildbin-libdir/ModCon/data/Rdata.rds: Operation not permitted
chown: ModCon.buildbin-libdir/ModCon/data/Rdata.rdx: Operation not permitted
chown: ModCon.buildbin-libdir/ModCon/data/Rdata.rdb: Operation not permitted
chown: ModCon.buildbin-libdir/ModCon/data: Operation not permitted
chown: ModCon.buildbin-libdir/ModCon/help/ModCon.rdb: Operation not permitted
chown: ModCon.buildbin-libdir/ModCon/help/AnIndex: Operation not permitted
chown: ModCon.buildbin-libdir/ModCon/help/ModCon.rdx: Operation not permitted
chown: ModCon.buildbin-libdir/ModCon/help/aliases.rds: Operation not permitted
chown: ModCon.buildbin-libdir/ModCon/help/paths.rds: Operation not permitted
chown: ModCon.buildbin-libdir/ModCon/help: Operation not permitted
chown: ModCon.buildbin-libdir/ModCon: Operation not permitted