Back to Multiple platform build/check report for BioC 3.21: simplified long |
|
This page was generated on 2025-04-28 13:43 -0400 (Mon, 28 Apr 2025).
Hostname | OS | Arch (*) | R version | Installed pkgs |
---|---|---|---|---|
nebbiolo1 | Linux (Ubuntu 24.04.1 LTS) | x86_64 | 4.5.0 RC (2025-04-04 r88126) -- "How About a Twenty-Six" | 4832 |
palomino7 | Windows Server 2022 Datacenter | x64 | 4.5.0 RC (2025-04-04 r88126 ucrt) -- "How About a Twenty-Six" | 4574 |
Click on any hostname to see more info about the system (e.g. compilers) (*) as reported by 'uname -p', except on Windows and Mac OS X |
Package 1261/2341 | Hostname | OS / Arch | INSTALL | BUILD | CHECK | BUILD BIN | ||||||||
MethylSeekR 1.48.0 (landing page) Lukas Burger
| nebbiolo1 | Linux (Ubuntu 24.04.1 LTS) / x86_64 | OK | OK | OK | ![]() | ||||||||
palomino7 | Windows Server 2022 Datacenter / x64 | OK | OK | OK | OK | ![]() | ||||||||
To the developers/maintainers of the MethylSeekR package: - Allow up to 24 hours (and sometimes 48 hours) for your latest push to git@git.bioconductor.org:packages/MethylSeekR.git to reflect on this report. See Troubleshooting Build Report for more information. - Use the following Renviron settings to reproduce errors and warnings. - If 'R CMD check' started to fail recently on the Linux builder(s) over a missing dependency, add the missing dependency to 'Suggests:' in your DESCRIPTION file. See Renviron.bioc for more information. |
Package: MethylSeekR |
Version: 1.48.0 |
Command: E:\biocbuild\bbs-3.21-bioc\R\bin\R.exe CMD check --no-multiarch --install=check:MethylSeekR.install-out.txt --library=E:\biocbuild\bbs-3.21-bioc\R\library --no-vignettes --timings MethylSeekR_1.48.0.tar.gz |
StartedAt: 2025-04-25 05:03:30 -0400 (Fri, 25 Apr 2025) |
EndedAt: 2025-04-25 05:10:26 -0400 (Fri, 25 Apr 2025) |
EllapsedTime: 416.5 seconds |
RetCode: 0 |
Status: OK |
CheckDir: MethylSeekR.Rcheck |
Warnings: 0 |
############################################################################## ############################################################################## ### ### Running command: ### ### E:\biocbuild\bbs-3.21-bioc\R\bin\R.exe CMD check --no-multiarch --install=check:MethylSeekR.install-out.txt --library=E:\biocbuild\bbs-3.21-bioc\R\library --no-vignettes --timings MethylSeekR_1.48.0.tar.gz ### ############################################################################## ############################################################################## * using log directory 'E:/biocbuild/bbs-3.21-bioc/meat/MethylSeekR.Rcheck' * using R version 4.5.0 RC (2025-04-04 r88126 ucrt) * using platform: x86_64-w64-mingw32 * R was compiled by gcc.exe (GCC) 14.2.0 GNU Fortran (GCC) 14.2.0 * running under: Windows Server 2022 x64 (build 20348) * using session charset: UTF-8 * using option '--no-vignettes' * checking for file 'MethylSeekR/DESCRIPTION' ... OK * checking extension type ... Package * this is package 'MethylSeekR' version '1.48.0' * checking package namespace information ... OK * checking package dependencies ... OK * checking if this is a source package ... OK * checking if there is a namespace ... OK * checking for hidden files and directories ... OK * checking for portable file names ... OK * checking whether package 'MethylSeekR' can be installed ... OK * checking installed package size ... OK * checking package directory ... OK * checking 'build' directory ... OK * checking DESCRIPTION meta-information ... NOTE Malformed Description field: should contain one or more complete sentences. Package listed in more than one of Depends, Imports, Suggests, Enhances: 'parallel' A package should be listed in only one of these fields. * checking top-level files ... OK * checking for left-over files ... OK * checking index information ... OK * checking package subdirectories ... OK * checking code files for non-ASCII characters ... OK * checking R files for syntax errors ... OK * checking whether the package can be loaded ... OK * checking whether the package can be loaded with stated dependencies ... OK * checking whether the package can be unloaded cleanly ... OK * checking whether the namespace can be loaded with stated dependencies ... OK * checking whether the namespace can be unloaded cleanly ... OK * checking dependencies in R code ... NOTE Namespace in Imports field not imported from: 'geneplotter' All declared Imports should be used. Package in Depends field not imported from: 'rtracklayer' These packages need to be imported from (in the NAMESPACE file) for when this namespace is loaded but not attached. * checking S3 generic/method consistency ... OK * checking replacement functions ... OK * checking foreign function calls ... OK * checking R code for possible problems ... NOTE PMDviterbiSegmentation : <anonymous>: no visible global function definition for 'values' PMDviterbiSegmentation : <anonymous>: no visible global function definition for 'predict' PMDviterbiSegmentation : <anonymous>: no visible global function definition for 'Rle' PMDviterbiSegmentation : <anonymous>: no visible global function definition for 'runValue' calculateAlphaDistr : <anonymous>: no visible global function definition for 'Rle' calculateFDRs: no visible global function definition for 'values' calculateFDRs: no visible global function definition for 'queryHits' calculateFDRs: no visible global function definition for 'values<-' calculateFDRs : <anonymous>: no visible global function definition for 'Rle' calculateFDRs : <anonymous>: no visible global function definition for 'values' calculateFDRs : <anonymous>: no visible global function definition for 'runValue' createGRangesObjectPMDSegmentation : <anonymous>: no visible global function definition for 'Rle' createGRangesObjectPMDSegmentation : <anonymous>: no visible global function definition for 'nrun' createGRangesObjectPMDSegmentation : <anonymous>: no visible global function definition for 'runValue' plotAlphaDistributionOneChr: no visible global function definition for 'values' plotFinalSegmentation: no visible global function definition for 'values' plotFinalSegmentation: no visible global function definition for 'Rle' plotPMDSegmentation: no visible global function definition for 'values' readMethylome: no visible global function definition for 'values' removeSNPs: no visible global function definition for 'queryHits' savePMDSegments: no visible global function definition for 'values' saveUMRLMRSegments: no visible global function definition for 'values' segmentUMRsLMRs: no visible global function definition for 'values' segmentUMRsLMRs : <anonymous>: no visible global function definition for 'Rle' segmentUMRsLMRs : <anonymous>: no visible global function definition for 'values' segmentUMRsLMRs : <anonymous>: no visible global function definition for 'runValue' segmentUMRsLMRs: no visible global function definition for 'queryHits' segmentUMRsLMRs: no visible global function definition for 'subjectHits' segmentUMRsLMRs: no visible global function definition for 'Rle' segmentUMRsLMRs: no visible global function definition for 'values<-' segmentUMRsLMRs: no visible global function definition for 'DataFrame' segmentUMRsLMRs: no visible global function definition for 'colorRampPalette' trainPMDHMM: no visible global function definition for 'values' Undefined global functions or variables: DataFrame Rle colorRampPalette nrun predict queryHits runValue subjectHits values values<- Consider adding importFrom("grDevices", "colorRampPalette") importFrom("stats", "predict") to your NAMESPACE file. * checking Rd files ... OK * checking Rd metadata ... OK * checking Rd cross-references ... OK * checking for missing documentation entries ... OK * checking for code/documentation mismatches ... OK * checking Rd \usage sections ... OK * checking Rd contents ... OK * checking for unstated dependencies in examples ... OK * checking sizes of PDF files under 'inst/doc' ... OK * checking files in 'vignettes' ... OK * checking examples ... OK Examples with CPU (user + system) or elapsed time > 5s user system elapsed MethylSeekR-package 49.69 2.38 56.05 savePMDSegments 31.17 1.54 32.77 plotPMDSegmentation 30.48 1.94 32.47 segmentPMDs 30.36 1.36 31.71 calculateFDRs 10.33 0.56 13.85 plotAlphaDistributionOneChr 5.86 0.30 6.19 * checking for unstated dependencies in vignettes ... OK * checking package vignettes ... OK * checking running R code from vignettes ... SKIPPED * checking re-building of vignette outputs ... SKIPPED * checking PDF version of manual ... OK * DONE Status: 3 NOTEs See 'E:/biocbuild/bbs-3.21-bioc/meat/MethylSeekR.Rcheck/00check.log' for details.
MethylSeekR.Rcheck/00install.out
############################################################################## ############################################################################## ### ### Running command: ### ### E:\biocbuild\bbs-3.21-bioc\R\bin\R.exe CMD INSTALL MethylSeekR ### ############################################################################## ############################################################################## * installing to library 'E:/biocbuild/bbs-3.21-bioc/R/library' * installing *source* package 'MethylSeekR' ... ** this is package 'MethylSeekR' version '1.48.0' ** using staged installation ** R ** inst ** byte-compile and prepare package for lazy loading ** help *** installing help indices ** building package indices ** installing vignettes ** testing if installed package can be loaded from temporary location ** testing if installed package can be loaded from final location ** testing if installed package keeps a record of temporary installation path * DONE (MethylSeekR)
MethylSeekR.Rcheck/MethylSeekR-Ex.timings
name | user | system | elapsed | |
MethylSeekR-package | 49.69 | 2.38 | 56.05 | |
calculateFDRs | 10.33 | 0.56 | 13.85 | |
plotAlphaDistributionOneChr | 5.86 | 0.30 | 6.19 | |
plotFinalSegmentation | 2.06 | 0.20 | 2.29 | |
plotPMDSegmentation | 30.48 | 1.94 | 32.47 | |
readMethylome | 0.44 | 0.03 | 0.47 | |
readSNPTable | 0.16 | 0.00 | 0.15 | |
removeSNPs | 0.72 | 0.05 | 0.76 | |
savePMDSegments | 31.17 | 1.54 | 32.77 | |
saveUMRLMRSegments | 1.53 | 0.25 | 1.88 | |
segmentPMDs | 30.36 | 1.36 | 31.71 | |
segmentUMRsLMRs | 2.45 | 0.10 | 2.55 | |