Back to Multiple platform build/check report for BioC 3.21:   simplified   long
ABC[D]EFGHIJKLMNOPQRSTUVWXYZ

This page was generated on 2025-04-28 13:43 -0400 (Mon, 28 Apr 2025).

HostnameOSArch (*)R versionInstalled pkgs
nebbiolo1Linux (Ubuntu 24.04.1 LTS)x86_644.5.0 RC (2025-04-04 r88126) -- "How About a Twenty-Six" 4832
palomino7Windows Server 2022 Datacenterx644.5.0 RC (2025-04-04 r88126 ucrt) -- "How About a Twenty-Six" 4574
Click on any hostname to see more info about the system (e.g. compilers)      (*) as reported by 'uname -p', except on Windows and Mac OS X

Package 613/2341HostnameOS / ArchINSTALLBUILDCHECKBUILD BIN
Doscheda 1.30.0  (landing page)
Bruno Contrino
Snapshot Date: 2025-04-24 15:01 -0400 (Thu, 24 Apr 2025)
git_url: https://git.bioconductor.org/packages/Doscheda
git_branch: RELEASE_3_21
git_last_commit: c8edeec
git_last_commit_date: 2025-04-15 11:13:35 -0400 (Tue, 15 Apr 2025)
nebbiolo1Linux (Ubuntu 24.04.1 LTS) / x86_64  OK    OK    OK  UNNEEDED, same version is already published
palomino7Windows Server 2022 Datacenter / x64  OK    OK    OK    OK  UNNEEDED, same version is already published


CHECK results for Doscheda on palomino7

To the developers/maintainers of the Doscheda package:
- Allow up to 24 hours (and sometimes 48 hours) for your latest push to git@git.bioconductor.org:packages/Doscheda.git to reflect on this report. See Troubleshooting Build Report for more information.
- Use the following Renviron settings to reproduce errors and warnings.
- If 'R CMD check' started to fail recently on the Linux builder(s) over a missing dependency, add the missing dependency to 'Suggests:' in your DESCRIPTION file. See Renviron.bioc for more information.

raw results


Summary

Package: Doscheda
Version: 1.30.0
Command: E:\biocbuild\bbs-3.21-bioc\R\bin\R.exe CMD check --no-multiarch --install=check:Doscheda.install-out.txt --library=E:\biocbuild\bbs-3.21-bioc\R\library --no-vignettes --timings Doscheda_1.30.0.tar.gz
StartedAt: 2025-04-25 02:52:36 -0400 (Fri, 25 Apr 2025)
EndedAt: 2025-04-25 02:56:21 -0400 (Fri, 25 Apr 2025)
EllapsedTime: 225.3 seconds
RetCode: 0
Status:   OK  
CheckDir: Doscheda.Rcheck
Warnings: 0

Command output

##############################################################################
##############################################################################
###
### Running command:
###
###   E:\biocbuild\bbs-3.21-bioc\R\bin\R.exe CMD check --no-multiarch --install=check:Doscheda.install-out.txt --library=E:\biocbuild\bbs-3.21-bioc\R\library --no-vignettes --timings Doscheda_1.30.0.tar.gz
###
##############################################################################
##############################################################################


* using log directory 'E:/biocbuild/bbs-3.21-bioc/meat/Doscheda.Rcheck'
* using R version 4.5.0 RC (2025-04-04 r88126 ucrt)
* using platform: x86_64-w64-mingw32
* R was compiled by
    gcc.exe (GCC) 14.2.0
    GNU Fortran (GCC) 14.2.0
* running under: Windows Server 2022 x64 (build 20348)
* using session charset: UTF-8
* using option '--no-vignettes'
* checking for file 'Doscheda/DESCRIPTION' ... OK
* checking extension type ... Package
* this is package 'Doscheda' version '1.30.0'
* package encoding: UTF-8
* checking package namespace information ... OK
* checking package dependencies ... OK
* checking if this is a source package ... OK
* checking if there is a namespace ... OK
* checking for hidden files and directories ... OK
* checking for portable file names ... OK
* checking whether package 'Doscheda' can be installed ... OK
* checking installed package size ... OK
* checking package directory ... OK
* checking 'build' directory ... OK
* checking DESCRIPTION meta-information ... OK
* checking top-level files ... OK
* checking for left-over files ... OK
* checking index information ... OK
* checking package subdirectories ... OK
* checking code files for non-ASCII characters ... OK
* checking R files for syntax errors ... OK
* checking whether the package can be loaded ... OK
* checking whether the package can be loaded with stated dependencies ... OK
* checking whether the package can be unloaded cleanly ... OK
* checking whether the namespace can be loaded with stated dependencies ... OK
* checking whether the namespace can be unloaded cleanly ... OK
* checking dependencies in R code ... OK
* checking S3 generic/method consistency ... OK
* checking replacement functions ... OK
* checking foreign function calls ... OK
* checking R code for possible problems ... OK
* checking Rd files ... OK
* checking Rd metadata ... NOTE
Invalid package aliases in Rd file 'doscheda.Rd':
  'doscheda-package'
* checking Rd cross-references ... OK
* checking for missing documentation entries ... OK
* checking for code/documentation mismatches ... OK
* checking Rd \usage sections ... OK
* checking Rd contents ... OK
* checking for unstated dependencies in examples ... OK
* checking contents of 'data' directory ... OK
* checking data for non-ASCII characters ... OK
* checking LazyData ... OK
* checking data for ASCII and uncompressed saves ... OK
* checking files in 'vignettes' ... OK
* checking examples ... OK
Examples with CPU (user + system) or elapsed time > 5s
                  user system elapsed
fitModel-methods 30.09   1.70   35.63
runDoscheda      24.42   0.15   26.52
pcaPlot-methods   5.33   0.09    8.95
corrPlot-methods  2.75   0.12    5.16
* checking for unstated dependencies in 'tests' ... OK
* checking tests ...
  Running 'testthat.R'
 OK
* checking for unstated dependencies in vignettes ... OK
* checking package vignettes ... OK
* checking running R code from vignettes ... SKIPPED
* checking re-building of vignette outputs ... SKIPPED
* checking PDF version of manual ... OK
* DONE

Status: 1 NOTE
See
  'E:/biocbuild/bbs-3.21-bioc/meat/Doscheda.Rcheck/00check.log'
for details.


Installation output

Doscheda.Rcheck/00install.out

##############################################################################
##############################################################################
###
### Running command:
###
###   E:\biocbuild\bbs-3.21-bioc\R\bin\R.exe CMD INSTALL Doscheda
###
##############################################################################
##############################################################################


* installing to library 'E:/biocbuild/bbs-3.21-bioc/R/library'
* installing *source* package 'Doscheda' ...
** this is package 'Doscheda' version '1.30.0'
** using staged installation
** R
** data
*** moving datasets to lazyload DB
** inst
** byte-compile and prepare package for lazy loading
in method for 'getInput' with signature '"ChemoProtSet"': no definition for class "ChemoProtSet"
in method for 'getNorm' with signature '"ChemoProtSet"': no definition for class "ChemoProtSet"
in method for 'getFinal' with signature '"ChemoProtSet"': no definition for class "ChemoProtSet"
in method for 'getParameters' with signature '"ChemoProtSet"': no definition for class "ChemoProtSet"
in method for 'getDatasets' with signature '"ChemoProtSet"': no definition for class "ChemoProtSet"
in method for 'boxplot' with signature '"ChemoProtSet"': no definition for class "ChemoProtSet"
in method for 'corrPlot' with signature '"ChemoProtSet"': no definition for class "ChemoProtSet"
in method for 'densityPlot' with signature '"ChemoProtSet"': no definition for class "ChemoProtSet"
Creating a new generic function for 'meanSdPlot' in package 'Doscheda'
** help
*** installing help indices
** building package indices
** installing vignettes
** testing if installed package can be loaded from temporary location
** testing if installed package can be loaded from final location
** testing if installed package keeps a record of temporary installation path
* DONE (Doscheda)

Tests output

Doscheda.Rcheck/tests/testthat.Rout


R version 4.5.0 RC (2025-04-04 r88126 ucrt) -- "How About a Twenty-Six"
Copyright (C) 2025 The R Foundation for Statistical Computing
Platform: x86_64-w64-mingw32/x64

R is free software and comes with ABSOLUTELY NO WARRANTY.
You are welcome to redistribute it under certain conditions.
Type 'license()' or 'licence()' for distribution details.

R is a collaborative project with many contributors.
Type 'contributors()' for more information and
'citation()' on how to cite R or R packages in publications.

Type 'demo()' for some demos, 'help()' for on-line help, or
'help.start()' for an HTML browser interface to help.
Type 'q()' to quit R.

> library(testthat)
> library(Doscheda)
> 
> test_check("Doscheda")
[ FAIL 0 | WARN 0 | SKIP 0 | PASS 1 ]
> 
> proc.time()
   user  system elapsed 
   5.60    0.40    8.06 

Example timings

Doscheda.Rcheck/Doscheda-Ex.timings

nameusersystemelapsed
corrPlot-methods2.750.125.16
densityPlot-methods2.020.023.72
doschedaData0.030.010.05
fitModel-methods30.09 1.7035.63
getDatasets-methods000
getFinal-methods0.020.000.02
getInput-methods000
getNorm-methods000
getParameters-methods000
makeReport000
meanSdPlot-methods2.610.044.58
pcaPlot-methods5.330.098.95
processedExample0.090.000.09
removePeptides-methods000
replicatePlot-methods2.110.054.06
runDoscheda24.42 0.1526.52
runNormalisation-methods2.820.394.79
setData-methods0.930.351.28
setParameters-methods000
volcanoPlot-methods2.320.064.27