Back to Multiple platform build/check report for BioC 3.21:   simplified   long
ABC[D]EFGHIJKLMNOPQRSTUVWXYZ

This page was generated on 2025-04-28 13:01 -0400 (Mon, 28 Apr 2025).

HostnameOSArch (*)R versionInstalled pkgs
nebbiolo1Linux (Ubuntu 24.04.1 LTS)x86_644.5.0 RC (2025-04-04 r88126) -- "How About a Twenty-Six" 4832
palomino7Windows Server 2022 Datacenterx644.5.0 RC (2025-04-04 r88126 ucrt) -- "How About a Twenty-Six" 4574
merida1macOS 12.7.5 Montereyx86_644.5.0 RC (2025-04-04 r88126) -- "How About a Twenty-Six" 4558
kjohnson1macOS 13.6.6 Venturaarm644.5.0 RC (2025-04-04 r88129) -- "How About a Twenty-Six" 4553
Click on any hostname to see more info about the system (e.g. compilers)      (*) as reported by 'uname -p', except on Windows and Mac OS X

Package 548/2341HostnameOS / ArchINSTALLBUILDCHECKBUILD BIN
DelayedTensor 1.14.0  (landing page)
Koki Tsuyuzaki
Snapshot Date: 2025-04-24 15:01 -0400 (Thu, 24 Apr 2025)
git_url: https://git.bioconductor.org/packages/DelayedTensor
git_branch: RELEASE_3_21
git_last_commit: 85b592f
git_last_commit_date: 2025-04-15 12:33:33 -0400 (Tue, 15 Apr 2025)
nebbiolo1Linux (Ubuntu 24.04.1 LTS) / x86_64  OK    OK    WARNINGS  UNNEEDED, same version is already published
palomino7Windows Server 2022 Datacenter / x64  OK    OK    WARNINGS    OK  UNNEEDED, same version is already published
merida1macOS 12.7.5 Monterey / x86_64  OK    OK    WARNINGS    ERROR  
kjohnson1macOS 13.6.6 Ventura / arm64  OK    OK    WARNINGS    ERROR  


BUILD BIN results for DelayedTensor on kjohnson1

To the developers/maintainers of the DelayedTensor package:
- Allow up to 24 hours (and sometimes 48 hours) for your latest push to git@git.bioconductor.org:packages/DelayedTensor.git to reflect on this report. See Troubleshooting Build Report for more information.
- Use the following Renviron settings to reproduce errors and warnings.
- If 'R CMD check' started to fail recently on the Linux builder(s) over a missing dependency, add the missing dependency to 'Suggests:' in your DESCRIPTION file. See Renviron.bioc for more information.

raw results


Summary

Package: DelayedTensor
Version: 1.14.0
Command: rm -rf DelayedTensor.buildbin-libdir && mkdir DelayedTensor.buildbin-libdir && /Users/biocbuild/BBS/utils/build-universal.sh DelayedTensor_1.14.0.tar.gz /Library/Frameworks/R.framework/Resources/bin/R DelayedTensor.buildbin-libdir
StartedAt: 2025-04-26 16:57:30 -0400 (Sat, 26 Apr 2025)
EndedAt: 2025-04-26 16:58:10 -0400 (Sat, 26 Apr 2025)
EllapsedTime: 40.6 seconds
RetCode: 1
Status:   ERROR  
PackageFile: None
PackageFileSize: NA

Command output

##############################################################################
##############################################################################
###
### Running command:
###
###   rm -rf DelayedTensor.buildbin-libdir && mkdir DelayedTensor.buildbin-libdir && /Users/biocbuild/BBS/utils/build-universal.sh DelayedTensor_1.14.0.tar.gz /Library/Frameworks/R.framework/Resources/bin/R DelayedTensor.buildbin-libdir
###
##############################################################################
##############################################################################


>>>>>>> 
>>>>>>> INSTALLATION WITH 'R CMD INSTALL --preclean --no-multiarch --library=DelayedTensor.buildbin-libdir DelayedTensor_1.14.0.tar.gz'
>>>>>>> 

* installing *source* package ‘DelayedTensor’ ...
** this is package ‘DelayedTensor’ version ‘1.14.0’
** using staged installation
** R
** data
*** moving datasets to lazyload DB
** inst
** byte-compile and prepare package for lazy loading
Creating a new generic function for ‘kronecker’ in package ‘DelayedTensor’
Creating a new generic function for ‘diag’ in package ‘DelayedTensor’
Creating a new generic function for ‘diag<-’ in package ‘DelayedTensor’
** help
*** installing help indices
** building package indices
** installing vignettes
** testing if installed package can be loaded from temporary location
Warning: multiple methods tables found for ‘kronecker’
** testing if installed package can be loaded from final location
Warning: multiple methods tables found for ‘kronecker’
** testing if installed package keeps a record of temporary installation path
* DONE (DelayedTensor)


chown: DelayedTensor.buildbin-libdir/DelayedTensor/R/DelayedTensor.rdx: Operation not permitted
chown: DelayedTensor.buildbin-libdir/DelayedTensor/R/DelayedTensor.rdb: Operation not permitted
chown: DelayedTensor.buildbin-libdir/DelayedTensor/R/DelayedTensor: Operation not permitted
chown: DelayedTensor.buildbin-libdir/DelayedTensor/R: Operation not permitted
chown: DelayedTensor.buildbin-libdir/DelayedTensor/Meta/vignette.rds: Operation not permitted
chown: DelayedTensor.buildbin-libdir/DelayedTensor/Meta/data.rds: Operation not permitted
chown: DelayedTensor.buildbin-libdir/DelayedTensor/Meta/links.rds: Operation not permitted
chown: DelayedTensor.buildbin-libdir/DelayedTensor/Meta/features.rds: Operation not permitted
chown: DelayedTensor.buildbin-libdir/DelayedTensor/Meta/nsInfo.rds: Operation not permitted
chown: DelayedTensor.buildbin-libdir/DelayedTensor/Meta/package.rds: Operation not permitted
chown: DelayedTensor.buildbin-libdir/DelayedTensor/Meta/hsearch.rds: Operation not permitted
chown: DelayedTensor.buildbin-libdir/DelayedTensor/Meta/Rd.rds: Operation not permitted
chown: DelayedTensor.buildbin-libdir/DelayedTensor/Meta: Operation not permitted
chown: DelayedTensor.buildbin-libdir/DelayedTensor/NAMESPACE: Operation not permitted
chown: DelayedTensor.buildbin-libdir/DelayedTensor/html/R.css: Operation not permitted
chown: DelayedTensor.buildbin-libdir/DelayedTensor/html/00Index.html: Operation not permitted
chown: DelayedTensor.buildbin-libdir/DelayedTensor/html: Operation not permitted
chown: DelayedTensor.buildbin-libdir/DelayedTensor/DESCRIPTION: Operation not permitted
chown: DelayedTensor.buildbin-libdir/DelayedTensor/NEWS: Operation not permitted
chown: DelayedTensor.buildbin-libdir/DelayedTensor/scripts/make-data.R: Operation not permitted
chown: DelayedTensor.buildbin-libdir/DelayedTensor/scripts: Operation not permitted
chown: DelayedTensor.buildbin-libdir/DelayedTensor/INDEX: Operation not permitted
chown: DelayedTensor.buildbin-libdir/DelayedTensor/doc/DelayedTensor_1.html: Operation not permitted
chown: DelayedTensor.buildbin-libdir/DelayedTensor/doc/index.html: Operation not permitted
chown: DelayedTensor.buildbin-libdir/DelayedTensor/doc/DelayedTensor_4.R: Operation not permitted
chown: DelayedTensor.buildbin-libdir/DelayedTensor/doc/DelayedTensor_4.Rmd: Operation not permitted
chown: DelayedTensor.buildbin-libdir/DelayedTensor/doc/DelayedTensor_3.R: Operation not permitted
chown: DelayedTensor.buildbin-libdir/DelayedTensor/doc/DelayedTensor_1.Rmd: Operation not permitted
chown: DelayedTensor.buildbin-libdir/DelayedTensor/doc/DelayedTensor_3.Rmd: Operation not permitted
chown: DelayedTensor.buildbin-libdir/DelayedTensor/doc/DelayedTensor_2.Rmd: Operation not permitted
chown: DelayedTensor.buildbin-libdir/DelayedTensor/doc/DelayedTensor_2.R: Operation not permitted
chown: DelayedTensor.buildbin-libdir/DelayedTensor/doc/DelayedTensor_4.html: Operation not permitted
chown: DelayedTensor.buildbin-libdir/DelayedTensor/doc/DelayedTensor_3.html: Operation not permitted
chown: DelayedTensor.buildbin-libdir/DelayedTensor/doc/DelayedTensor_1.R: Operation not permitted
chown: DelayedTensor.buildbin-libdir/DelayedTensor/doc/DelayedTensor_2.html: Operation not permitted
chown: DelayedTensor.buildbin-libdir/DelayedTensor/doc: Operation not permitted
chown: DelayedTensor.buildbin-libdir/DelayedTensor/data/Rdata.rds: Operation not permitted
chown: DelayedTensor.buildbin-libdir/DelayedTensor/data/Rdata.rdx: Operation not permitted
chown: DelayedTensor.buildbin-libdir/DelayedTensor/data/Rdata.rdb: Operation not permitted
chown: DelayedTensor.buildbin-libdir/DelayedTensor/data: Operation not permitted
chown: DelayedTensor.buildbin-libdir/DelayedTensor/help/AnIndex: Operation not permitted
chown: DelayedTensor.buildbin-libdir/DelayedTensor/help/aliases.rds: Operation not permitted
chown: DelayedTensor.buildbin-libdir/DelayedTensor/help/DelayedTensor.rdx: Operation not permitted
chown: DelayedTensor.buildbin-libdir/DelayedTensor/help/DelayedTensor.rdb: Operation not permitted
chown: DelayedTensor.buildbin-libdir/DelayedTensor/help/paths.rds: Operation not permitted
chown: DelayedTensor.buildbin-libdir/DelayedTensor/help: Operation not permitted
chown: DelayedTensor.buildbin-libdir/DelayedTensor: Operation not permitted