Back to Multiple platform build/check report for BioC 3.21: simplified long |
|
This page was generated on 2025-04-28 13:00 -0400 (Mon, 28 Apr 2025).
Hostname | OS | Arch (*) | R version | Installed pkgs |
---|---|---|---|---|
nebbiolo1 | Linux (Ubuntu 24.04.1 LTS) | x86_64 | 4.5.0 RC (2025-04-04 r88126) -- "How About a Twenty-Six" | 4832 |
palomino7 | Windows Server 2022 Datacenter | x64 | 4.5.0 RC (2025-04-04 r88126 ucrt) -- "How About a Twenty-Six" | 4574 |
merida1 | macOS 12.7.5 Monterey | x86_64 | 4.5.0 RC (2025-04-04 r88126) -- "How About a Twenty-Six" | 4558 |
kjohnson1 | macOS 13.6.6 Ventura | arm64 | 4.5.0 RC (2025-04-04 r88129) -- "How About a Twenty-Six" | 4553 |
Click on any hostname to see more info about the system (e.g. compilers) (*) as reported by 'uname -p', except on Windows and Mac OS X |
Package 455/2341 | Hostname | OS / Arch | INSTALL | BUILD | CHECK | BUILD BIN | ||||||||
CoverageView 1.46.0 (landing page) Ernesto Lowy
| nebbiolo1 | Linux (Ubuntu 24.04.1 LTS) / x86_64 | OK | OK | WARNINGS | ![]() | ||||||||
palomino7 | Windows Server 2022 Datacenter / x64 | ... NOT SUPPORTED ... | ||||||||||||
merida1 | macOS 12.7.5 Monterey / x86_64 | OK | OK | WARNINGS | ERROR | |||||||||
kjohnson1 | macOS 13.6.6 Ventura / arm64 | OK | OK | WARNINGS | ERROR | |||||||||
To the developers/maintainers of the CoverageView package: - Allow up to 24 hours (and sometimes 48 hours) for your latest push to git@git.bioconductor.org:packages/CoverageView.git to reflect on this report. See Troubleshooting Build Report for more information. - Use the following Renviron settings to reproduce errors and warnings. - If 'R CMD check' started to fail recently on the Linux builder(s) over a missing dependency, add the missing dependency to 'Suggests:' in your DESCRIPTION file. See Renviron.bioc for more information. |
Package: CoverageView |
Version: 1.46.0 |
Command: rm -rf CoverageView.buildbin-libdir && mkdir CoverageView.buildbin-libdir && /Users/biocbuild/BBS/utils/build-universal.sh CoverageView_1.46.0.tar.gz /Library/Frameworks/R.framework/Resources/bin/R CoverageView.buildbin-libdir |
StartedAt: 2025-04-25 13:03:53 -0400 (Fri, 25 Apr 2025) |
EndedAt: 2025-04-25 13:05:27 -0400 (Fri, 25 Apr 2025) |
EllapsedTime: 94.7 seconds |
RetCode: 1 |
Status: ERROR |
PackageFile: None |
PackageFileSize: NA |
############################################################################## ############################################################################## ### ### Running command: ### ### rm -rf CoverageView.buildbin-libdir && mkdir CoverageView.buildbin-libdir && /Users/biocbuild/BBS/utils/build-universal.sh CoverageView_1.46.0.tar.gz /Library/Frameworks/R.framework/Resources/bin/R CoverageView.buildbin-libdir ### ############################################################################## ############################################################################## >>>>>>> >>>>>>> INSTALLATION WITH 'R CMD INSTALL --preclean --no-multiarch --library=CoverageView.buildbin-libdir CoverageView_1.46.0.tar.gz' >>>>>>> * installing *source* package ‘CoverageView’ ... ** this is package ‘CoverageView’ version ‘1.46.0’ ** using staged installation ** R ** data ** inst ** byte-compile and prepare package for lazy loading ** help *** installing help indices ** building package indices ** installing vignettes ** testing if installed package can be loaded from temporary location ** testing if installed package can be loaded from final location ** testing if installed package keeps a record of temporary installation path * DONE (CoverageView) chown: CoverageView.buildbin-libdir/CoverageView/extdata/treat.bw: Operation not permitted chown: CoverageView.buildbin-libdir/CoverageView/extdata/ctrl.bam: Operation not permitted chown: CoverageView.buildbin-libdir/CoverageView/extdata/ctrl.bw: Operation not permitted chown: CoverageView.buildbin-libdir/CoverageView/extdata/H3K4me3.chr19.nopeaks.bed: Operation not permitted chown: CoverageView.buildbin-libdir/CoverageView/extdata/H3K4me3.chr19.bed: Operation not permitted chown: CoverageView.buildbin-libdir/CoverageView/extdata/treat.bam: Operation not permitted chown: CoverageView.buildbin-libdir/CoverageView/extdata/test.gff: Operation not permitted chown: CoverageView.buildbin-libdir/CoverageView/extdata/ctrl.bam.bai: Operation not permitted chown: CoverageView.buildbin-libdir/CoverageView/extdata/FoxA1.chr19.bed: Operation not permitted chown: CoverageView.buildbin-libdir/CoverageView/extdata/treat.bam.bai: Operation not permitted chown: CoverageView.buildbin-libdir/CoverageView/extdata/testTSS.bed: Operation not permitted chown: CoverageView.buildbin-libdir/CoverageView/extdata: Operation not permitted chown: CoverageView.buildbin-libdir/CoverageView/R/CoverageView: Operation not permitted chown: CoverageView.buildbin-libdir/CoverageView/R/CoverageView.rdb: Operation not permitted chown: CoverageView.buildbin-libdir/CoverageView/R/CoverageView.rdx: Operation not permitted chown: CoverageView.buildbin-libdir/CoverageView/R: Operation not permitted chown: CoverageView.buildbin-libdir/CoverageView/Meta/vignette.rds: Operation not permitted chown: CoverageView.buildbin-libdir/CoverageView/Meta/data.rds: Operation not permitted chown: CoverageView.buildbin-libdir/CoverageView/Meta/links.rds: Operation not permitted chown: CoverageView.buildbin-libdir/CoverageView/Meta/features.rds: Operation not permitted chown: CoverageView.buildbin-libdir/CoverageView/Meta/nsInfo.rds: Operation not permitted chown: CoverageView.buildbin-libdir/CoverageView/Meta/package.rds: Operation not permitted chown: CoverageView.buildbin-libdir/CoverageView/Meta/hsearch.rds: Operation not permitted chown: CoverageView.buildbin-libdir/CoverageView/Meta/Rd.rds: Operation not permitted chown: CoverageView.buildbin-libdir/CoverageView/Meta: Operation not permitted chown: CoverageView.buildbin-libdir/CoverageView/NAMESPACE: Operation not permitted chown: CoverageView.buildbin-libdir/CoverageView/html/R.css: Operation not permitted chown: CoverageView.buildbin-libdir/CoverageView/html/00Index.html: Operation not permitted chown: CoverageView.buildbin-libdir/CoverageView/html: Operation not permitted chown: CoverageView.buildbin-libdir/CoverageView/DESCRIPTION: Operation not permitted chown: CoverageView.buildbin-libdir/CoverageView/INDEX: Operation not permitted chown: CoverageView.buildbin-libdir/CoverageView/doc/index.html: Operation not permitted chown: CoverageView.buildbin-libdir/CoverageView/doc/CoverageView.Rnw: Operation not permitted chown: CoverageView.buildbin-libdir/CoverageView/doc/CoverageView.pdf: Operation not permitted chown: CoverageView.buildbin-libdir/CoverageView/doc/CoverageView.R: Operation not permitted chown: CoverageView.buildbin-libdir/CoverageView/doc: Operation not permitted chown: CoverageView.buildbin-libdir/CoverageView/data/DF_H3K4me3_ctl.RData: Operation not permitted chown: CoverageView.buildbin-libdir/CoverageView/data/FoxA1_chr19.RData: Operation not permitted chown: CoverageView.buildbin-libdir/CoverageView/data/DF_H3K4me3_nopeaks_ratios.RData: Operation not permitted chown: CoverageView.buildbin-libdir/CoverageView/data/datalist: Operation not permitted chown: CoverageView.buildbin-libdir/CoverageView/data/DF_H3K36me3_control.RData: Operation not permitted chown: CoverageView.buildbin-libdir/CoverageView/data/DF_H3K4me3.RData: Operation not permitted chown: CoverageView.buildbin-libdir/CoverageView/data/DF_H3K36me3.RData: Operation not permitted chown: CoverageView.buildbin-libdir/CoverageView/data: Operation not permitted chown: CoverageView.buildbin-libdir/CoverageView/help/AnIndex: Operation not permitted chown: CoverageView.buildbin-libdir/CoverageView/help/aliases.rds: Operation not permitted chown: CoverageView.buildbin-libdir/CoverageView/help/CoverageView.rdb: Operation not permitted chown: CoverageView.buildbin-libdir/CoverageView/help/CoverageView.rdx: Operation not permitted chown: CoverageView.buildbin-libdir/CoverageView/help/paths.rds: Operation not permitted chown: CoverageView.buildbin-libdir/CoverageView/help: Operation not permitted chown: CoverageView.buildbin-libdir/CoverageView: Operation not permitted