Back to Multiple platform build/check report for BioC 3.20:   simplified   long
ABCDEFGHIJKLMN[O]PQRSTUVWXYZ

This page was generated on 2025-04-02 19:30 -0400 (Wed, 02 Apr 2025).

HostnameOSArch (*)R versionInstalled pkgs
nebbiolo2Linux (Ubuntu 24.04.1 LTS)x86_644.4.3 (2025-02-28) -- "Trophy Case" 4764
palomino8Windows Server 2022 Datacenterx644.4.3 (2025-02-28 ucrt) -- "Trophy Case" 4495
merida1macOS 12.7.5 Montereyx86_644.4.3 (2025-02-28) -- "Trophy Case" 4522
kjohnson1macOS 13.6.6 Venturaarm644.4.3 (2025-02-28) -- "Trophy Case" 4449
taishanLinux (openEuler 24.03 LTS)aarch644.4.3 (2025-02-28) -- "Trophy Case" 4426
Click on any hostname to see more info about the system (e.g. compilers)      (*) as reported by 'uname -p', except on Windows and Mac OS X

Package 1445/2289HostnameOS / ArchINSTALLBUILDCHECKBUILD BIN
omada 1.8.0  (landing page)
Sokratis Kariotis
Snapshot Date: 2025-03-31 13:00 -0400 (Mon, 31 Mar 2025)
git_url: https://git.bioconductor.org/packages/omada
git_branch: RELEASE_3_20
git_last_commit: 8b5b5fd
git_last_commit_date: 2024-10-29 11:13:51 -0400 (Tue, 29 Oct 2024)
nebbiolo2Linux (Ubuntu 24.04.1 LTS) / x86_64  OK    OK    OK  UNNEEDED, same version is already published
palomino8Windows Server 2022 Datacenter / x64  OK    OK    OK    OK  UNNEEDED, same version is already published
merida1macOS 12.7.5 Monterey / x86_64  OK    OK    OK    OK  UNNEEDED, same version is already published
kjohnson1macOS 13.6.6 Ventura / arm64  OK    OK    OK    OK  UNNEEDED, same version is already published
taishanLinux (openEuler 24.03 LTS) / aarch64  OK    OK    OK  


CHECK results for omada on palomino8

To the developers/maintainers of the omada package:
- Allow up to 24 hours (and sometimes 48 hours) for your latest push to git@git.bioconductor.org:packages/omada.git to reflect on this report. See Troubleshooting Build Report for more information.
- Use the following Renviron settings to reproduce errors and warnings.
- If 'R CMD check' started to fail recently on the Linux builder(s) over a missing dependency, add the missing dependency to 'Suggests:' in your DESCRIPTION file. See Renviron.bioc for more information.

raw results


Summary

Package: omada
Version: 1.8.0
Command: F:\biocbuild\bbs-3.20-bioc\R\bin\R.exe CMD check --no-multiarch --install=check:omada.install-out.txt --library=F:\biocbuild\bbs-3.20-bioc\R\library --no-vignettes --timings omada_1.8.0.tar.gz
StartedAt: 2025-04-01 04:12:40 -0400 (Tue, 01 Apr 2025)
EndedAt: 2025-04-01 04:25:59 -0400 (Tue, 01 Apr 2025)
EllapsedTime: 799.2 seconds
RetCode: 0
Status:   OK  
CheckDir: omada.Rcheck
Warnings: 0

Command output

##############################################################################
##############################################################################
###
### Running command:
###
###   F:\biocbuild\bbs-3.20-bioc\R\bin\R.exe CMD check --no-multiarch --install=check:omada.install-out.txt --library=F:\biocbuild\bbs-3.20-bioc\R\library --no-vignettes --timings omada_1.8.0.tar.gz
###
##############################################################################
##############################################################################


* using log directory 'F:/biocbuild/bbs-3.20-bioc/meat/omada.Rcheck'
* using R version 4.4.3 (2025-02-28 ucrt)
* using platform: x86_64-w64-mingw32
* R was compiled by
    gcc.exe (GCC) 13.3.0
    GNU Fortran (GCC) 13.3.0
* running under: Windows Server 2022 x64 (build 20348)
* using session charset: UTF-8
* using option '--no-vignettes'
* checking for file 'omada/DESCRIPTION' ... OK
* checking extension type ... Package
* this is package 'omada' version '1.8.0'
* package encoding: UTF-8
* checking package namespace information ... OK
* checking package dependencies ... NOTE
Depends: includes the non-default packages:
  'pdfCluster', 'kernlab', 'fpc', 'Rcpp', 'diceR', 'ggplot2',
  'reshape', 'genieclust', 'clValid', 'glmnet', 'dplyr'
Adding so many packages to the search path is excessive and importing
selectively is preferable.
* checking if this is a source package ... OK
* checking if there is a namespace ... OK
* checking for hidden files and directories ... OK
* checking for portable file names ... OK
* checking whether package 'omada' can be installed ... OK
* checking installed package size ... OK
* checking package directory ... OK
* checking 'build' directory ... OK
* checking DESCRIPTION meta-information ... NOTE
Package listed in more than one of Depends, Imports, Suggests, Enhances:
  'clValid'
A package should be listed in only one of these fields.
* checking top-level files ... NOTE
File
  LICENSE
is not mentioned in the DESCRIPTION file.
* checking for left-over files ... OK
* checking index information ... OK
* checking package subdirectories ... OK
* checking code files for non-ASCII characters ... OK
* checking R files for syntax errors ... OK
* checking whether the package can be loaded ... OK
* checking whether the package can be loaded with stated dependencies ... OK
* checking whether the package can be unloaded cleanly ... OK
* checking whether the namespace can be loaded with stated dependencies ... OK
* checking whether the namespace can be unloaded cleanly ... OK
* checking dependencies in R code ... NOTE
Packages in Depends field not imported from:
  'Rcpp' 'dplyr' 'genieclust' 'glmnet' 'kernlab' 'reshape'
  These packages need to be imported from (in the NAMESPACE file)
  for when this namespace is loaded but not attached.
* checking S3 generic/method consistency ... OK
* checking replacement functions ... OK
* checking foreign function calls ... OK
* checking R code for possible problems ... NOTE
Index.15and28: no visible global function definition for 'dist'
Index.15and28: no visible global function definition for 'as.dist'
Index.sPlussMoins: no visible global function definition for 'dist'
Index.sPlussMoins: no visible global function definition for 'as.dist'
Index.sPlussMoins: no visible global function definition for 'median'
Indice.cindex: no visible global function definition for 'dist'
clusterVoting: no visible global function definition for 'calinhara'
clusterVoting: no visible global function definition for
  'generalised_dunn_index'
clusterVoting: no visible global function definition for
  'silhouette_index'
clusterVoting: no visible global function definition for
  'negated_davies_bouldin_index'
clusterVoting: no visible binding for global variable 'k'
clusterVoting: no visible binding for global variable 'Frequency'
clusteringMethodSelection: no visible binding for global variable
  'value'
clusteringMethodSelection: no visible binding for global variable
  'methods'
featureSelection: no visible binding for global variable 'featureSet'
featureSelection: no visible binding for global variable 'means'
Undefined global functions or variables:
  Frequency as.dist calinhara dist featureSet generalised_dunn_index k
  means median methods negated_davies_bouldin_index silhouette_index
  value
Consider adding
  importFrom("stats", "as.dist", "dist", "median")
  importFrom("utils", "methods")
to your NAMESPACE file.
* checking Rd files ... OK
* checking Rd metadata ... OK
* checking Rd cross-references ... OK
* checking for missing documentation entries ... OK
* checking for code/documentation mismatches ... OK
* checking Rd \usage sections ... OK
* checking Rd contents ... OK
* checking for unstated dependencies in examples ... OK
* checking contents of 'data' directory ... OK
* checking data for non-ASCII characters ... OK
* checking LazyData ... OK
* checking data for ASCII and uncompressed saves ... OK
* checking files in 'vignettes' ... OK
* checking examples ... OK
Examples with CPU (user + system) or elapsed time > 5s
                                                  user system elapsed
get_feature_selection_optimal_number_of_features 47.74   2.31   50.05
get_feature_selection_scores                     46.29   2.46   48.75
plot_partition_agreement                         38.81   2.22   42.72
plot_feature_selection                           36.30   2.06   39.56
get_cluster_voting_memberships                   34.05   2.00   36.05
get_cluster_voting_k_votes                       34.20   1.45   41.28
get_feature_selection_optimal_features           33.34   1.86   35.20
get_cluster_voting_metric_votes                  33.56   1.58   35.14
get_sample_memberships                           32.70   1.96   34.70
get_cluster_voting_scores                        32.49   1.81   34.30
get_partition_agreement_scores                   30.43   1.76   32.21
omada                                            26.85   1.28   28.17
plot_cluster_voting                              25.58   1.26   27.00
get_optimal_number_of_features                   10.67   0.42   11.09
plot_average_stabilities                         10.33   0.71   11.03
get_optimal_stability_score                      10.39   0.42   10.83
get_optimal_features                             10.05   0.50   10.54
get_optimal_memberships                           9.52   0.50   10.02
featureSelection                                  9.28   0.43    9.72
get_optimal_parameter_used                        8.73   0.43    9.17
get_average_feature_k_stabilities                 5.16   0.25    5.41
* checking for unstated dependencies in 'tests' ... OK
* checking tests ...
  Running 'testthat.R'
 OK
* checking for unstated dependencies in vignettes ... OK
* checking package vignettes ... OK
* checking running R code from vignettes ... SKIPPED
* checking re-building of vignette outputs ... SKIPPED
* checking PDF version of manual ... OK
* DONE

Status: 5 NOTEs
See
  'F:/biocbuild/bbs-3.20-bioc/meat/omada.Rcheck/00check.log'
for details.


Installation output

omada.Rcheck/00install.out

##############################################################################
##############################################################################
###
### Running command:
###
###   F:\biocbuild\bbs-3.20-bioc\R\bin\R.exe CMD INSTALL omada
###
##############################################################################
##############################################################################


* installing to library 'F:/biocbuild/bbs-3.20-bioc/R/library'
* installing *source* package 'omada' ...
** using staged installation
** R
** data
*** moving datasets to lazyload DB
** inst
** byte-compile and prepare package for lazy loading
** help
*** installing help indices
** building package indices
** installing vignettes
** testing if installed package can be loaded from temporary location
** testing if installed package can be loaded from final location
** testing if installed package keeps a record of temporary installation path
* DONE (omada)

Tests output

omada.Rcheck/tests/testthat.Rout


R version 4.4.3 (2025-02-28 ucrt) -- "Trophy Case"
Copyright (C) 2025 The R Foundation for Statistical Computing
Platform: x86_64-w64-mingw32/x64

R is free software and comes with ABSOLUTELY NO WARRANTY.
You are welcome to redistribute it under certain conditions.
Type 'license()' or 'licence()' for distribution details.

R is a collaborative project with many contributors.
Type 'contributors()' for more information and
'citation()' on how to cite R or R packages in publications.

Type 'demo()' for some demos, 'help()' for on-line help, or
'help.start()' for an HTML browser interface to help.
Type 'q()' to quit R.

> library(testthat)
> library(omada)
Loading required package: pdfCluster
pdfCluster 1.0-4
Loading required package: kernlab
Loading required package: fpc
Loading required package: Rcpp
Loading required package: diceR
Loading required package: ggplot2

Attaching package: 'ggplot2'

The following object is masked from 'package:kernlab':

    alpha

Loading required package: reshape
Loading required package: genieclust
Loading required package: clValid
Loading required package: cluster
Loading required package: glmnet
Loading required package: Matrix

Attaching package: 'Matrix'

The following object is masked from 'package:reshape':

    expand

Loaded glmnet 4.1-8
Loading required package: dplyr

Attaching package: 'dplyr'

The following object is masked from 'package:reshape':

    rename

The following object is masked from 'package:pdfCluster':

    groups

The following object is masked from 'package:testthat':

    matches

The following objects are masked from 'package:stats':

    filter, lag

The following objects are masked from 'package:base':

    intersect, setdiff, setequal, union

> 
> test_check("omada")
[ FAIL 0 | WARN 1 | SKIP 0 | PASS 38 ]

[ FAIL 0 | WARN 1 | SKIP 0 | PASS 38 ]
> 
> proc.time()
   user  system elapsed 
  99.54    6.92  115.75 

Example timings

omada.Rcheck/omada-Ex.timings

nameusersystemelapsed
clusterVoting4.210.414.61
clusteringMethodSelection1.650.061.72
feasibilityAnalysis1.550.041.58
feasibilityAnalysisDataBased3.060.113.17
featureSelection9.280.439.72
get_agreement_scores0.20.00.2
get_average_feature_k_stabilities5.160.255.41
get_average_stabilities_per_k1.250.021.89
get_average_stability1.180.001.19
get_cluster_memberships_k1.190.111.29
get_cluster_voting_k_votes34.20 1.4541.28
get_cluster_voting_memberships34.05 2.0036.05
get_cluster_voting_metric_votes33.56 1.5835.14
get_cluster_voting_scores32.49 1.8134.30
get_feature_selection_optimal_features33.34 1.8635.20
get_feature_selection_optimal_number_of_features47.74 2.3150.05
get_feature_selection_scores46.29 2.4648.75
get_generated_dataset3.130.263.39
get_internal_metric_scores1.150.171.33
get_max_stability1.080.041.11
get_metric_votes_k1.670.181.86
get_optimal_features10.05 0.5010.54
get_optimal_memberships 9.52 0.5010.02
get_optimal_number_of_features10.67 0.4211.09
get_optimal_parameter_used8.730.439.17
get_optimal_stability_score10.39 0.4210.83
get_partition_agreement_scores30.43 1.7632.21
get_sample_memberships32.70 1.9634.70
get_vote_frequencies_k0.980.201.19
omada26.85 1.2828.17
optimalClustering0.090.000.09
partitionAgreement0.340.030.38
plot_average_stabilities10.33 0.7111.03
plot_cluster_voting25.58 1.2627.00
plot_feature_selection36.30 2.0639.56
plot_partition_agreement38.81 2.2242.72
plot_vote_frequencies1.410.301.84
toy_gene_memberships0.010.050.19
toy_genes000