Back to Multiple platform build/check report for BioC 3.20:   simplified   long
ABCDEFGHIJ[K]LMNOPQRSTUVWXYZ

This page was generated on 2025-04-02 19:32 -0400 (Wed, 02 Apr 2025).

HostnameOSArch (*)R versionInstalled pkgs
nebbiolo2Linux (Ubuntu 24.04.1 LTS)x86_644.4.3 (2025-02-28) -- "Trophy Case" 4764
palomino8Windows Server 2022 Datacenterx644.4.3 (2025-02-28 ucrt) -- "Trophy Case" 4495
merida1macOS 12.7.5 Montereyx86_644.4.3 (2025-02-28) -- "Trophy Case" 4522
kjohnson1macOS 13.6.6 Venturaarm644.4.3 (2025-02-28) -- "Trophy Case" 4449
taishanLinux (openEuler 24.03 LTS)aarch644.4.3 (2025-02-28) -- "Trophy Case" 4426
Click on any hostname to see more info about the system (e.g. compilers)      (*) as reported by 'uname -p', except on Windows and Mac OS X

Package 1076/2289HostnameOS / ArchINSTALLBUILDCHECKBUILD BIN
karyoploteR 1.32.0  (landing page)
Bernat Gel
Snapshot Date: 2025-03-31 13:00 -0400 (Mon, 31 Mar 2025)
git_url: https://git.bioconductor.org/packages/karyoploteR
git_branch: RELEASE_3_20
git_last_commit: 62ce025
git_last_commit_date: 2024-10-29 10:16:53 -0400 (Tue, 29 Oct 2024)
nebbiolo2Linux (Ubuntu 24.04.1 LTS) / x86_64  OK    OK    OK  UNNEEDED, same version is already published
palomino8Windows Server 2022 Datacenter / x64  OK    OK    OK    OK  UNNEEDED, same version is already published
merida1macOS 12.7.5 Monterey / x86_64  OK    OK    OK    OK  UNNEEDED, same version is already published
kjohnson1macOS 13.6.6 Ventura / arm64  OK    OK    OK    OK  UNNEEDED, same version is already published
taishanLinux (openEuler 24.03 LTS) / aarch64  OK    OK    OK  


CHECK results for karyoploteR on merida1

To the developers/maintainers of the karyoploteR package:
- Allow up to 24 hours (and sometimes 48 hours) for your latest push to git@git.bioconductor.org:packages/karyoploteR.git to reflect on this report. See Troubleshooting Build Report for more information.
- Use the following Renviron settings to reproduce errors and warnings.
- If 'R CMD check' started to fail recently on the Linux builder(s) over a missing dependency, add the missing dependency to 'Suggests:' in your DESCRIPTION file. See Renviron.bioc for more information.

raw results


Summary

Package: karyoploteR
Version: 1.32.0
Command: /Library/Frameworks/R.framework/Resources/bin/R CMD check --install=check:karyoploteR.install-out.txt --library=/Library/Frameworks/R.framework/Resources/library --no-vignettes --timings karyoploteR_1.32.0.tar.gz
StartedAt: 2025-04-01 04:47:55 -0400 (Tue, 01 Apr 2025)
EndedAt: 2025-04-01 05:05:26 -0400 (Tue, 01 Apr 2025)
EllapsedTime: 1050.5 seconds
RetCode: 0
Status:   OK  
CheckDir: karyoploteR.Rcheck
Warnings: 0

Command output

##############################################################################
##############################################################################
###
### Running command:
###
###   /Library/Frameworks/R.framework/Resources/bin/R CMD check --install=check:karyoploteR.install-out.txt --library=/Library/Frameworks/R.framework/Resources/library --no-vignettes --timings karyoploteR_1.32.0.tar.gz
###
##############################################################################
##############################################################################


* using log directory ‘/Users/biocbuild/bbs-3.20-bioc/meat/karyoploteR.Rcheck’
* using R version 4.4.3 (2025-02-28)
* using platform: x86_64-apple-darwin20
* R was compiled by
    Apple clang version 14.0.0 (clang-1400.0.29.202)
    GNU Fortran (GCC) 12.2.0
* running under: macOS Monterey 12.7.6
* using session charset: UTF-8
* using option ‘--no-vignettes’
* checking for file ‘karyoploteR/DESCRIPTION’ ... OK
* checking extension type ... Package
* this is package ‘karyoploteR’ version ‘1.32.0’
* package encoding: UTF-8
* checking package namespace information ... OK
* checking package dependencies ... OK
* checking if this is a source package ... OK
* checking if there is a namespace ... OK
* checking for hidden files and directories ... OK
* checking for portable file names ... OK
* checking for sufficient/correct file permissions ... OK
* checking whether package ‘karyoploteR’ can be installed ... OK
* checking installed package size ... OK
* checking package directory ... OK
* checking ‘build’ directory ... OK
* checking DESCRIPTION meta-information ... NOTE
Packages listed in more than one of Depends, Imports, Suggests, Enhances:
  ‘regioneR’ ‘GenomicRanges’
A package should be listed in only one of these fields.
* checking top-level files ... OK
* checking for left-over files ... OK
* checking index information ... OK
* checking package subdirectories ... NOTE
Problems with news in ‘NEWS’:
  Cannot process chunk/lines:
    NEW FEATURES
  Cannot process chunk/lines:
    SIGNIFICANT USER-VISIBLE CHANGES
  Cannot process chunk/lines:
    NEW FEATURES
  Cannot process chunk/lines:
    SIGNIFICANT USER-VISIBLE CHANGES
* checking code files for non-ASCII characters ... OK
* checking R files for syntax errors ... OK
* checking whether the package can be loaded ... OK
* checking whether the package can be loaded with stated dependencies ... OK
* checking whether the package can be unloaded cleanly ... OK
* checking whether the namespace can be loaded with stated dependencies ... OK
* checking whether the namespace can be unloaded cleanly ... OK
* checking whether startup messages can be suppressed ... OK
* checking dependencies in R code ... OK
* checking S3 generic/method consistency ... OK
* checking replacement functions ... OK
* checking foreign function calls ... OK
* checking R code for possible problems ... OK
* checking Rd files ... NOTE
checkRd: (-1) kpPlotBAMCoverage.Rd:48: Lost braces
    48 | There's more information at the \url{https://bernatgel.github.io/karyoploter_tutorial/}{karyoploteR tutorial}.
       |                                                                                        ^
checkRd: (-1) kpPlotBAMDensity.Rd:48: Lost braces
    48 | There's more information at the \url{https://bernatgel.github.io/karyoploter_tutorial/}{karyoploteR tutorial}.
       |                                                                                        ^
checkRd: (-1) kpPlotCoverage.Rd:46: Lost braces
    46 |  There's more information at the \url{https://bernatgel.github.io/karyoploter_tutorial/}{karyoploteR tutorial}.
       |                                                                                         ^
checkRd: (-1) kpPlotDensity.Rd:42: Lost braces
    42 | There's more information at the \url{https://bernatgel.github.io/karyoploter_tutorial/}{karyoploteR tutorial}.
       |                                                                                        ^
checkRd: (-1) kpPlotManhattan.Rd:80: Lost braces
    80 | There's more information at the \url{https://bernatgel.github.io/karyoploter_tutorial/}{karyoploteR tutorial}.
       |                                                                                        ^
checkRd: (-1) kpPlotMarkers.Rd:81: Lost braces
    81 | There's more information at the \url{https://bernatgel.github.io/karyoploter_tutorial/}{karyoploteR tutorial}.
       |                                                                                        ^
checkRd: (-1) kpPlotRainfall.Rd:47: Lost braces
    47 | There's more information at the \url{https://bernatgel.github.io/karyoploter_tutorial/}{karyoploteR tutorial}.
       |                                                                                        ^
checkRd: (-1) kpPoints.Rd:54: Lost braces
    54 | There's more information at the \url{https://bernatgel.github.io/karyoploter_tutorial/}{karyoploteR tutorial}.
       |                                                                                        ^
checkRd: (-1) kpRect.Rd:55: Lost braces
    55 | There's more information at the \url{https://bernatgel.github.io/karyoploter_tutorial/}{karyoploteR tutorial}.
       |                                                                                        ^
checkRd: (-1) plotKaryotype.Rd:61: Lost braces
    61 | There's more information at the \url{https://bernatgel.github.io/karyoploter_tutorial/}{karyoploteR tutorial}.
       |                                                                                        ^
* checking Rd metadata ... OK
* checking Rd cross-references ... OK
* checking for missing documentation entries ... OK
* checking for code/documentation mismatches ... OK
* checking Rd \usage sections ... OK
* checking Rd contents ... OK
* checking for unstated dependencies in examples ... OK
* checking R/sysdata.rda ... OK
* checking files in ‘vignettes’ ... OK
* checking examples ... OK
Examples with CPU (user + system) or elapsed time > 5s
                        user system elapsed
kpPlotDensity         73.662  4.582  84.447
kpPlotGenes           47.989  0.683  52.717
mergeTranscripts      37.869  0.258  40.820
kpPlotHorizon         34.117  0.134  35.869
kpPlotRegions         28.282  0.237  29.690
kpPlotTranscripts     15.316  0.078  16.249
kpPlotBAMCoverage     13.669  0.460  14.839
kpPlotManhattan        9.530  0.271  10.058
makeGenesDataFromTxDb  6.548  0.083   6.955
kpAbline               4.668  1.245   6.475
addGeneNames           5.528  0.143   5.916
* checking for unstated dependencies in ‘tests’ ... OK
* checking tests ...
  Running ‘testthat.R’
 OK
* checking for unstated dependencies in vignettes ... OK
* checking package vignettes ... OK
* checking running R code from vignettes ... SKIPPED
* checking re-building of vignette outputs ... SKIPPED
* checking PDF version of manual ... OK
* DONE

Status: 3 NOTEs
See
  ‘/Users/biocbuild/bbs-3.20-bioc/meat/karyoploteR.Rcheck/00check.log’
for details.


Installation output

karyoploteR.Rcheck/00install.out

##############################################################################
##############################################################################
###
### Running command:
###
###   /Library/Frameworks/R.framework/Resources/bin/R CMD INSTALL karyoploteR
###
##############################################################################
##############################################################################


* installing to library ‘/Library/Frameworks/R.framework/Versions/4.4-x86_64/Resources/library’
* installing *source* package ‘karyoploteR’ ...
** using staged installation
** R
** inst
** byte-compile and prepare package for lazy loading
** help
*** installing help indices
** building package indices
** installing vignettes
** testing if installed package can be loaded from temporary location
** testing if installed package can be loaded from final location
** testing if installed package keeps a record of temporary installation path
* DONE (karyoploteR)

Tests output

karyoploteR.Rcheck/tests/testthat.Rout


R version 4.4.3 (2025-02-28) -- "Trophy Case"
Copyright (C) 2025 The R Foundation for Statistical Computing
Platform: x86_64-apple-darwin20

R is free software and comes with ABSOLUTELY NO WARRANTY.
You are welcome to redistribute it under certain conditions.
Type 'license()' or 'licence()' for distribution details.

R is a collaborative project with many contributors.
Type 'contributors()' for more information and
'citation()' on how to cite R or R packages in publications.

Type 'demo()' for some demos, 'help()' for on-line help, or
'help.start()' for an HTML browser interface to help.
Type 'q()' to quit R.

> library(testthat)
> library(karyoploteR)
Loading required package: regioneR
Loading required package: GenomicRanges
Loading required package: stats4
Loading required package: BiocGenerics

Attaching package: 'BiocGenerics'

The following objects are masked from 'package:stats':

    IQR, mad, sd, var, xtabs

The following objects are masked from 'package:base':

    Filter, Find, Map, Position, Reduce, anyDuplicated, aperm, append,
    as.data.frame, basename, cbind, colnames, dirname, do.call,
    duplicated, eval, evalq, get, grep, grepl, intersect, is.unsorted,
    lapply, mapply, match, mget, order, paste, pmax, pmax.int, pmin,
    pmin.int, rank, rbind, rownames, sapply, saveRDS, setdiff, table,
    tapply, union, unique, unsplit, which.max, which.min

Loading required package: S4Vectors

Attaching package: 'S4Vectors'

The following object is masked from 'package:utils':

    findMatches

The following objects are masked from 'package:base':

    I, expand.grid, unname

Loading required package: IRanges
Loading required package: GenomeInfoDb
> 
> test_check("karyoploteR")
[ FAIL 0 | WARN 0 | SKIP 3 | PASS 177 ]

══ Skipped tests (3) ═══════════════════════════════════════════════════════════
• empty test (3): 'test_plotKaryotype.R:27:1', 'test_plotKaryotype.R:34:1',
  'test_plotKaryotype.R:44:1'

[ FAIL 0 | WARN 0 | SKIP 3 | PASS 177 ]
> 
> proc.time()
   user  system elapsed 
 34.474   1.861  38.710 

Example timings

karyoploteR.Rcheck/karyoploteR-Ex.timings

nameusersystemelapsed
addGeneNames5.5280.1435.916
autotrack0.0010.0010.004
colByCategory0.0040.0010.006
colByChr1.2490.0151.340
colByRegion3.5230.2154.200
colByValue0.4130.0110.468
darker0.0010.0000.002
filterParams0.0010.0010.001
findIntersections0.2910.0040.345
getChromosomeNamesBoundingBox0.0990.0030.115
getColorSchemas0.0030.0070.013
getCytobandColors0.0020.0040.006
getCytobands0.0030.0000.003
getDataPanelBoundingBox0.1050.0040.123
getDefaultPlotParams0.1630.0220.203
getMainTitleBoundingBox0.0800.0050.091
getTextSize0.1920.0120.236
getVariantsColors0.0010.0010.002
horizonColors0.0080.0020.011
is.color0.0010.0010.002
kpAbline4.6681.2456.475
kpAddBaseNumbers0.9340.0120.998
kpAddChromosomeNames0.0820.0030.091
kpAddChromosomeSeparators1.0860.0081.146
kpAddColorRect0.3650.0040.387
kpAddCytobandLabels0.9480.0081.000
kpAddCytobands0.0790.0020.087
kpAddCytobandsAsLine0.1600.0040.171
kpAddLabels1.0580.0101.117
kpAddMainTitle0.0750.0030.081
kpArea0.8050.0070.855
kpArrows1.3650.0171.461
kpAxis0.7250.0070.767
kpBars0.4360.0040.468
kpDataBackground0.5850.0050.613
kpHeatmap0.3160.0030.337
kpLines0.6440.0070.727
kpPlotBAMCoverage13.669 0.46014.839
kpPlotBAMDensity2.7650.0813.004
kpPlotBigWig2.0270.0512.194
kpPlotCoverage0.9990.0091.063
kpPlotDensity73.662 4.58284.447
kpPlotGenes47.989 0.68352.717
kpPlotHorizon34.117 0.13435.869
kpPlotLinks2.4210.0202.512
kpPlotLoess0.1440.0030.147
kpPlotManhattan 9.530 0.27110.058
kpPlotMarkers4.0650.0354.385
kpPlotNames0.2590.0030.264
kpPlotRainfall1.8200.0191.902
kpPlotRegions28.282 0.23729.690
kpPlotRibbon0.1970.0040.202
kpPlotTranscripts15.316 0.07816.249
kpPoints0.6180.0060.661
kpPolygon0.5100.0090.544
kpRect1.7750.0101.884
kpSegments1.3230.0121.411
kpText0.6140.0050.649
lighter0.0010.0010.002
makeGenesDataFromTxDb6.5480.0836.955
mergeTranscripts37.869 0.25840.820
plotDefaultPlotParams0.4260.0030.470
plotKaryotype2.5190.0462.853
plotPalettes0.0290.0070.045
prepareParameters20.0790.0040.089
prepareParameters40.0810.0050.098
processClipping0.0850.0040.109
transparent0.0010.0010.002