Back to Multiple platform build/check report for BioC 3.20: simplified long |
|
This page was generated on 2025-04-02 19:31 -0400 (Wed, 02 Apr 2025).
Hostname | OS | Arch (*) | R version | Installed pkgs |
---|---|---|---|---|
nebbiolo2 | Linux (Ubuntu 24.04.1 LTS) | x86_64 | 4.4.3 (2025-02-28) -- "Trophy Case" | 4764 |
palomino8 | Windows Server 2022 Datacenter | x64 | 4.4.3 (2025-02-28 ucrt) -- "Trophy Case" | 4495 |
merida1 | macOS 12.7.5 Monterey | x86_64 | 4.4.3 (2025-02-28) -- "Trophy Case" | 4522 |
kjohnson1 | macOS 13.6.6 Ventura | arm64 | 4.4.3 (2025-02-28) -- "Trophy Case" | 4449 |
taishan | Linux (openEuler 24.03 LTS) | aarch64 | 4.4.3 (2025-02-28) -- "Trophy Case" | 4426 |
Click on any hostname to see more info about the system (e.g. compilers) (*) as reported by 'uname -p', except on Windows and Mac OS X |
Package 505/2289 | Hostname | OS / Arch | INSTALL | BUILD | CHECK | BUILD BIN | ||||||||
dar 1.2.0 (landing page) Francesc Catala-Moll
| nebbiolo2 | Linux (Ubuntu 24.04.1 LTS) / x86_64 | OK | OK | OK | ![]() | ||||||||
palomino8 | Windows Server 2022 Datacenter / x64 | OK | OK | OK | OK | ![]() | ||||||||
merida1 | macOS 12.7.5 Monterey / x86_64 | OK | OK | OK | OK | ![]() | ||||||||
kjohnson1 | macOS 13.6.6 Ventura / arm64 | OK | OK | OK | OK | ![]() | ||||||||
taishan | Linux (openEuler 24.03 LTS) / aarch64 | OK | OK | OK | ||||||||||
To the developers/maintainers of the dar package: - Allow up to 24 hours (and sometimes 48 hours) for your latest push to git@git.bioconductor.org:packages/dar.git to reflect on this report. See Troubleshooting Build Report for more information. - Use the following Renviron settings to reproduce errors and warnings. - If 'R CMD check' started to fail recently on the Linux builder(s) over a missing dependency, add the missing dependency to 'Suggests:' in your DESCRIPTION file. See Renviron.bioc for more information. |
Package: dar |
Version: 1.2.0 |
Command: /Library/Frameworks/R.framework/Resources/bin/R CMD check --install=check:dar.install-out.txt --library=/Library/Frameworks/R.framework/Resources/library --no-vignettes --timings dar_1.2.0.tar.gz |
StartedAt: 2025-04-01 01:41:20 -0400 (Tue, 01 Apr 2025) |
EndedAt: 2025-04-01 02:06:37 -0400 (Tue, 01 Apr 2025) |
EllapsedTime: 1517.6 seconds |
RetCode: 0 |
Status: OK |
CheckDir: dar.Rcheck |
Warnings: 0 |
############################################################################## ############################################################################## ### ### Running command: ### ### /Library/Frameworks/R.framework/Resources/bin/R CMD check --install=check:dar.install-out.txt --library=/Library/Frameworks/R.framework/Resources/library --no-vignettes --timings dar_1.2.0.tar.gz ### ############################################################################## ############################################################################## * using log directory ‘/Users/biocbuild/bbs-3.20-bioc/meat/dar.Rcheck’ * using R version 4.4.3 (2025-02-28) * using platform: x86_64-apple-darwin20 * R was compiled by Apple clang version 14.0.0 (clang-1400.0.29.202) GNU Fortran (GCC) 12.2.0 * running under: macOS Monterey 12.7.6 * using session charset: UTF-8 * using option ‘--no-vignettes’ * checking for file ‘dar/DESCRIPTION’ ... OK * this is package ‘dar’ version ‘1.2.0’ * package encoding: UTF-8 * checking package namespace information ... OK * checking package dependencies ... OK * checking if this is a source package ... OK * checking if there is a namespace ... OK * checking for hidden files and directories ... OK * checking for portable file names ... OK * checking for sufficient/correct file permissions ... OK * checking whether package ‘dar’ can be installed ... OK * checking installed package size ... OK * checking package directory ... OK * checking ‘build’ directory ... OK * checking DESCRIPTION meta-information ... OK * checking top-level files ... OK * checking for left-over files ... OK * checking index information ... OK * checking package subdirectories ... OK * checking code files for non-ASCII characters ... OK * checking R files for syntax errors ... OK * checking whether the package can be loaded ... OK * checking whether the package can be loaded with stated dependencies ... OK * checking whether the package can be unloaded cleanly ... OK * checking whether the namespace can be loaded with stated dependencies ... OK * checking whether the namespace can be unloaded cleanly ... OK * checking dependencies in R code ... OK * checking S3 generic/method consistency ... OK * checking replacement functions ... OK * checking foreign function calls ... OK * checking R code for possible problems ... OK * checking Rd files ... OK * checking Rd metadata ... OK * checking Rd cross-references ... OK * checking for missing documentation entries ... OK * checking for code/documentation mismatches ... OK * checking Rd \usage sections ... OK * checking Rd contents ... OK * checking for unstated dependencies in examples ... OK * checking contents of ‘data’ directory ... OK * checking data for non-ASCII characters ... OK * checking data for ASCII and uncompressed saves ... OK * checking R/sysdata.rda ... OK * checking files in ‘vignettes’ ... OK * checking examples ... OK Examples with CPU (user + system) or elapsed time > 5s user system elapsed step_aldex 35.740 3.831 45.146 step_ancom 28.467 1.669 35.765 step_deseq 15.905 0.187 18.225 step_maaslin 9.037 0.293 10.602 step_metagenomeseq 8.685 0.134 24.840 abundance_plt 6.137 0.247 7.091 prep 6.049 0.145 89.177 corr_heatmap 5.840 0.235 6.988 step_corncob 4.896 0.181 5.755 import_steps 4.428 0.177 82.000 step_wilcox 4.205 0.119 5.259 export_steps 3.134 0.288 29.761 recipe 2.100 0.053 40.580 * checking for unstated dependencies in ‘tests’ ... OK * checking tests ... Running ‘testthat.R’ OK * checking for unstated dependencies in vignettes ... OK * checking package vignettes ... OK * checking running R code from vignettes ... SKIPPED * checking re-building of vignette outputs ... SKIPPED * checking PDF version of manual ... OK * DONE Status: OK
dar.Rcheck/00install.out
############################################################################## ############################################################################## ### ### Running command: ### ### /Library/Frameworks/R.framework/Resources/bin/R CMD INSTALL dar ### ############################################################################## ############################################################################## * installing to library ‘/Library/Frameworks/R.framework/Versions/4.4-x86_64/Resources/library’ * installing *source* package ‘dar’ ... ** using staged installation ** R ** data ** inst ** byte-compile and prepare package for lazy loading ** help *** installing help indices *** copying figures ** building package indices ** installing vignettes ** testing if installed package can be loaded from temporary location ** testing if installed package can be loaded from final location ** testing if installed package keeps a record of temporary installation path * DONE (dar)
dar.Rcheck/tests/testthat.Rout
R version 4.4.3 (2025-02-28) -- "Trophy Case" Copyright (C) 2025 The R Foundation for Statistical Computing Platform: x86_64-apple-darwin20 R is free software and comes with ABSOLUTELY NO WARRANTY. You are welcome to redistribute it under certain conditions. Type 'license()' or 'licence()' for distribution details. R is a collaborative project with many contributors. Type 'contributors()' for more information and 'citation()' on how to cite R or R packages in publications. Type 'demo()' for some demos, 'help()' for on-line help, or 'help.start()' for an HTML browser interface to help. Type 'q()' to quit R. > library(testthat) > library(dar) > > test_check("dar") Starting 2 test processes [ FAIL 0 | WARN 0 | SKIP 10 | PASS 82 ] ══ Skipped tests (10) ══════════════════════════════════════════════════════════ • On CRAN (10): 'test-roxytest-tests-bake.R:18:3', 'test-roxytest-tests-ancom.R:14:3', 'test-roxytest-tests-lefse.R:15:3', 'test-roxytest-tests-misc.R:73:3', 'test-roxytest-tests-misc.R:101:3', 'test-roxytest-tests-misc.R:108:3', 'test-roxytest-tests-pkg_check.R:6:3', 'test-roxytest-tests-maaslin2.R:16:3', 'test-roxytest-tests-read_data.R:24:3', 'test-roxytest-tests-steps_and_checks.R:7:3' [ FAIL 0 | WARN 0 | SKIP 10 | PASS 82 ] > > proc.time() user system elapsed 433.916 17.487 713.836
dar.Rcheck/dar-Ex.timings
name | user | system | elapsed | |
abundance_plt | 6.137 | 0.247 | 7.091 | |
add_tax | 0.381 | 0.012 | 0.427 | |
add_var | 0.358 | 0.011 | 0.386 | |
bake | 1.077 | 0.023 | 1.151 | |
contains_rarefaction | 0.467 | 0.032 | 0.533 | |
cool | 0.683 | 0.014 | 0.728 | |
corr_heatmap | 5.840 | 0.235 | 6.988 | |
exclusion_plt | 2.113 | 0.022 | 2.375 | |
export_steps | 3.134 | 0.288 | 29.761 | |
find_intersections | 0.387 | 0.007 | 0.415 | |
get_comparisons | 0.047 | 0.004 | 0.060 | |
get_phy | 0.040 | 0.004 | 0.049 | |
get_tax | 0.049 | 0.005 | 0.057 | |
get_var | 0.047 | 0.005 | 0.061 | |
import_steps | 4.428 | 0.177 | 82.000 | |
intersection_df | 0.399 | 0.012 | 0.440 | |
intersection_plt | 3.585 | 0.031 | 3.669 | |
mutual_plt | 4.438 | 0.035 | 4.534 | |
otu_table | 0.976 | 0.009 | 1.002 | |
overlap_df | 0.662 | 0.015 | 0.708 | |
phy_qc | 2.843 | 0.039 | 3.163 | |
prep | 6.049 | 0.145 | 89.177 | |
rand_id | 0.000 | 0.000 | 0.001 | |
read_data | 3.443 | 0.413 | 3.926 | |
recipe | 2.100 | 0.053 | 40.580 | |
required_deps | 0.098 | 0.012 | 0.110 | |
sample_data | 0.060 | 0.004 | 0.066 | |
step_aldex | 35.740 | 3.831 | 45.146 | |
step_ancom | 28.467 | 1.669 | 35.765 | |
step_corncob | 4.896 | 0.181 | 5.755 | |
step_deseq | 15.905 | 0.187 | 18.225 | |
step_filter_by_abundance | 0.084 | 0.010 | 0.111 | |
step_filter_by_prevalence | 0.083 | 0.008 | 0.103 | |
step_filter_by_rarity | 0.086 | 0.008 | 0.108 | |
step_filter_by_variance | 0.080 | 0.009 | 0.100 | |
step_filter_taxa | 0.077 | 0.007 | 0.093 | |
step_lefse | 0.138 | 0.013 | 0.178 | |
step_maaslin | 9.037 | 0.293 | 10.602 | |
step_metagenomeseq | 8.685 | 0.134 | 24.840 | |
step_rarefaction | 0.103 | 0.010 | 0.126 | |
step_subset_taxa | 0.079 | 0.009 | 0.097 | |
step_wilcox | 4.205 | 0.119 | 5.259 | |
steps_ids | 0.030 | 0.005 | 0.038 | |
tax_table | 0.106 | 0.009 | 0.130 | |
tidyeval | 0.043 | 0.006 | 0.054 | |
to_tibble | 1.070 | 0.027 | 1.190 | |
use_rarefy | 0.028 | 0.006 | 0.034 | |
zero_otu | 1.049 | 0.022 | 1.121 | |