Back to Multiple platform build/check report for BioC 3.20: simplified long |
|
This page was generated on 2025-04-02 19:31 -0400 (Wed, 02 Apr 2025).
Hostname | OS | Arch (*) | R version | Installed pkgs |
---|---|---|---|---|
nebbiolo2 | Linux (Ubuntu 24.04.1 LTS) | x86_64 | 4.4.3 (2025-02-28) -- "Trophy Case" | 4764 |
palomino8 | Windows Server 2022 Datacenter | x64 | 4.4.3 (2025-02-28 ucrt) -- "Trophy Case" | 4495 |
merida1 | macOS 12.7.5 Monterey | x86_64 | 4.4.3 (2025-02-28) -- "Trophy Case" | 4522 |
kjohnson1 | macOS 13.6.6 Ventura | arm64 | 4.4.3 (2025-02-28) -- "Trophy Case" | 4449 |
taishan | Linux (openEuler 24.03 LTS) | aarch64 | 4.4.3 (2025-02-28) -- "Trophy Case" | 4426 |
Click on any hostname to see more info about the system (e.g. compilers) (*) as reported by 'uname -p', except on Windows and Mac OS X |
Package 317/2289 | Hostname | OS / Arch | INSTALL | BUILD | CHECK | BUILD BIN | ||||||||
cfdnakit 1.4.0 (landing page) Pitithat Puranachot
| nebbiolo2 | Linux (Ubuntu 24.04.1 LTS) / x86_64 | OK | OK | OK | ![]() | ||||||||
palomino8 | Windows Server 2022 Datacenter / x64 | OK | OK | OK | OK | ![]() | ||||||||
merida1 | macOS 12.7.5 Monterey / x86_64 | OK | OK | OK | OK | ![]() | ||||||||
kjohnson1 | macOS 13.6.6 Ventura / arm64 | OK | OK | OK | OK | ![]() | ||||||||
taishan | Linux (openEuler 24.03 LTS) / aarch64 | OK | OK | OK | ||||||||||
To the developers/maintainers of the cfdnakit package: - Allow up to 24 hours (and sometimes 48 hours) for your latest push to git@git.bioconductor.org:packages/cfdnakit.git to reflect on this report. See Troubleshooting Build Report for more information. - Use the following Renviron settings to reproduce errors and warnings. - If 'R CMD check' started to fail recently on the Linux builder(s) over a missing dependency, add the missing dependency to 'Suggests:' in your DESCRIPTION file. See Renviron.bioc for more information. |
Package: cfdnakit |
Version: 1.4.0 |
Command: /Library/Frameworks/R.framework/Resources/bin/R CMD check --install=check:cfdnakit.install-out.txt --library=/Library/Frameworks/R.framework/Resources/library --no-vignettes --timings cfdnakit_1.4.0.tar.gz |
StartedAt: 2025-04-01 00:34:01 -0400 (Tue, 01 Apr 2025) |
EndedAt: 2025-04-01 00:40:57 -0400 (Tue, 01 Apr 2025) |
EllapsedTime: 416.0 seconds |
RetCode: 0 |
Status: OK |
CheckDir: cfdnakit.Rcheck |
Warnings: 0 |
############################################################################## ############################################################################## ### ### Running command: ### ### /Library/Frameworks/R.framework/Resources/bin/R CMD check --install=check:cfdnakit.install-out.txt --library=/Library/Frameworks/R.framework/Resources/library --no-vignettes --timings cfdnakit_1.4.0.tar.gz ### ############################################################################## ############################################################################## * using log directory ‘/Users/biocbuild/bbs-3.20-bioc/meat/cfdnakit.Rcheck’ * using R version 4.4.3 (2025-02-28) * using platform: x86_64-apple-darwin20 * R was compiled by Apple clang version 14.0.0 (clang-1400.0.29.202) GNU Fortran (GCC) 12.2.0 * running under: macOS Monterey 12.7.6 * using session charset: UTF-8 * using option ‘--no-vignettes’ * checking for file ‘cfdnakit/DESCRIPTION’ ... OK * this is package ‘cfdnakit’ version ‘1.4.0’ * package encoding: UTF-8 * checking package namespace information ... OK * checking package dependencies ... OK * checking if this is a source package ... OK * checking if there is a namespace ... OK * checking for hidden files and directories ... OK * checking for portable file names ... OK * checking for sufficient/correct file permissions ... OK * checking whether package ‘cfdnakit’ can be installed ... OK * checking installed package size ... OK * checking package directory ... OK * checking ‘build’ directory ... OK * checking DESCRIPTION meta-information ... OK * checking top-level files ... OK * checking for left-over files ... OK * checking index information ... OK * checking package subdirectories ... OK * checking code files for non-ASCII characters ... OK * checking R files for syntax errors ... OK * checking whether the package can be loaded ... OK * checking whether the package can be loaded with stated dependencies ... OK * checking whether the package can be unloaded cleanly ... OK * checking whether the namespace can be loaded with stated dependencies ... OK * checking whether the namespace can be unloaded cleanly ... OK * checking dependencies in R code ... OK * checking S3 generic/method consistency ... OK * checking replacement functions ... OK * checking foreign function calls ... OK * checking R code for possible problems ... OK * checking Rd files ... OK * checking Rd metadata ... OK * checking Rd cross-references ... OK * checking for missing documentation entries ... OK * checking for code/documentation mismatches ... OK * checking Rd \usage sections ... OK * checking Rd contents ... OK * checking for unstated dependencies in examples ... OK * checking files in ‘vignettes’ ... OK * checking examples ... OK Examples with CPU (user + system) or elapsed time > 5s user system elapsed cfdnakit-package 27.731 1.427 29.945 call_cnv 21.791 0.320 22.378 plot_cnv_solution 21.420 0.415 22.169 plot_distance_matrix 20.977 0.436 21.620 get_solution_table 20.191 0.428 20.743 plot_transformed_sl 20.075 0.443 21.307 calculate_CES_score 18.844 0.503 19.586 get_zscore_profile 18.481 0.481 19.494 segmentByPSCB 18.448 0.408 19.273 plot_sl_ratio 14.851 0.087 15.107 create_PoN 12.418 0.875 13.387 read_bamfile 7.059 1.631 8.960 * checking for unstated dependencies in vignettes ... OK * checking package vignettes ... OK * checking running R code from vignettes ... SKIPPED * checking re-building of vignette outputs ... SKIPPED * checking PDF version of manual ... OK * DONE Status: OK
cfdnakit.Rcheck/00install.out
############################################################################## ############################################################################## ### ### Running command: ### ### /Library/Frameworks/R.framework/Resources/bin/R CMD INSTALL cfdnakit ### ############################################################################## ############################################################################## * installing to library ‘/Library/Frameworks/R.framework/Versions/4.4-x86_64/Resources/library’ * installing *source* package ‘cfdnakit’ ... ** using staged installation ** R ** inst ** byte-compile and prepare package for lazy loading ** help *** installing help indices ** building package indices ** installing vignettes ** testing if installed package can be loaded from temporary location ** testing if installed package can be loaded from final location ** testing if installed package keeps a record of temporary installation path * DONE (cfdnakit)
cfdnakit.Rcheck/cfdnakit-Ex.timings
name | user | system | elapsed | |
calculate_CES_score | 18.844 | 0.503 | 19.586 | |
call_cnv | 21.791 | 0.320 | 22.378 | |
cfdnakit-package | 27.731 | 1.427 | 29.945 | |
create_PoN | 12.418 | 0.875 | 13.387 | |
extract_insert_size | 0.361 | 0.009 | 0.371 | |
get_fragment_profile | 4.660 | 0.017 | 4.709 | |
get_solution_table | 20.191 | 0.428 | 20.743 | |
get_zscore_profile | 18.481 | 0.481 | 19.494 | |
plot_cnv_solution | 21.420 | 0.415 | 22.169 | |
plot_distance_matrix | 20.977 | 0.436 | 21.620 | |
plot_fragment_dist | 1.022 | 0.010 | 1.046 | |
plot_sl_ratio | 14.851 | 0.087 | 15.107 | |
plot_transformed_sl | 20.075 | 0.443 | 21.307 | |
read_bamfile | 7.059 | 1.631 | 8.960 | |
segmentByPSCB | 18.448 | 0.408 | 19.273 | |
test_isize_KolmogorovSmirnov | 0.590 | 0.008 | 0.600 | |