Back to Multiple platform build/check report for BioC 3.20:   simplified   long
AB[C]DEFGHIJKLMNOPQRSTUVWXYZ

This page was generated on 2025-04-02 19:33 -0400 (Wed, 02 Apr 2025).

HostnameOSArch (*)R versionInstalled pkgs
nebbiolo2Linux (Ubuntu 24.04.1 LTS)x86_644.4.3 (2025-02-28) -- "Trophy Case" 4764
palomino8Windows Server 2022 Datacenterx644.4.3 (2025-02-28 ucrt) -- "Trophy Case" 4495
merida1macOS 12.7.5 Montereyx86_644.4.3 (2025-02-28) -- "Trophy Case" 4522
kjohnson1macOS 13.6.6 Venturaarm644.4.3 (2025-02-28) -- "Trophy Case" 4449
taishanLinux (openEuler 24.03 LTS)aarch644.4.3 (2025-02-28) -- "Trophy Case" 4426
Click on any hostname to see more info about the system (e.g. compilers)      (*) as reported by 'uname -p', except on Windows and Mac OS X

Package 303/2289HostnameOS / ArchINSTALLBUILDCHECKBUILD BIN
cellmigRation 1.14.0  (landing page)
Waldir Leoncio
Snapshot Date: 2025-03-31 13:00 -0400 (Mon, 31 Mar 2025)
git_url: https://git.bioconductor.org/packages/cellmigRation
git_branch: RELEASE_3_20
git_last_commit: 49990de
git_last_commit_date: 2024-10-29 10:58:18 -0400 (Tue, 29 Oct 2024)
nebbiolo2Linux (Ubuntu 24.04.1 LTS) / x86_64  OK    OK    OK  UNNEEDED, same version is already published
palomino8Windows Server 2022 Datacenter / x64  OK    OK    OK    OK  UNNEEDED, same version is already published
merida1macOS 12.7.5 Monterey / x86_64  OK    OK    OK    OK  UNNEEDED, same version is already published
kjohnson1macOS 13.6.6 Ventura / arm64  OK    OK    OK    OK  UNNEEDED, same version is already published
taishanLinux (openEuler 24.03 LTS) / aarch64  OK    OK    OK  


CHECK results for cellmigRation on kjohnson1

To the developers/maintainers of the cellmigRation package:
- Allow up to 24 hours (and sometimes 48 hours) for your latest push to git@git.bioconductor.org:packages/cellmigRation.git to reflect on this report. See Troubleshooting Build Report for more information.
- Use the following Renviron settings to reproduce errors and warnings.
- If 'R CMD check' started to fail recently on the Linux builder(s) over a missing dependency, add the missing dependency to 'Suggests:' in your DESCRIPTION file. See Renviron.bioc for more information.

raw results


Summary

Package: cellmigRation
Version: 1.14.0
Command: /Library/Frameworks/R.framework/Resources/bin/R CMD check --install=check:cellmigRation.install-out.txt --library=/Library/Frameworks/R.framework/Resources/library --no-vignettes --timings cellmigRation_1.14.0.tar.gz
StartedAt: 2025-04-01 13:33:50 -0400 (Tue, 01 Apr 2025)
EndedAt: 2025-04-01 13:36:10 -0400 (Tue, 01 Apr 2025)
EllapsedTime: 140.0 seconds
RetCode: 0
Status:   OK  
CheckDir: cellmigRation.Rcheck
Warnings: 0

Command output

##############################################################################
##############################################################################
###
### Running command:
###
###   /Library/Frameworks/R.framework/Resources/bin/R CMD check --install=check:cellmigRation.install-out.txt --library=/Library/Frameworks/R.framework/Resources/library --no-vignettes --timings cellmigRation_1.14.0.tar.gz
###
##############################################################################
##############################################################################


* using log directory ‘/Users/biocbuild/bbs-3.20-bioc/meat/cellmigRation.Rcheck’
* using R version 4.4.3 (2025-02-28)
* using platform: aarch64-apple-darwin20
* R was compiled by
    Apple clang version 14.0.0 (clang-1400.0.29.202)
    GNU Fortran (GCC) 12.2.0
* running under: macOS Ventura 13.7.1
* using session charset: UTF-8
* using option ‘--no-vignettes’
* checking for file ‘cellmigRation/DESCRIPTION’ ... OK
* checking extension type ... Package
* this is package ‘cellmigRation’ version ‘1.14.0’
* package encoding: UTF-8
* checking package namespace information ... OK
* checking package dependencies ... OK
* checking if this is a source package ... OK
* checking if there is a namespace ... OK
* checking for hidden files and directories ... OK
* checking for portable file names ... OK
* checking for sufficient/correct file permissions ... OK
* checking whether package ‘cellmigRation’ can be installed ... OK
* checking installed package size ... OK
* checking package directory ... OK
* checking ‘build’ directory ... OK
* checking DESCRIPTION meta-information ... OK
* checking top-level files ... OK
* checking for left-over files ... OK
* checking index information ... OK
* checking package subdirectories ... OK
* checking code files for non-ASCII characters ... OK
* checking R files for syntax errors ... OK
* checking whether the package can be loaded ... OK
* checking whether the package can be loaded with stated dependencies ... OK
* checking whether the package can be unloaded cleanly ... OK
* checking whether the namespace can be loaded with stated dependencies ... OK
* checking whether the namespace can be unloaded cleanly ... OK
* checking dependencies in R code ... OK
* checking S3 generic/method consistency ... OK
* checking replacement functions ... OK
* checking foreign function calls ... OK
* checking R code for possible problems ... OK
* checking Rd files ... OK
* checking Rd metadata ... OK
* checking Rd cross-references ... OK
* checking for missing documentation entries ... OK
* checking for code/documentation mismatches ... OK
* checking Rd \usage sections ... NOTE
Documented arguments not in \usage in Rd file 'fixDA.Rd':
  ‘object’

Documented arguments not in \usage in Rd file 'fixFM1.Rd':
  ‘object’

Documented arguments not in \usage in Rd file 'fixFM2.Rd':
  ‘object’

Documented arguments not in \usage in Rd file 'fixFM3.Rd':
  ‘object’

Documented arguments not in \usage in Rd file 'fixFM4.Rd':
  ‘object’

Documented arguments not in \usage in Rd file 'fixFM5.Rd':
  ‘object’

Documented arguments not in \usage in Rd file 'fixFM6.Rd':
  ‘object’

Documented arguments not in \usage in Rd file 'fixID2.Rd':
  ‘TimeInterval’

Documented arguments not in \usage in Rd file 'fixID3.Rd':
  ‘TimeInterval’

Documented arguments not in \usage in Rd file 'fixID4.Rd':
  ‘TimeInterval’

Documented arguments not in \usage in Rd file 'fixMSD.Rd':
  ‘object’

Documented arguments not in \usage in Rd file 'fixPER1.Rd':
  ‘x’

Documented arguments not in \usage in Rd file 'fixPER2.Rd':
  ‘x’

Documented arguments not in \usage in Rd file 'innerBondRaster.Rd':
  ‘i’

Functions with \usage entries need to have the appropriate \alias
entries, and all their arguments documented.
The \usage entries must correspond to syntactically valid R code.
See chapter ‘Writing R documentation files’ in the ‘Writing R
Extensions’ manual.
* checking Rd contents ... OK
* checking for unstated dependencies in examples ... OK
* checking contents of ‘data’ directory ... OK
* checking data for non-ASCII characters ... OK
* checking data for ASCII and uncompressed saves ... OK
* checking files in ‘vignettes’ ... OK
* checking examples ... OK
* checking for unstated dependencies in ‘tests’ ... OK
* checking tests ...
  Running ‘runTests.R’
 OK
* checking for unstated dependencies in vignettes ... OK
* checking package vignettes ... OK
* checking running R code from vignettes ... SKIPPED
* checking re-building of vignette outputs ... SKIPPED
* checking PDF version of manual ... OK
* DONE

Status: 1 NOTE
See
  ‘/Users/biocbuild/bbs-3.20-bioc/meat/cellmigRation.Rcheck/00check.log’
for details.


Installation output

cellmigRation.Rcheck/00install.out

##############################################################################
##############################################################################
###
### Running command:
###
###   /Library/Frameworks/R.framework/Resources/bin/R CMD INSTALL cellmigRation
###
##############################################################################
##############################################################################


* installing to library ‘/Library/Frameworks/R.framework/Versions/4.4-arm64/Resources/library’
* installing *source* package ‘cellmigRation’ ...
** using staged installation
** R
** data
** inst
** byte-compile and prepare package for lazy loading
** help
*** installing help indices
** building package indices
** installing vignettes
** testing if installed package can be loaded from temporary location
** testing if installed package can be loaded from final location
** testing if installed package keeps a record of temporary installation path
* DONE (cellmigRation)

Tests output

cellmigRation.Rcheck/tests/runTests.Rout


R version 4.4.3 (2025-02-28) -- "Trophy Case"
Copyright (C) 2025 The R Foundation for Statistical Computing
Platform: aarch64-apple-darwin20

R is free software and comes with ABSOLUTELY NO WARRANTY.
You are welcome to redistribute it under certain conditions.
Type 'license()' or 'licence()' for distribution details.

R is a collaborative project with many contributors.
Type 'contributors()' for more information and
'citation()' on how to cite R or R packages in publications.

Type 'demo()' for some demos, 'help()' for on-line help, or
'help.start()' for an HTML browser interface to help.
Type 'q()' to quit R.

> BiocGenerics:::testPackage("cellmigRation")


RUNIT TEST PROTOCOL -- Tue Apr  1 13:35:54 2025 
*********************************************** 
Number of test functions: 7 
Number of errors: 0 
Number of failures: 0 

 
1 Test Suite : 
cellmigRation RUnit Tests - 7 test functions, 0 errors, 0 failures
Number of test functions: 7 
Number of errors: 0 
Number of failures: 0 
> 
> proc.time()
   user  system elapsed 
  3.329   0.352   3.942 

Example timings

cellmigRation.Rcheck/cellmigRation-Ex.timings

nameusersystemelapsed
AddDimension0.0020.0010.002
CellMig-class0.0370.0040.042
CellMigPCA1.4850.0411.571
CellMigPCAclust0.0110.0040.016
CellMigPCAclustALL0.7490.0100.777
CellTracker0.0240.0050.029
CellTrackerMainLoop0.0070.0110.022
CentroidArray0.0210.0050.027
CentroidValidation0.5440.0210.574
ComputeTracksStats0.0300.0050.036
DetectRadii0.0030.0000.003
DiAutoCor1.5520.0261.619
DiRatio0.0170.0030.021
DiRatioPlot0.0490.0150.064
EstimateDiameterRange0.0190.0030.022
FMI0.5350.0070.557
FianlizeOptiParams0.0000.0000.001
FilterTrackedCells0.0020.0000.003
FinRes0.7550.0170.784
ForwardMigration1.0970.0101.141
GenAllCombos0.0020.0010.003
LinearConv20.0190.0020.021
LoadTiff0.0010.0000.002
MSD1.9280.0832.065
MakeHypercube0.0010.0010.002
MigrationStats0.0010.0010.001
NextOdd000
NonParallel4OptimizeParams0.0010.0010.001
NonParallelTrackLoop0.0010.0000.002
OptimizeParams0.0180.0040.024
OptimizeParamsMainLoop0.0060.0130.024
Parallel4OptimizeParams0.0010.0000.001
ParallelTrackLoop0.0010.0000.001
PerAndSpeed0.3110.0360.357
PlotTracksSeparately0.0120.0020.015
PostProcessTracking000
Prep4OptimizeParams0.1110.0080.124
ThreeConditions0.0120.0060.018
TrackCellsDataset0.0180.0050.023
TrajectoryDataset0.0330.0040.036
ValidateTrackingArgs0.0010.0000.000
VeAutoCor1.1390.0231.184
VisualizeCntr0.0040.0020.005
VisualizeImg0.0060.0010.008
VisualizeStackCentroids0.0600.0110.073
WSADataset0.0100.0050.015
aggregateFR0.6710.0110.692
aggregateTrackedCells0.0270.0080.039
bpass0.0800.0040.086
circshift0.0010.0000.001
cntrd0.7600.0230.804
fixDA0.0010.0000.000
fixExpName0.0010.0000.001
fixFM10.0000.0000.001
fixFM2000
fixFM3000
fixFM4000
fixFM5000
fixFM6000
fixID10.0000.0010.000
fixMSD000
fixPER10.0010.0000.000
fixPER2000
fixPER30.0010.0000.001
getAvailableAggrMetrics0.9840.0121.016
getCellImages0.2440.7831.083
getCellMigSlot0.4050.5080.945
getCellTrackMeta0.0210.0060.027
getCellTrackStats0.0230.0060.031
getCellTracks0.0190.0060.025
getCellsMeta0.0190.0050.025
getCellsStats0.0230.0050.028
getDACtable2.0440.0362.121
getDiRatio0.0220.0030.026
getFMItable0.5120.0100.538
getForMigtable0.6090.0080.632
getImageCentroids0.0240.0070.032
getImageStacks0.0640.0110.076
getMSDtable3.760.073.95
getOptimizedParameters0.0200.0050.025
getOptimizedParams0.0220.0050.027
getPerAndSpeed0.2980.0340.339
getPopulationStats0.0220.0060.028
getProcessedImages0.2300.8351.139
getProcessingStatus0.0190.0050.024
getResults0.6620.0190.716
getTracks0.0190.0060.027
getVACtable0.8750.0201.036
initializeTrackParams0.0000.0000.001
innerBondRaster0.0010.0000.002
internalPermutation0.0010.0000.001
matfix0.0010.0000.001
nontrivialBondTracking0.0010.0000.001
pkfnd0.6310.0410.725
plot3DAllTracks0.0010.0000.001
plot3DTracks000
plotAllTracks0.0230.0070.031
plotSampleTracks0.0210.0070.030
preProcCellMig0.0100.0040.014
rmPreProcessing0.1020.0100.116
runTrackingPermutation0.0020.0000.004
setAnalyticParams0.0200.0060.028
setCellMigSlot0.0330.0040.044
setCellTracks0.0170.0050.024
setCellsMeta0.0200.0050.026
setExpName0.0340.0040.038
setOptimizedParams0.0200.0050.028
setProcessedImages0.0210.0050.028
setProcessingStatus0.0180.0050.025
setTrackedCellsMeta0.0190.0050.024
setTrackedCentroids0.0390.0080.050
setTrackedPositions0.0200.0070.029
setTrackingStats0.0190.0060.029
sinkAway0.0010.0000.001
subNetworkTracking0.0010.0000.002
track0.0090.0010.010
trackHypercubeBuild0.0010.0000.001
trackSlideProcessing0.0010.0000.001
trackSlideWrapUp000
trivialBondRaster0.0020.0010.005
trivialBondTracking0.0000.0000.001
visualizeCellTracks0.0650.0110.084
visualizeTrcks0.0440.0020.048
warnMessage000
wsaPreProcessing0.0570.0040.062