Back to Multiple platform build/check report for BioC 3.20: simplified long |
|
This page was generated on 2025-04-02 19:32 -0400 (Wed, 02 Apr 2025).
Hostname | OS | Arch (*) | R version | Installed pkgs |
---|---|---|---|---|
nebbiolo2 | Linux (Ubuntu 24.04.1 LTS) | x86_64 | 4.4.3 (2025-02-28) -- "Trophy Case" | 4764 |
palomino8 | Windows Server 2022 Datacenter | x64 | 4.4.3 (2025-02-28 ucrt) -- "Trophy Case" | 4495 |
merida1 | macOS 12.7.5 Monterey | x86_64 | 4.4.3 (2025-02-28) -- "Trophy Case" | 4522 |
kjohnson1 | macOS 13.6.6 Ventura | arm64 | 4.4.3 (2025-02-28) -- "Trophy Case" | 4449 |
taishan | Linux (openEuler 24.03 LTS) | aarch64 | 4.4.3 (2025-02-28) -- "Trophy Case" | 4426 |
Click on any hostname to see more info about the system (e.g. compilers) (*) as reported by 'uname -p', except on Windows and Mac OS X |
Package 1735/2289 | Hostname | OS / Arch | INSTALL | BUILD | CHECK | BUILD BIN | ||||||||
RgnTX 1.8.0 (landing page) Yue Wang
| nebbiolo2 | Linux (Ubuntu 24.04.1 LTS) / x86_64 | OK | OK | OK | ![]() | ||||||||
palomino8 | Windows Server 2022 Datacenter / x64 | OK | OK | OK | OK | ![]() | ||||||||
merida1 | macOS 12.7.5 Monterey / x86_64 | OK | OK | OK | OK | ![]() | ||||||||
kjohnson1 | macOS 13.6.6 Ventura / arm64 | OK | OK | OK | OK | ![]() | ||||||||
taishan | Linux (openEuler 24.03 LTS) / aarch64 | OK | OK | OK | ||||||||||
To the developers/maintainers of the RgnTX package: - Allow up to 24 hours (and sometimes 48 hours) for your latest push to git@git.bioconductor.org:packages/RgnTX.git to reflect on this report. See Troubleshooting Build Report for more information. - Use the following Renviron settings to reproduce errors and warnings. - If 'R CMD check' started to fail recently on the Linux builder(s) over a missing dependency, add the missing dependency to 'Suggests:' in your DESCRIPTION file. See Renviron.bioc for more information. |
Package: RgnTX |
Version: 1.8.0 |
Command: /Library/Frameworks/R.framework/Resources/bin/R CMD check --install=check:RgnTX.install-out.txt --library=/Library/Frameworks/R.framework/Resources/library --no-vignettes --timings RgnTX_1.8.0.tar.gz |
StartedAt: 2025-04-01 08:00:02 -0400 (Tue, 01 Apr 2025) |
EndedAt: 2025-04-01 08:18:20 -0400 (Tue, 01 Apr 2025) |
EllapsedTime: 1097.7 seconds |
RetCode: 0 |
Status: OK |
CheckDir: RgnTX.Rcheck |
Warnings: 0 |
############################################################################## ############################################################################## ### ### Running command: ### ### /Library/Frameworks/R.framework/Resources/bin/R CMD check --install=check:RgnTX.install-out.txt --library=/Library/Frameworks/R.framework/Resources/library --no-vignettes --timings RgnTX_1.8.0.tar.gz ### ############################################################################## ############################################################################## * using log directory ‘/Users/biocbuild/bbs-3.20-bioc/meat/RgnTX.Rcheck’ * using R version 4.4.3 (2025-02-28) * using platform: x86_64-apple-darwin20 * R was compiled by Apple clang version 14.0.0 (clang-1400.0.29.202) GNU Fortran (GCC) 12.2.0 * running under: macOS Monterey 12.7.6 * using session charset: UTF-8 * using option ‘--no-vignettes’ * checking for file ‘RgnTX/DESCRIPTION’ ... OK * this is package ‘RgnTX’ version ‘1.8.0’ * package encoding: UTF-8 * checking package namespace information ... OK * checking package dependencies ... OK * checking if this is a source package ... OK * checking if there is a namespace ... OK * checking for hidden files and directories ... OK * checking for portable file names ... OK * checking for sufficient/correct file permissions ... OK * checking whether package ‘RgnTX’ can be installed ... OK * checking installed package size ... OK * checking package directory ... OK * checking ‘build’ directory ... OK * checking DESCRIPTION meta-information ... OK * checking top-level files ... OK * checking for left-over files ... OK * checking index information ... OK * checking package subdirectories ... OK * checking code files for non-ASCII characters ... OK * checking R files for syntax errors ... OK * checking whether the package can be loaded ... OK * checking whether the package can be loaded with stated dependencies ... OK * checking whether the package can be unloaded cleanly ... OK * checking whether the namespace can be loaded with stated dependencies ... OK * checking whether the namespace can be unloaded cleanly ... OK * checking dependencies in R code ... OK * checking S3 generic/method consistency ... OK * checking replacement functions ... OK * checking foreign function calls ... OK * checking R code for possible problems ... OK * checking Rd files ... OK * checking Rd metadata ... OK * checking Rd cross-references ... OK * checking for missing documentation entries ... OK * checking for code/documentation mismatches ... OK * checking Rd \usage sections ... OK * checking Rd contents ... OK * checking for unstated dependencies in examples ... OK * checking files in ‘vignettes’ ... OK * checking examples ... OK Examples with CPU (user + system) or elapsed time > 5s user system elapsed shiftedZScoreTx 86.212 1.208 98.728 permTestTxIA_customPick 52.433 0.562 54.171 permTestTxIA 50.615 0.641 51.890 permTestTx 42.791 0.399 43.641 permTestTx_customPick 35.921 0.368 39.052 permTestTx_customAll 33.895 0.294 34.949 overlapCountsTxIA 18.273 0.366 19.139 randomizeFeaturesTx 15.093 0.193 16.131 overlapWidthTx 14.938 0.195 15.344 distanceTx 14.675 0.206 15.013 getStopCodon 12.644 0.168 13.003 GRangesList2GRanges 9.914 0.566 10.572 randomizeTransByOrder 9.570 0.085 10.393 randomizeFeaturesTxIA 9.297 0.142 10.493 overlapCountsTx 9.150 0.168 9.466 getPermSpaceByFeatures 7.100 0.155 7.329 randomizeTx 7.090 0.063 7.943 getPermSpaceByTxID 6.842 0.108 7.166 calculateShift 5.972 0.193 6.188 getPermSpaceByType 5.628 0.080 5.822 shiftTx 5.316 0.116 5.964 extractRegions 5.230 0.087 5.341 * checking for unstated dependencies in ‘tests’ ... OK * checking tests ... Running ‘testthat.R’ OK * checking for unstated dependencies in vignettes ... OK * checking package vignettes ... OK * checking running R code from vignettes ... SKIPPED * checking re-building of vignette outputs ... SKIPPED * checking PDF version of manual ... OK * DONE Status: OK
RgnTX.Rcheck/00install.out
############################################################################## ############################################################################## ### ### Running command: ### ### /Library/Frameworks/R.framework/Resources/bin/R CMD INSTALL RgnTX ### ############################################################################## ############################################################################## * installing to library ‘/Library/Frameworks/R.framework/Versions/4.4-x86_64/Resources/library’ * installing *source* package ‘RgnTX’ ... ** using staged installation ** R ** inst ** byte-compile and prepare package for lazy loading ** help *** installing help indices ** building package indices ** installing vignettes ** testing if installed package can be loaded from temporary location ** testing if installed package can be loaded from final location ** testing if installed package keeps a record of temporary installation path * DONE (RgnTX)
RgnTX.Rcheck/tests/testthat.Rout
R version 4.4.3 (2025-02-28) -- "Trophy Case" Copyright (C) 2025 The R Foundation for Statistical Computing Platform: x86_64-apple-darwin20 R is free software and comes with ABSOLUTELY NO WARRANTY. You are welcome to redistribute it under certain conditions. Type 'license()' or 'licence()' for distribution details. R is a collaborative project with many contributors. Type 'contributors()' for more information and 'citation()' on how to cite R or R packages in publications. Type 'demo()' for some demos, 'help()' for on-line help, or 'help.start()' for an HTML browser interface to help. Type 'q()' to quit R. > library(testthat) > library(RgnTX) > > test_check("RgnTX") Loading required package: GenomicFeatures Loading required package: BiocGenerics Attaching package: 'BiocGenerics' The following objects are masked from 'package:stats': IQR, mad, sd, var, xtabs The following objects are masked from 'package:base': Filter, Find, Map, Position, Reduce, anyDuplicated, aperm, append, as.data.frame, basename, cbind, colnames, dirname, do.call, duplicated, eval, evalq, get, grep, grepl, intersect, is.unsorted, lapply, mapply, match, mget, order, paste, pmax, pmax.int, pmin, pmin.int, rank, rbind, rownames, sapply, saveRDS, setdiff, table, tapply, union, unique, unsplit, which.max, which.min Loading required package: S4Vectors Loading required package: stats4 Attaching package: 'S4Vectors' The following object is masked from 'package:utils': findMatches The following objects are masked from 'package:base': I, expand.grid, unname Loading required package: IRanges Loading required package: GenomeInfoDb Loading required package: GenomicRanges Loading required package: AnnotationDbi Loading required package: Biobase Welcome to Bioconductor Vignettes contain introductory material; view with 'browseVignettes()'. To cite Bioconductor, see 'citation("Biobase")', and for packages 'citation("pkgname")'. [ FAIL 0 | WARN 0 | SKIP 0 | PASS 42 ] > > proc.time() user system elapsed 105.294 3.005 117.716
RgnTX.Rcheck/RgnTX-Ex.timings
name | user | system | elapsed | |
GRanges2GRangesList | 1.354 | 0.019 | 1.390 | |
GRangesList2GRanges | 9.914 | 0.566 | 10.572 | |
calculateShift | 5.972 | 0.193 | 6.188 | |
distanceTx | 14.675 | 0.206 | 15.013 | |
extractRegions | 5.230 | 0.087 | 5.341 | |
getPermSpaceByFeatures | 7.100 | 0.155 | 7.329 | |
getPermSpaceByTxID | 6.842 | 0.108 | 7.166 | |
getPermSpaceByType | 5.628 | 0.080 | 5.822 | |
getStopCodon | 12.644 | 0.168 | 13.003 | |
getTransInfo | 2.471 | 0.128 | 2.618 | |
overlapCountsTx | 9.150 | 0.168 | 9.466 | |
overlapCountsTxIA | 18.273 | 0.366 | 19.139 | |
overlapWidthTx | 14.938 | 0.195 | 15.344 | |
permTestTx | 42.791 | 0.399 | 43.641 | |
permTestTxIA | 50.615 | 0.641 | 51.890 | |
permTestTxIA_customPick | 52.433 | 0.562 | 54.171 | |
permTestTx_customAll | 33.895 | 0.294 | 34.949 | |
permTestTx_customPick | 35.921 | 0.368 | 39.052 | |
plotPermResults | 1.177 | 0.014 | 1.301 | |
plotShiftedZScoreTx | 0.370 | 0.007 | 0.397 | |
randomizeFeaturesTx | 15.093 | 0.193 | 16.131 | |
randomizeFeaturesTxIA | 9.297 | 0.142 | 10.493 | |
randomizeTransByOrder | 9.570 | 0.085 | 10.393 | |
randomizeTx | 7.090 | 0.063 | 7.943 | |
shiftTx | 5.316 | 0.116 | 5.964 | |
shiftedZScoreTx | 86.212 | 1.208 | 98.728 | |