Back to Multiple platform build/check report for BioC 3.20: simplified long |
|
This page was generated on 2025-04-02 19:34 -0400 (Wed, 02 Apr 2025).
Hostname | OS | Arch (*) | R version | Installed pkgs |
---|---|---|---|---|
nebbiolo2 | Linux (Ubuntu 24.04.1 LTS) | x86_64 | 4.4.3 (2025-02-28) -- "Trophy Case" | 4764 |
palomino8 | Windows Server 2022 Datacenter | x64 | 4.4.3 (2025-02-28 ucrt) -- "Trophy Case" | 4495 |
merida1 | macOS 12.7.5 Monterey | x86_64 | 4.4.3 (2025-02-28) -- "Trophy Case" | 4522 |
kjohnson1 | macOS 13.6.6 Ventura | arm64 | 4.4.3 (2025-02-28) -- "Trophy Case" | 4449 |
taishan | Linux (openEuler 24.03 LTS) | aarch64 | 4.4.3 (2025-02-28) -- "Trophy Case" | 4426 |
Click on any hostname to see more info about the system (e.g. compilers) (*) as reported by 'uname -p', except on Windows and Mac OS X |
Package 1553/2289 | Hostname | OS / Arch | INSTALL | BUILD | CHECK | BUILD BIN | ||||||||
Pigengene 1.32.0 (landing page) Habil Zare
| nebbiolo2 | Linux (Ubuntu 24.04.1 LTS) / x86_64 | OK | OK | OK | ![]() | ||||||||
palomino8 | Windows Server 2022 Datacenter / x64 | OK | OK | OK | OK | ![]() | ||||||||
merida1 | macOS 12.7.5 Monterey / x86_64 | OK | OK | OK | OK | ![]() | ||||||||
kjohnson1 | macOS 13.6.6 Ventura / arm64 | OK | OK | OK | OK | ![]() | ||||||||
taishan | Linux (openEuler 24.03 LTS) / aarch64 | OK | OK | OK | ||||||||||
To the developers/maintainers of the Pigengene package: - Allow up to 24 hours (and sometimes 48 hours) for your latest push to git@git.bioconductor.org:packages/Pigengene.git to reflect on this report. See Troubleshooting Build Report for more information. - Use the following Renviron settings to reproduce errors and warnings. - If 'R CMD check' started to fail recently on the Linux builder(s) over a missing dependency, add the missing dependency to 'Suggests:' in your DESCRIPTION file. See Renviron.bioc for more information. |
Package: Pigengene |
Version: 1.32.0 |
Command: /Library/Frameworks/R.framework/Resources/bin/R CMD check --install=check:Pigengene.install-out.txt --library=/Library/Frameworks/R.framework/Resources/library --no-vignettes --timings Pigengene_1.32.0.tar.gz |
StartedAt: 2025-04-02 04:14:43 -0400 (Wed, 02 Apr 2025) |
EndedAt: 2025-04-02 04:27:46 -0400 (Wed, 02 Apr 2025) |
EllapsedTime: 782.2 seconds |
RetCode: 0 |
Status: OK |
CheckDir: Pigengene.Rcheck |
Warnings: 0 |
############################################################################## ############################################################################## ### ### Running command: ### ### /Library/Frameworks/R.framework/Resources/bin/R CMD check --install=check:Pigengene.install-out.txt --library=/Library/Frameworks/R.framework/Resources/library --no-vignettes --timings Pigengene_1.32.0.tar.gz ### ############################################################################## ############################################################################## * using log directory ‘/Users/biocbuild/bbs-3.20-bioc/meat/Pigengene.Rcheck’ * using R version 4.4.3 (2025-02-28) * using platform: aarch64-apple-darwin20 * R was compiled by Apple clang version 14.0.0 (clang-1400.0.29.202) GNU Fortran (GCC) 12.2.0 * running under: macOS Ventura 13.7.1 * using session charset: UTF-8 * using option ‘--no-vignettes’ * checking for file ‘Pigengene/DESCRIPTION’ ... OK * checking extension type ... Package * this is package ‘Pigengene’ version ‘1.32.0’ * checking package namespace information ... OK * checking package dependencies ... OK * checking if this is a source package ... OK * checking if there is a namespace ... OK * checking for hidden files and directories ... OK * checking for portable file names ... OK * checking for sufficient/correct file permissions ... OK * checking whether package ‘Pigengene’ can be installed ... OK * checking installed package size ... OK * checking package directory ... OK * checking ‘build’ directory ... OK * checking DESCRIPTION meta-information ... OK * checking top-level files ... OK * checking for left-over files ... OK * checking index information ... OK * checking package subdirectories ... OK * checking code files for non-ASCII characters ... OK * checking R files for syntax errors ... OK * checking whether the package can be loaded ... OK * checking whether the package can be loaded with stated dependencies ... OK * checking whether the package can be unloaded cleanly ... OK * checking whether the namespace can be loaded with stated dependencies ... OK * checking whether the namespace can be unloaded cleanly ... OK * checking dependencies in R code ... NOTE 'library' or 'require' calls in package code: ‘AnnotationDbi’ ‘biomaRt’ ‘energy’ ‘org.Hs.eg.db’ ‘org.Mm.eg.db’ Please use :: or requireNamespace() instead. See section 'Suggested packages' in the 'Writing R Extensions' manual. * checking S3 generic/method consistency ... OK * checking replacement functions ... OK * checking foreign function calls ... OK * checking R code for possible problems ... NOTE Found the following possibly unsafe calls: File ‘Pigengene/R/bn.calculation.R’: assignInNamespace("supported.clusters", fixArgs, "bnlearn") one.step.pigengene: no visible binding for global variable ‘org.Hs.eg.db’ Undefined global functions or variables: org.Hs.eg.db * checking Rd files ... NOTE checkRd: (-1) draw.bn.Rd:47: Lost braces 47 | rename the nodes name. See code{rename.node}.} | ^ checkRd: (-1) eigengenes33.Rd:21-22: Lost braces 21 | {A 202 by 34 matrix. | ^ checkRd: (-1) eigengenes33.Rd:25: Lost braces; missing escapes or markup? 25 | {A 164 by 34 matrix for MDS cases with columns similar to aml.} | ^ checkRd: (-1) eigengenes33.Rd:28: Lost braces; missing escapes or markup? 28 | {A numeric vector of length 9166 labeling members of each module. Named by Entrez ID.} | ^ checkRd: (-1) pigengene-class.Rd:25-26: Lost braces in \itemize; meant \describe ? checkRd: (-1) pigengene-class.Rd:27-29: Lost braces in \itemize; meant \describe ? checkRd: (-1) pigengene-class.Rd:30-39: Lost braces in \itemize; meant \describe ? checkRd: (-1) pigengene-class.Rd:40-41: Lost braces in \itemize; meant \describe ? checkRd: (-1) pigengene-class.Rd:42-44: Lost braces in \itemize; meant \describe ? checkRd: (-1) pigengene-class.Rd:45-47: Lost braces in \itemize; meant \describe ? checkRd: (-1) pigengene-class.Rd:48-49: Lost braces in \itemize; meant \describe ? checkRd: (-1) pigengene-class.Rd:50-52: Lost braces in \itemize; meant \describe ? checkRd: (-1) pigengene-class.Rd:53-55: Lost braces in \itemize; meant \describe ? checkRd: (-1) pigengene-class.Rd:56-57: Lost braces in \itemize; meant \describe ? checkRd: (-1) pigengene-class.Rd:58-59: Lost braces in \itemize; meant \describe ? checkRd: (-1) pigengene-class.Rd:60-63: Lost braces in \itemize; meant \describe ? checkRd: (-1) pigengene-class.Rd:64-68: Lost braces in \itemize; meant \describe ? checkRd: (-1) pigengene-class.Rd:73-76: Lost braces in \itemize; meant \describe ? checkRd: (-1) pigengene-class.Rd:77-79: Lost braces in \itemize; meant \describe ? * checking Rd metadata ... OK * checking Rd cross-references ... OK * checking for missing documentation entries ... OK * checking for code/documentation mismatches ... OK * checking Rd \usage sections ... OK * checking Rd contents ... OK * checking for unstated dependencies in examples ... OK * checking contents of ‘data’ directory ... OK * checking data for non-ASCII characters ... OK * checking data for ASCII and uncompressed saves ... OK * checking sizes of PDF files under ‘inst/doc’ ... OK * checking files in ‘vignettes’ ... OK * checking examples ... OK Examples with CPU (user + system) or elapsed time > 5s user system elapsed one.step.pigengene 101.420 2.895 104.582 Pigengene-package 96.826 2.642 99.770 get.enriched.pw 82.066 5.305 88.255 module.heatmap 37.328 2.441 39.873 learn.bn 19.936 0.326 20.326 make.filter 18.726 0.443 19.235 apply.filter 16.619 0.347 16.990 compute.pigengene 15.768 0.879 16.702 combine.networks 15.663 0.115 15.830 wgcna.one.step 15.171 0.066 15.300 determine.modules 14.070 0.081 14.225 make.decision.tree 12.827 0.989 13.842 compact.tree 12.568 1.111 13.727 pigengene 8.921 0.587 9.563 plot.pigengene 8.710 0.438 9.203 gene.mapping 8.123 0.769 59.983 project.eigen 7.816 0.483 8.345 * checking for unstated dependencies in vignettes ... OK * checking package vignettes ... OK * checking running R code from vignettes ... SKIPPED * checking re-building of vignette outputs ... SKIPPED * checking PDF version of manual ... OK * DONE Status: 3 NOTEs See ‘/Users/biocbuild/bbs-3.20-bioc/meat/Pigengene.Rcheck/00check.log’ for details.
Pigengene.Rcheck/00install.out
############################################################################## ############################################################################## ### ### Running command: ### ### /Library/Frameworks/R.framework/Resources/bin/R CMD INSTALL Pigengene ### ############################################################################## ############################################################################## * installing to library ‘/Library/Frameworks/R.framework/Versions/4.4-arm64/Resources/library’ * installing *source* package ‘Pigengene’ ... ** using staged installation ** R ** data ** inst ** byte-compile and prepare package for lazy loading ** help *** installing help indices ** building package indices ** installing vignettes ** testing if installed package can be loaded from temporary location ** testing if installed package can be loaded from final location ** testing if installed package keeps a record of temporary installation path * DONE (Pigengene)
Pigengene.Rcheck/Pigengene-Ex.timings
name | user | system | elapsed | |
Pigengene-package | 96.826 | 2.642 | 99.770 | |
aml | 0.159 | 0.009 | 0.171 | |
apply.filter | 16.619 | 0.347 | 16.990 | |
balance | 0.260 | 0.051 | 0.311 | |
calculate.beta | 0.888 | 0.033 | 0.935 | |
check.nas | 0.067 | 0.004 | 0.072 | |
check.pigengene.input | 0.067 | 0.004 | 0.070 | |
combine.networks | 15.663 | 0.115 | 15.830 | |
compact.tree | 12.568 | 1.111 | 13.727 | |
compute.pigengene | 15.768 | 0.879 | 16.702 | |
dcor.matrix | 0.179 | 0.030 | 0.209 | |
determine.modules | 14.070 | 0.081 | 14.225 | |
draw.bn | 0 | 0 | 0 | |
eigengenes33 | 0.064 | 0.004 | 0.068 | |
gene.mapping | 8.123 | 0.769 | 59.983 | |
get.enriched.pw | 82.066 | 5.305 | 88.255 | |
get.fitted.leaf | 0.634 | 0.030 | 0.665 | |
get.genes | 0.585 | 0.029 | 0.618 | |
get.used.features | 0.603 | 0.031 | 0.633 | |
learn.bn | 19.936 | 0.326 | 20.326 | |
make.decision.tree | 12.827 | 0.989 | 13.842 | |
make.filter | 18.726 | 0.443 | 19.235 | |
mds | 0.149 | 0.010 | 0.158 | |
message.if | 0 | 0 | 0 | |
module.heatmap | 37.328 | 2.441 | 39.873 | |
one.step.pigengene | 101.420 | 2.895 | 104.582 | |
pheatmap.type | 0.213 | 0.008 | 0.222 | |
pigengene | 8.921 | 0.587 | 9.563 | |
plot.pigengene | 8.710 | 0.438 | 9.203 | |
preds.at | 0.720 | 0.068 | 0.799 | |
project.eigen | 7.816 | 0.483 | 8.345 | |
pvalues.manova | 0.061 | 0.007 | 0.069 | |
save.if | 0.991 | 0.019 | 1.010 | |
wgcna.one.step | 15.171 | 0.066 | 15.300 | |