Back to Multiple platform build/check report for BioC 3.20:   simplified   long
ABCDEFGH[I]JKLMNOPQRSTUVWXYZ

This page was generated on 2025-04-02 19:32 -0400 (Wed, 02 Apr 2025).

HostnameOSArch (*)R versionInstalled pkgs
nebbiolo2Linux (Ubuntu 24.04.1 LTS)x86_644.4.3 (2025-02-28) -- "Trophy Case" 4764
palomino8Windows Server 2022 Datacenterx644.4.3 (2025-02-28 ucrt) -- "Trophy Case" 4495
merida1macOS 12.7.5 Montereyx86_644.4.3 (2025-02-28) -- "Trophy Case" 4522
kjohnson1macOS 13.6.6 Venturaarm644.4.3 (2025-02-28) -- "Trophy Case" 4449
taishanLinux (openEuler 24.03 LTS)aarch644.4.3 (2025-02-28) -- "Trophy Case" 4426
Click on any hostname to see more info about the system (e.g. compilers)      (*) as reported by 'uname -p', except on Windows and Mac OS X

Package 1033/2289HostnameOS / ArchINSTALLBUILDCHECKBUILD BIN
INSPEcT 1.36.0  (landing page)
Stefano de Pretis
Snapshot Date: 2025-03-31 13:00 -0400 (Mon, 31 Mar 2025)
git_url: https://git.bioconductor.org/packages/INSPEcT
git_branch: RELEASE_3_20
git_last_commit: ce54116
git_last_commit_date: 2024-10-29 10:02:14 -0400 (Tue, 29 Oct 2024)
nebbiolo2Linux (Ubuntu 24.04.1 LTS) / x86_64  OK    OK    OK  UNNEEDED, same version is already published
palomino8Windows Server 2022 Datacenter / x64  OK    OK    OK    OK  UNNEEDED, same version is already published
merida1macOS 12.7.5 Monterey / x86_64  OK    OK    OK    OK  UNNEEDED, same version is already published
kjohnson1macOS 13.6.6 Ventura / arm64  OK    OK    OK    OK  UNNEEDED, same version is already published
taishanLinux (openEuler 24.03 LTS) / aarch64  OK    OK    OK  


CHECK results for INSPEcT on merida1

To the developers/maintainers of the INSPEcT package:
- Allow up to 24 hours (and sometimes 48 hours) for your latest push to git@git.bioconductor.org:packages/INSPEcT.git to reflect on this report. See Troubleshooting Build Report for more information.
- Use the following Renviron settings to reproduce errors and warnings.
- If 'R CMD check' started to fail recently on the Linux builder(s) over a missing dependency, add the missing dependency to 'Suggests:' in your DESCRIPTION file. See Renviron.bioc for more information.

raw results


Summary

Package: INSPEcT
Version: 1.36.0
Command: /Library/Frameworks/R.framework/Resources/bin/R CMD check --install=check:INSPEcT.install-out.txt --library=/Library/Frameworks/R.framework/Resources/library --no-vignettes --timings INSPEcT_1.36.0.tar.gz
StartedAt: 2025-04-01 04:31:23 -0400 (Tue, 01 Apr 2025)
EndedAt: 2025-04-01 05:02:17 -0400 (Tue, 01 Apr 2025)
EllapsedTime: 1854.3 seconds
RetCode: 0
Status:   OK  
CheckDir: INSPEcT.Rcheck
Warnings: 0

Command output

##############################################################################
##############################################################################
###
### Running command:
###
###   /Library/Frameworks/R.framework/Resources/bin/R CMD check --install=check:INSPEcT.install-out.txt --library=/Library/Frameworks/R.framework/Resources/library --no-vignettes --timings INSPEcT_1.36.0.tar.gz
###
##############################################################################
##############################################################################


* using log directory ‘/Users/biocbuild/bbs-3.20-bioc/meat/INSPEcT.Rcheck’
* using R version 4.4.3 (2025-02-28)
* using platform: x86_64-apple-darwin20
* R was compiled by
    Apple clang version 14.0.0 (clang-1400.0.29.202)
    GNU Fortran (GCC) 12.2.0
* running under: macOS Monterey 12.7.6
* using session charset: UTF-8
* using option ‘--no-vignettes’
* checking for file ‘INSPEcT/DESCRIPTION’ ... OK
* checking extension type ... Package
* this is package ‘INSPEcT’ version ‘1.36.0’
* checking package namespace information ... OK
* checking package dependencies ... OK
* checking if this is a source package ... OK
* checking if there is a namespace ... OK
* checking for hidden files and directories ... OK
* checking for portable file names ... OK
* checking for sufficient/correct file permissions ... OK
* checking whether package ‘INSPEcT’ can be installed ... OK
* checking installed package size ... NOTE
  installed size is  7.1Mb
  sub-directories of 1Mb or more:
    R      1.8Mb
    data   2.8Mb
* checking package directory ... OK
* checking ‘build’ directory ... OK
* checking DESCRIPTION meta-information ... OK
* checking top-level files ... OK
* checking for left-over files ... OK
* checking index information ... OK
* checking package subdirectories ... OK
* checking code files for non-ASCII characters ... OK
* checking R files for syntax errors ... OK
* checking whether the package can be loaded ... OK
* checking whether the package can be loaded with stated dependencies ... OK
* checking whether the package can be unloaded cleanly ... OK
* checking whether the namespace can be loaded with stated dependencies ... OK
* checking whether the namespace can be unloaded cleanly ... OK
* checking dependencies in R code ... OK
* checking S3 generic/method consistency ... OK
* checking replacement functions ... OK
* checking foreign function calls ... OK
* checking R code for possible problems ... NOTE
output_pars: no visible global function definition for ‘plot.new’
plotSingleRNADynamic: no visible global function definition for ‘lines’
Undefined global functions or variables:
  lines plot.new
Consider adding
  importFrom("graphics", "lines", "plot.new")
to your NAMESPACE file.
* checking Rd files ... OK
* checking Rd metadata ... OK
* checking Rd cross-references ... OK
* checking for missing documentation entries ... OK
* checking for code/documentation mismatches ... OK
* checking Rd \usage sections ... OK
* checking Rd contents ... OK
* checking for unstated dependencies in examples ... OK
* checking contents of ‘data’ directory ... OK
* checking data for non-ASCII characters ... OK
* checking data for ASCII and uncompressed saves ... OK
* checking files in ‘vignettes’ ... OK
* checking examples ... OK
Examples with CPU (user + system) or elapsed time > 5s
                                   user system elapsed
makeSimDataset                  226.951  0.910 238.369
modelRates                      102.244  0.400 110.578
makeSimModel                     79.278  0.356  83.792
rocCurve                         78.064  0.389  83.981
rocThresholds                    77.398  0.361  83.374
quantifyExpressionsFromBAMs      70.588  5.737  80.720
INSPEcT_diffsteady-class         71.790  0.571  79.120
plotMA                           66.075  0.440  74.363
compareSteady                    65.667  0.283  68.351
newINSPEcT                       42.328  0.228  49.740
processingDelay                  35.207  0.303  40.116
quantifyExpressionsFromTrCounts  35.198  0.165  37.419
makeOscillatorySimModel          18.976  0.132  19.543
inspectFromPCR                   18.095  0.058  18.315
compareSteadyNoNascent           13.800  0.067  14.115
modelRatesNF                     11.506  0.173  12.781
* checking for unstated dependencies in vignettes ... OK
* checking package vignettes ... OK
* checking running R code from vignettes ... SKIPPED
* checking re-building of vignette outputs ... SKIPPED
* checking PDF version of manual ... OK
* DONE

Status: 2 NOTEs
See
  ‘/Users/biocbuild/bbs-3.20-bioc/meat/INSPEcT.Rcheck/00check.log’
for details.


Installation output

INSPEcT.Rcheck/00install.out

##############################################################################
##############################################################################
###
### Running command:
###
###   /Library/Frameworks/R.framework/Resources/bin/R CMD INSTALL INSPEcT
###
##############################################################################
##############################################################################


* installing to library ‘/Library/Frameworks/R.framework/Versions/4.4-x86_64/Resources/library’
* installing *source* package ‘INSPEcT’ ...
** using staged installation
** R
** data
** inst
** byte-compile and prepare package for lazy loading
** help
*** installing help indices
** building package indices
** installing vignettes
** testing if installed package can be loaded from temporary location
** testing if installed package can be loaded from final location
** testing if installed package keeps a record of temporary installation path
* DONE (INSPEcT)

Tests output


Example timings

INSPEcT.Rcheck/INSPEcT-Ex.timings

nameusersystemelapsed
AIC-INSPEcT-method0.3640.0200.462
Extract0.7870.0100.874
INSPEcT_diffsteady-class71.790 0.57179.120
calculateRatePvals0.4780.0080.528
chisqmodel0.3590.0090.393
chisqtest0.3520.0090.389
combine0.7760.0080.831
compareSteady65.667 0.28368.351
compareSteadyNoNascent13.800 0.06714.115
convergence0.3340.0070.342
geneClass0.4770.0070.484
inHeatmap0.4050.0060.414
inspectFromPCR18.095 0.05818.315
labeledSF0.3600.0060.367
logLik0.3570.0090.371
makeModelRates0.4770.0120.495
makeOscillatorySimModel18.976 0.13219.543
makeSimDataset226.951 0.910238.369
makeSimModel79.278 0.35683.792
modelRates102.244 0.400110.578
modelRatesNF11.506 0.17312.781
modelSelection0.3500.0080.393
modelingParams0.3560.0050.403
nGenes0.3530.0070.391
nTpts0.3480.0070.390
newINSPEcT42.328 0.22849.740
plotGene0.4460.0080.600
plotMA66.075 0.44074.363
processingDelay35.207 0.30340.116
quantifyExpressionsFromBAMs70.588 5.73780.720
quantifyExpressionsFromTrCounts35.198 0.16537.419
ratePvals0.3560.0040.364
ratesFirstGuess0.3560.0120.398
ratesFirstGuessVar0.3570.0120.381
removeModel0.5900.0040.616
rocCurve78.064 0.38983.981
rocThresholds77.398 0.36183.374
split0.5520.0040.588
tpts0.3500.0040.374
viewConfidenceIntervals0.3540.0140.378
viewModelRates0.3530.0070.362