Back to Multiple platform build/check report for BioC 3.20: simplified long |
|
This page was generated on 2025-04-02 19:34 -0400 (Wed, 02 Apr 2025).
Hostname | OS | Arch (*) | R version | Installed pkgs |
---|---|---|---|---|
nebbiolo2 | Linux (Ubuntu 24.04.1 LTS) | x86_64 | 4.4.3 (2025-02-28) -- "Trophy Case" | 4764 |
palomino8 | Windows Server 2022 Datacenter | x64 | 4.4.3 (2025-02-28 ucrt) -- "Trophy Case" | 4495 |
merida1 | macOS 12.7.5 Monterey | x86_64 | 4.4.3 (2025-02-28) -- "Trophy Case" | 4522 |
kjohnson1 | macOS 13.6.6 Ventura | arm64 | 4.4.3 (2025-02-28) -- "Trophy Case" | 4449 |
taishan | Linux (openEuler 24.03 LTS) | aarch64 | 4.4.3 (2025-02-28) -- "Trophy Case" | 4426 |
Click on any hostname to see more info about the system (e.g. compilers) (*) as reported by 'uname -p', except on Windows and Mac OS X |
Package 820/2289 | Hostname | OS / Arch | INSTALL | BUILD | CHECK | BUILD BIN | ||||||||
GenomicDataCommons 1.30.1 (landing page) Sean Davis
| nebbiolo2 | Linux (Ubuntu 24.04.1 LTS) / x86_64 | OK | OK | OK | ![]() | ||||||||
palomino8 | Windows Server 2022 Datacenter / x64 | OK | OK | OK | OK | ![]() | ||||||||
merida1 | macOS 12.7.5 Monterey / x86_64 | OK | OK | OK | OK | ![]() | ||||||||
kjohnson1 | macOS 13.6.6 Ventura / arm64 | OK | OK | ERROR | OK | |||||||||
taishan | Linux (openEuler 24.03 LTS) / aarch64 | OK | OK | OK | ||||||||||
To the developers/maintainers of the GenomicDataCommons package: - Allow up to 24 hours (and sometimes 48 hours) for your latest push to git@git.bioconductor.org:packages/GenomicDataCommons.git to reflect on this report. See Troubleshooting Build Report for more information. - Use the following Renviron settings to reproduce errors and warnings. - If 'R CMD check' started to fail recently on the Linux builder(s) over a missing dependency, add the missing dependency to 'Suggests:' in your DESCRIPTION file. See Renviron.bioc for more information. |
Package: GenomicDataCommons |
Version: 1.30.1 |
Command: /Library/Frameworks/R.framework/Resources/bin/R CMD check --install=check:GenomicDataCommons.install-out.txt --library=/Library/Frameworks/R.framework/Resources/library --no-vignettes --timings GenomicDataCommons_1.30.1.tar.gz |
StartedAt: 2025-04-01 20:12:49 -0400 (Tue, 01 Apr 2025) |
EndedAt: 2025-04-01 20:14:40 -0400 (Tue, 01 Apr 2025) |
EllapsedTime: 111.1 seconds |
RetCode: 1 |
Status: ERROR |
CheckDir: GenomicDataCommons.Rcheck |
Warnings: NA |
############################################################################## ############################################################################## ### ### Running command: ### ### /Library/Frameworks/R.framework/Resources/bin/R CMD check --install=check:GenomicDataCommons.install-out.txt --library=/Library/Frameworks/R.framework/Resources/library --no-vignettes --timings GenomicDataCommons_1.30.1.tar.gz ### ############################################################################## ############################################################################## * using log directory ‘/Users/biocbuild/bbs-3.20-bioc/meat/GenomicDataCommons.Rcheck’ * using R version 4.4.3 (2025-02-28) * using platform: aarch64-apple-darwin20 * R was compiled by Apple clang version 14.0.0 (clang-1400.0.29.202) GNU Fortran (GCC) 12.2.0 * running under: macOS Ventura 13.7.1 * using session charset: UTF-8 * using option ‘--no-vignettes’ * checking for file ‘GenomicDataCommons/DESCRIPTION’ ... OK * checking extension type ... Package * this is package ‘GenomicDataCommons’ version ‘1.30.1’ * package encoding: UTF-8 * checking package namespace information ... OK * checking package dependencies ... OK * checking if this is a source package ... OK * checking if there is a namespace ... OK * checking for hidden files and directories ... OK * checking for portable file names ... OK * checking for sufficient/correct file permissions ... OK * checking whether package ‘GenomicDataCommons’ can be installed ... OK * checking installed package size ... OK * checking package directory ... OK * checking ‘build’ directory ... OK * checking DESCRIPTION meta-information ... OK * checking top-level files ... OK * checking for left-over files ... OK * checking index information ... OK * checking package subdirectories ... OK * checking code files for non-ASCII characters ... OK * checking R files for syntax errors ... OK * checking whether the package can be loaded ... OK * checking whether the package can be loaded with stated dependencies ... OK * checking whether the package can be unloaded cleanly ... OK * checking whether the namespace can be loaded with stated dependencies ... OK * checking whether the namespace can be unloaded cleanly ... OK * checking dependencies in R code ... OK * checking S3 generic/method consistency ... OK * checking replacement functions ... OK * checking foreign function calls ... OK * checking R code for possible problems ... OK * checking Rd files ... OK * checking Rd metadata ... OK * checking Rd cross-references ... OK * checking for missing documentation entries ... OK * checking for code/documentation mismatches ... OK * checking Rd \usage sections ... OK * checking Rd contents ... OK * checking for unstated dependencies in examples ... OK * checking R/sysdata.rda ... OK * checking files in ‘vignettes’ ... OK * checking examples ... OK * checking for unstated dependencies in ‘tests’ ... OK * checking tests ... Running ‘testthat.R’ ERROR Running the tests in ‘tests/testthat.R’ failed. Last 13 lines of output: Backtrace: ▆ 1. ├─GenomicDataCommons::gdcdata(few_file_ids) at test_data.R:31:5 2. │ └─base::mapply(...) 3. │ └─GenomicDataCommons (local) `<fn>`(...) 4. │ └─httr::GET(...) 5. │ └─httr:::request_perform(req, hu$handle$handle) 6. │ ├─httr:::request_fetch(req$output, req$url, handle) 7. │ └─httr:::request_fetch.write_disk(req$output, req$url, handle) 8. │ └─curl::curl_fetch_disk(url, x$path, handle = handle) 9. └─curl:::raise_libcurl_error(...) [ FAIL 1 | WARN 0 | SKIP 0 | PASS 44 ] Error: Test failures Execution halted * checking for unstated dependencies in vignettes ... OK * checking package vignettes ... OK * checking running R code from vignettes ... SKIPPED * checking re-building of vignette outputs ... SKIPPED * checking PDF version of manual ... OK * DONE Status: 1 ERROR See ‘/Users/biocbuild/bbs-3.20-bioc/meat/GenomicDataCommons.Rcheck/00check.log’ for details.
GenomicDataCommons.Rcheck/00install.out
############################################################################## ############################################################################## ### ### Running command: ### ### /Library/Frameworks/R.framework/Resources/bin/R CMD INSTALL GenomicDataCommons ### ############################################################################## ############################################################################## * installing to library ‘/Library/Frameworks/R.framework/Versions/4.4-arm64/Resources/library’ * installing *source* package ‘GenomicDataCommons’ ... ** using staged installation ** R ** inst ** byte-compile and prepare package for lazy loading ** help *** installing help indices ** building package indices ** installing vignettes ** testing if installed package can be loaded from temporary location ** testing if installed package can be loaded from final location ** testing if installed package keeps a record of temporary installation path * DONE (GenomicDataCommons)
GenomicDataCommons.Rcheck/tests/testthat.Rout.fail
R version 4.4.3 (2025-02-28) -- "Trophy Case" Copyright (C) 2025 The R Foundation for Statistical Computing Platform: aarch64-apple-darwin20 R is free software and comes with ABSOLUTELY NO WARRANTY. You are welcome to redistribute it under certain conditions. Type 'license()' or 'licence()' for distribution details. R is a collaborative project with many contributors. Type 'contributors()' for more information and 'citation()' on how to cite R or R packages in publications. Type 'demo()' for some demos, 'help()' for on-line help, or 'help.start()' for an HTML browser interface to help. Type 'q()' to quit R. > library(testthat) > library(GenomicDataCommons) Attaching package: 'GenomicDataCommons' The following object is masked from 'package:stats': filter > > test_check("GenomicDataCommons") [ FAIL 1 | WARN 0 | SKIP 0 | PASS 44 ] ══ Failed tests ════════════════════════════════════════════════════════════════ ── Error ('test_data.R:31:5'): gdcdata ───────────────────────────────────────── <curl_error_recv_error/curl_error/error/condition> Error in `curl::curl_fetch_disk(url, x$path, handle = handle)`: Failure when receiving data from the peer [api.gdc.cancer.gov]: Recv failure: Connection reset by peer Backtrace: ▆ 1. ├─GenomicDataCommons::gdcdata(few_file_ids) at test_data.R:31:5 2. │ └─base::mapply(...) 3. │ └─GenomicDataCommons (local) `<fn>`(...) 4. │ └─httr::GET(...) 5. │ └─httr:::request_perform(req, hu$handle$handle) 6. │ ├─httr:::request_fetch(req$output, req$url, handle) 7. │ └─httr:::request_fetch.write_disk(req$output, req$url, handle) 8. │ └─curl::curl_fetch_disk(url, x$path, handle = handle) 9. └─curl:::raise_libcurl_error(...) [ FAIL 1 | WARN 0 | SKIP 0 | PASS 44 ] Error: Test failures Execution halted
GenomicDataCommons.Rcheck/GenomicDataCommons-Ex.timings
name | user | system | elapsed | |
aggregations | 0.104 | 0.014 | 1.163 | |
available_expand | 0.017 | 0.001 | 0.133 | |
available_fields | 0.029 | 0.002 | 0.348 | |
available_values | 0.032 | 0.001 | 0.726 | |
constants | 0.000 | 0.000 | 0.001 | |
count | 0.059 | 0.003 | 0.666 | |
default_fields | 0.019 | 0.001 | 0.332 | |
entity_name | 0.026 | 0.002 | 0.256 | |
expand | 0.055 | 0.004 | 0.703 | |
faceting | 0.048 | 0.004 | 0.408 | |
field_description | 0.167 | 0.009 | 0.795 | |
filtering | 0.441 | 0.020 | 3.351 | |
gdc_cache | 0.001 | 0.001 | 0.005 | |
gdc_client | 0.005 | 0.010 | 0.025 | |
gdc_clinical | 0.571 | 0.024 | 1.786 | |
gdc_token | 0.001 | 0.000 | 0.002 | |
gdcdata | 0.193 | 0.011 | 1.474 | |
grep_fields | 0.025 | 0.002 | 0.136 | |
id_field | 0.032 | 0.001 | 0.151 | |
ids | 0.197 | 0.007 | 1.706 | |
manifest | 0.092 | 0.003 | 0.531 | |
mapping | 0.013 | 0.001 | 0.116 | |
query | 0.066 | 0.003 | 0.306 | |
readDNAcopy | 0.245 | 0.026 | 0.272 | |
readHTSeqFile | 0.048 | 0.004 | 0.051 | |
response | 0.046 | 0.002 | 0.394 | |
results | 0.046 | 0.001 | 0.384 | |
results_all | 0.051 | 0.002 | 0.666 | |
select | 0.070 | 0.004 | 1.017 | |
slicing | 0.000 | 0.000 | 0.001 | |
status | 0.010 | 0.001 | 0.136 | |
transfer | 0 | 0 | 0 | |
write_manifest | 0.060 | 0.003 | 0.619 | |