Back to Multiple platform build/check report for BioC 3.20:   simplified   long
A[B]CDEFGHIJKLMNOPQRSTUVWXYZ

This page was generated on 2025-04-02 19:33 -0400 (Wed, 02 Apr 2025).

HostnameOSArch (*)R versionInstalled pkgs
nebbiolo2Linux (Ubuntu 24.04.1 LTS)x86_644.4.3 (2025-02-28) -- "Trophy Case" 4764
palomino8Windows Server 2022 Datacenterx644.4.3 (2025-02-28 ucrt) -- "Trophy Case" 4495
merida1macOS 12.7.5 Montereyx86_644.4.3 (2025-02-28) -- "Trophy Case" 4522
kjohnson1macOS 13.6.6 Venturaarm644.4.3 (2025-02-28) -- "Trophy Case" 4449
taishanLinux (openEuler 24.03 LTS)aarch644.4.3 (2025-02-28) -- "Trophy Case" 4426
Click on any hostname to see more info about the system (e.g. compilers)      (*) as reported by 'uname -p', except on Windows and Mac OS X

Package 170/2289HostnameOS / ArchINSTALLBUILDCHECKBUILD BIN
BindingSiteFinder 2.4.0  (landing page)
Mirko Brüggemann
Snapshot Date: 2025-03-31 13:00 -0400 (Mon, 31 Mar 2025)
git_url: https://git.bioconductor.org/packages/BindingSiteFinder
git_branch: RELEASE_3_20
git_last_commit: cc4839b
git_last_commit_date: 2024-10-29 11:02:23 -0400 (Tue, 29 Oct 2024)
nebbiolo2Linux (Ubuntu 24.04.1 LTS) / x86_64  OK    OK    OK  UNNEEDED, same version is already published
palomino8Windows Server 2022 Datacenter / x64  OK    OK    OK    OK  UNNEEDED, same version is already published
merida1macOS 12.7.5 Monterey / x86_64  OK    OK    OK    OK  UNNEEDED, same version is already published
kjohnson1macOS 13.6.6 Ventura / arm64  OK    OK    OK    OK  UNNEEDED, same version is already published
taishanLinux (openEuler 24.03 LTS) / aarch64  OK    OK    ERROR  


CHECK results for BindingSiteFinder on kjohnson1

To the developers/maintainers of the BindingSiteFinder package:
- Allow up to 24 hours (and sometimes 48 hours) for your latest push to git@git.bioconductor.org:packages/BindingSiteFinder.git to reflect on this report. See Troubleshooting Build Report for more information.
- Use the following Renviron settings to reproduce errors and warnings.
- If 'R CMD check' started to fail recently on the Linux builder(s) over a missing dependency, add the missing dependency to 'Suggests:' in your DESCRIPTION file. See Renviron.bioc for more information.

raw results


Summary

Package: BindingSiteFinder
Version: 2.4.0
Command: /Library/Frameworks/R.framework/Resources/bin/R CMD check --install=check:BindingSiteFinder.install-out.txt --library=/Library/Frameworks/R.framework/Resources/library --no-vignettes --timings BindingSiteFinder_2.4.0.tar.gz
StartedAt: 2025-04-01 11:56:52 -0400 (Tue, 01 Apr 2025)
EndedAt: 2025-04-01 12:11:43 -0400 (Tue, 01 Apr 2025)
EllapsedTime: 890.6 seconds
RetCode: 0
Status:   OK  
CheckDir: BindingSiteFinder.Rcheck
Warnings: 0

Command output

##############################################################################
##############################################################################
###
### Running command:
###
###   /Library/Frameworks/R.framework/Resources/bin/R CMD check --install=check:BindingSiteFinder.install-out.txt --library=/Library/Frameworks/R.framework/Resources/library --no-vignettes --timings BindingSiteFinder_2.4.0.tar.gz
###
##############################################################################
##############################################################################


* using log directory ‘/Users/biocbuild/bbs-3.20-bioc/meat/BindingSiteFinder.Rcheck’
* using R version 4.4.3 (2025-02-28)
* using platform: aarch64-apple-darwin20
* R was compiled by
    Apple clang version 14.0.0 (clang-1400.0.29.202)
    GNU Fortran (GCC) 12.2.0
* running under: macOS Ventura 13.7.1
* using session charset: UTF-8
* using option ‘--no-vignettes’
* checking for file ‘BindingSiteFinder/DESCRIPTION’ ... OK
* checking extension type ... Package
* this is package ‘BindingSiteFinder’ version ‘2.4.0’
* package encoding: UTF-8
* checking package namespace information ... OK
* checking package dependencies ... OK
* checking if this is a source package ... OK
* checking if there is a namespace ... OK
* checking for hidden files and directories ... OK
* checking for portable file names ... OK
* checking for sufficient/correct file permissions ... OK
* checking whether package ‘BindingSiteFinder’ can be installed ... OK
* checking installed package size ... OK
* checking package directory ... OK
* checking ‘build’ directory ... OK
* checking DESCRIPTION meta-information ... OK
* checking top-level files ... OK
* checking for left-over files ... OK
* checking index information ... OK
* checking package subdirectories ... OK
* checking code files for non-ASCII characters ... OK
* checking R files for syntax errors ... OK
* checking whether the package can be loaded ... OK
* checking whether the package can be loaded with stated dependencies ... OK
* checking whether the package can be unloaded cleanly ... OK
* checking whether the namespace can be loaded with stated dependencies ... OK
* checking whether the namespace can be unloaded cleanly ... OK
* checking dependencies in R code ... OK
* checking S3 generic/method consistency ... OK
* checking replacement functions ... OK
* checking foreign function calls ... OK
* checking R code for possible problems ... OK
* checking Rd files ... OK
* checking Rd metadata ... OK
* checking Rd cross-references ... OK
* checking for missing documentation entries ... OK
* checking for code/documentation mismatches ... OK
* checking Rd \usage sections ... OK
* checking Rd contents ... OK
* checking for unstated dependencies in examples ... OK
* checking files in ‘vignettes’ ... OK
* checking examples ... OK
Examples with CPU (user + system) or elapsed time > 5s
                             user system elapsed
quickFigure                31.216  0.461  32.041
processingStepsFlowChart   29.684  0.586  30.700
BSFind                     29.650  0.518  30.566
bindingSiteDefinednessPlot 26.682  0.695  27.774
calculateBsFoldChange      20.899  0.493  21.797
plotBsMA                   13.627  0.236  14.101
plotBsVolcano              12.279  0.202  12.681
bindingSiteCoveragePlot    11.395  0.312  11.964
estimateBsWidth            10.992  0.347  11.403
estimateBsWidthPlot         8.909  0.374   9.414
plotBsBackgroundFilter      5.247  0.210   5.550
rangeCoveragePlot           5.237  0.179   5.483
calculateBsBackground       4.938  0.137   5.170
* checking for unstated dependencies in ‘tests’ ... OK
* checking tests ...
  Running ‘testthat.R’
 OK
* checking for unstated dependencies in vignettes ... OK
* checking package vignettes ... OK
* checking running R code from vignettes ... SKIPPED
* checking re-building of vignette outputs ... SKIPPED
* checking PDF version of manual ... OK
* DONE

Status: OK


Installation output

BindingSiteFinder.Rcheck/00install.out

##############################################################################
##############################################################################
###
### Running command:
###
###   /Library/Frameworks/R.framework/Resources/bin/R CMD INSTALL BindingSiteFinder
###
##############################################################################
##############################################################################


* installing to library ‘/Library/Frameworks/R.framework/Versions/4.4-arm64/Resources/library’
* installing *source* package ‘BindingSiteFinder’ ...
** using staged installation
** R
** inst
** byte-compile and prepare package for lazy loading
** help
*** installing help indices
** building package indices
** installing vignettes
** testing if installed package can be loaded from temporary location
** testing if installed package can be loaded from final location
** testing if installed package keeps a record of temporary installation path
* DONE (BindingSiteFinder)

Tests output

BindingSiteFinder.Rcheck/tests/testthat.Rout


R version 4.4.3 (2025-02-28) -- "Trophy Case"
Copyright (C) 2025 The R Foundation for Statistical Computing
Platform: aarch64-apple-darwin20

R is free software and comes with ABSOLUTELY NO WARRANTY.
You are welcome to redistribute it under certain conditions.
Type 'license()' or 'licence()' for distribution details.

R is a collaborative project with many contributors.
Type 'contributors()' for more information and
'citation()' on how to cite R or R packages in publications.

Type 'demo()' for some demos, 'help()' for on-line help, or
'help.start()' for an HTML browser interface to help.
Type 'q()' to quit R.

> library("testthat")
> library("BindingSiteFinder")
Loading required package: GenomicRanges
Loading required package: stats4
Loading required package: BiocGenerics

Attaching package: 'BiocGenerics'

The following objects are masked from 'package:stats':

    IQR, mad, sd, var, xtabs

The following objects are masked from 'package:base':

    Filter, Find, Map, Position, Reduce, anyDuplicated, aperm, append,
    as.data.frame, basename, cbind, colnames, dirname, do.call,
    duplicated, eval, evalq, get, grep, grepl, intersect, is.unsorted,
    lapply, mapply, match, mget, order, paste, pmax, pmax.int, pmin,
    pmin.int, rank, rbind, rownames, sapply, saveRDS, setdiff, table,
    tapply, union, unique, unsplit, which.max, which.min

Loading required package: S4Vectors

Attaching package: 'S4Vectors'

The following object is masked from 'package:utils':

    findMatches

The following objects are masked from 'package:base':

    I, expand.grid, unname

Loading required package: IRanges
Loading required package: GenomeInfoDb
> test_check("BindingSiteFinder")
[1] "make bs"
[1] "calc ratio"
[1] "make bs"
[1] "calc ratio"
[ FAIL 0 | WARN 1 | SKIP 0 | PASS 239 ]

[ FAIL 0 | WARN 1 | SKIP 0 | PASS 239 ]
> 
> proc.time()
   user  system elapsed 
284.821   5.957 294.796 

Example timings

BindingSiteFinder.Rcheck/BindingSiteFinder-Ex.timings

nameusersystemelapsed
BSFDataSet0.1950.0090.207
BSFind29.650 0.51830.566
add-BSFDataSet1.9560.0532.040
annotateWithScore1.5270.0201.563
assignToGenes2.1310.0272.177
assignToTranscriptRegions2.0960.0272.140
bindingSiteCoveragePlot11.395 0.31211.964
bindingSiteDefinednessPlot26.682 0.69527.774
calculateBsBackground4.9380.1375.170
calculateBsFoldChange20.899 0.49321.797
calculateSignalToFlankScore1.5650.0781.687
clipCoverage1.9020.0501.964
collapseReplicates0.1910.0150.207
combineBSF3.1690.1163.295
coverageOverRanges1.1390.0561.198
duplicatedSitesPlot0.5980.0110.609
estimateBsWidth10.992 0.34711.403
estimateBsWidthPlot8.9090.3749.414
exportTargetGenes0.0290.0030.035
exportToBED0.0300.0030.035
filterBsBackground3.9020.0904.041
geneOverlapsPlot2.4630.0442.530
getMeta0.0340.0020.036
getName0.0620.0030.068
getRanges0.0520.0020.055
getSignal0.0740.0020.076
getSummary1.2630.0121.287
globalScorePlot1.5460.0371.606
imputeBsDifferencesForTestdata2.2360.0342.277
makeBindingSites2.5970.0332.647
makeBsSummaryPlot1.3510.0211.374
mergeCrosslinkDiagnosticsPlot1.5110.0161.532
mergeSummaryPlot3.9630.0494.018
plotBsBackgroundFilter5.2470.2105.550
plotBsMA13.627 0.23614.101
plotBsVolcano12.279 0.20212.681
processingStepsFlowChart29.684 0.58630.700
processingStepsTable0.0720.0050.076
pureClipGeneWiseFilter0.3800.0110.393
pureClipGlobalFilter0.0680.0030.071
pureClipGlobalFilterPlot0.2840.0070.292
quickFigure31.216 0.46132.041
rangeCoveragePlot5.2370.1795.483
reproducibilityCutoffPlot2.5220.0912.637
reproducibilityFilter1.7290.0661.808
reproducibilityFilterPlot2.0080.0412.081
reproducibilitySamplesPlot1.5120.0341.572
reproducibilityScatterPlot3.8530.0524.051
setMeta0.0350.0020.037
setName0.0320.0020.034
setRanges0.0590.0030.089
setSignal0.0610.0020.064
setSummary0.0340.0030.038
show0.0320.0030.035
subset-BSFDataSet0.0450.0030.049
summary0.0570.0040.063
supportRatio3.5480.0703.692
supportRatioPlot3.5990.0553.745
targetGeneSpectrumPlot2.3880.0302.482
transcriptRegionOverlapsPlot2.8160.0442.916
transcriptRegionSpectrumPlot2.7430.0392.834