##############################################################################
##############################################################################
###
### Running command:
###
### cd HIVcDNAvantWout03.buildbin-libdir/HIVcDNAvantWout03 && zip -r ../../HIVcDNAvantWout03_1.10.0.zip . & cd ../..
###
##############################################################################
##############################################################################
adding: data/ (208 bytes security) (stored 0%)
adding: data/datalist (188 bytes security) (deflated 11%)
adding: data/hiv1raw (188 bytes security) (deflated 67%)
adding: data/hiv1raw.R (188 bytes security) (deflated 7%)
adding: data/hiv2raw (188 bytes security) (deflated 65%)
adding: data/hiv2raw.R (188 bytes security) (deflated 7%)
adding: DESCRIPTION (188 bytes security) (deflated 47%)
adding: help/ (208 bytes security) (stored 0%)
adding: help/aliases.rds (188 bytes security) (deflated 1%)
adding: help/AnIndex (188 bytes security) (deflated 35%)
adding: help/HIVcDNAvantWout03.rdb (188 bytes security) (deflated 1%)
adding: help/HIVcDNAvantWout03.rdx (188 bytes security) (stored 0%)
adding: help/paths.rds (188 bytes security) (stored 0%)
adding: html/ (208 bytes security) (stored 0%)
adding: html/00Index.html (188 bytes security) (deflated 54%)
adding: html/R.css (188 bytes security) (deflated 75%)
adding: INDEX (188 bytes security) (deflated 58%)
adding: MD5 (188 bytes security) (deflated 41%)
adding: Meta/ (208 bytes security) (stored 0%)
adding: Meta/data.rds (188 bytes security) (stored 0%)
adding: Meta/hsearch.rds (188 bytes security) (stored 0%)
adding: Meta/links.rds (188 bytes security) (stored 0%)
adding: Meta/nsInfo.rds (188 bytes security) (stored 0%)
adding: Meta/package.rds (188 bytes security) (stored 0%)
adding: Meta/Rd.rds (188 bytes security) (stored 0%)
adding: NAMESPACE (188 bytes security) (stored 0%)