Rhtslib 1.2.1 Bioconductor Package Maintainer
Snapshot Date: 2016-04-22 16:20:12 -0700 (Fri, 22 Apr 2016) | URL: https://hedgehog.fhcrc.org/bioconductor/branches/RELEASE_3_2/madman/Rpacks/Rhtslib | Last Changed Rev: 110017 / Revision: 116712 | Last Changed Date: 2015-10-27 17:54:00 -0700 (Tue, 27 Oct 2015) |
| zin1 | Linux (Ubuntu 14.04.2 LTS) / x86_64 | OK | OK | WARNINGS | |  |
moscato1 | Windows Server 2008 R2 Standard (64-bit) / x64 | [ OK ] | OK | WARNINGS | OK |  |
oaxaca | Mac OS X Mavericks (10.9.5) / x86_64 | OK | OK | WARNINGS | OK |  |
##############################################################################
##############################################################################
###
### Running command:
###
### rm -rf Rhtslib.buildbin-libdir && mkdir Rhtslib.buildbin-libdir && C:\cygwin\bin\curl.exe -O http://zin1/BBS/3.2/bioc/src/contrib/Rhtslib_1.2.1.tar.gz && D:\biocbld\bbs-3.2-bioc\R\bin\R.exe CMD INSTALL --build --library=Rhtslib.buildbin-libdir --merge-multiarch Rhtslib_1.2.1.tar.gz && D:\biocbld\bbs-3.2-bioc\R\bin\R.exe CMD INSTALL Rhtslib_1.2.1.zip && rm Rhtslib_1.2.1.tar.gz Rhtslib_1.2.1.zip
###
##############################################################################
##############################################################################
% Total % Received % Xferd Average Speed Time Time Time Current
Dload Upload Total Spent Left Speed
0 0 0 0 0 0 0 0 --:--:-- --:--:-- --:--:-- 0
100 2027k 100 2027k 0 0 61.2M 0 --:--:-- --:--:-- --:--:-- 68.2M
install for i386
* installing *source* package 'Rhtslib' ...
**********************************************
WARNING: this package has a configure script
It probably needs manual configuration
**********************************************
** libs
cp "winlib/i386/libhts.a" "D:/biocbld/bbs-3.2-bioc/meat/Rhtslib.buildbin-libdir/Rhtslib/lib/i386"/libhts.a
cp ./htslib/htslib/bgzf.h ./htslib/htslib/faidx.h ./htslib/htslib/hfile.h ./htslib/htslib/hts.h ./htslib/htslib/hts_defs.h ./htslib/htslib/kfunc.h ./htslib/htslib/khash.h ./htslib/htslib/khash_str2int.h ./htslib/htslib/klist.h ./htslib/htslib/knetfile.h ./htslib/htslib/kseq.h ./htslib/htslib/ksort.h ./htslib/htslib/kstring.h ./htslib/htslib/regidx.h ./htslib/htslib/sam.h ./htslib/htslib/synced_bcf_reader.h ./htslib/htslib/tbx.h ./htslib/htslib/vcf.h ./htslib/htslib/vcf_sweep.h ./htslib/htslib/vcfutils.h ""D:/biocbld/bbs-3.2-bioc/meat/Rhtslib.buildbin-libdir/Rhtslib/include""
gcc -m32 -I"D:/biocbld/BBS-3˜1.2-B/R/include" -DNDEBUG -I"D:/biocbld/bbs-3.2-bioc/R/library/zlibbioc/include" -I"d:/RCompile/r-compiling/local/local323/include" -O3 -Wall -std=gnu99 -mtune=core2 -c Rhtslib.c -o Rhtslib.o
gcc -m32 -shared -s -static-libgcc -o Rhtslib.dll tmp.def Rhtslib.o -Ld:/RCompile/r-compiling/local/local323/lib/i386 -Ld:/RCompile/r-compiling/local/local323/lib -LD:/biocbld/BBS-3˜1.2-B/R/bin/i386 -lR
installing to D:/biocbld/bbs-3.2-bioc/meat/Rhtslib.buildbin-libdir/Rhtslib/libs/i386
** R
** preparing package for lazy loading
** help
*** installing help indices
** building package indices
** installing vignettes
** testing if installed package can be loaded
install for x64
* installing *source* package 'Rhtslib' ...
**********************************************
WARNING: this package has a configure script
It probably needs manual configuration
**********************************************
** libs
cp "winlib/x64/libhts.a" "D:/biocbld/bbs-3.2-bioc/meat/Rhtslib.buildbin-libdir/Rhtslib/lib/x64"/libhts.a
cp ./htslib/htslib/bgzf.h ./htslib/htslib/faidx.h ./htslib/htslib/hfile.h ./htslib/htslib/hts.h ./htslib/htslib/hts_defs.h ./htslib/htslib/kfunc.h ./htslib/htslib/khash.h ./htslib/htslib/khash_str2int.h ./htslib/htslib/klist.h ./htslib/htslib/knetfile.h ./htslib/htslib/kseq.h ./htslib/htslib/ksort.h ./htslib/htslib/kstring.h ./htslib/htslib/regidx.h ./htslib/htslib/sam.h ./htslib/htslib/synced_bcf_reader.h ./htslib/htslib/tbx.h ./htslib/htslib/vcf.h ./htslib/htslib/vcf_sweep.h ./htslib/htslib/vcfutils.h ""D:/biocbld/bbs-3.2-bioc/meat/Rhtslib.buildbin-libdir/Rhtslib/include""
gcc -m64 -I"D:/biocbld/BBS-3˜1.2-B/R/include" -DNDEBUG -I"D:/biocbld/bbs-3.2-bioc/R/library/zlibbioc/include" -I"d:/RCompile/r-compiling/local/local323/include" -O2 -Wall -std=gnu99 -mtune=core2 -c Rhtslib.c -o Rhtslib.o
gcc -m64 -shared -s -static-libgcc -o Rhtslib.dll tmp.def Rhtslib.o -Ld:/RCompile/r-compiling/local/local323/lib/x64 -Ld:/RCompile/r-compiling/local/local323/lib -LD:/biocbld/BBS-3˜1.2-B/R/bin/x64 -lR
installing to D:/biocbld/bbs-3.2-bioc/meat/Rhtslib.buildbin-libdir/Rhtslib/libs/x64
** testing if installed package can be loaded
* MD5 sums
packaged installation of 'Rhtslib' as Rhtslib_1.2.1.zip
* DONE (Rhtslib)
* installing to library 'D:/biocbld/bbs-3.2-bioc/R/library'
package 'Rhtslib' successfully unpacked and MD5 sums checked