Back to the "Multiple platform build/check report" | A B [C] D E F G H I J K L M N O P Q R S T U V W X Y Z |
This page was generated on 2015-11-10 14:46:09 -0800 (Tue, 10 Nov 2015).
Package 153/1104 | Hostname | OS / Arch | INSTALL | BUILD | CHECK | BUILD BIN | |||||
CGHbase 1.30.0 Mark van de Wiel
| zin1 | Linux (Ubuntu 14.04.2 LTS) / x86_64 | OK | OK | OK | ![]() | |||||
perceval | Mac OS X Snow Leopard (10.6.8) / x86_64 | OK | [ OK ] | OK | OK | ![]() | |||||
oaxaca | Mac OS X Mavericks (10.9.5) / x86_64 | OK | OK | OK | OK | ![]() |
Package: CGHbase |
Version: 1.30.0 |
Command: /Library/Frameworks/R.framework/Versions/Current/Resources/bin/R CMD build --keep-empty-dirs --no-resave-data CGHbase |
StartedAt: 2015-11-09 18:04:42 -0800 (Mon, 09 Nov 2015) |
EndedAt: 2015-11-09 18:04:44 -0800 (Mon, 09 Nov 2015) |
EllapsedTime: 1.6 seconds |
RetCode: 0 |
Status: OK |
PackageFile: CGHbase_1.30.0.tar.gz |
PackageFileSize: 848.7 KiB |
############################################################################## ############################################################################## ### ### Running command: ### ### /Library/Frameworks/R.framework/Versions/Current/Resources/bin/R CMD build --keep-empty-dirs --no-resave-data CGHbase ### ############################################################################## ############################################################################## * checking for file ‘CGHbase/DESCRIPTION’ ... OK * preparing ‘CGHbase’: * checking DESCRIPTION meta-information ... OK * checking for LF line-endings in source and make files * checking for empty or unneeded directories * looking to see if a ‘data/datalist’ file should be added * building ‘CGHbase_1.30.0.tar.gz’