Back to the "Multiple platform build/check report" | A [B] C D E F G H I J K L M N O P Q R S T U V W X Y Z |
This page was generated on 2016-04-23 10:12:47 -0700 (Sat, 23 Apr 2016).
Package 100/1103 | Hostname | OS / Arch | INSTALL | BUILD | CHECK | BUILD BIN | |||||
BiocParallel 1.4.3 Bioconductor Package Maintainer
| zin1 | Linux (Ubuntu 14.04.2 LTS) / x86_64 | [ OK ] | OK | OK | ![]() | |||||
moscato1 | Windows Server 2008 R2 Standard (64-bit) / x64 | OK | OK | OK | OK | ![]() | |||||
oaxaca | Mac OS X Mavericks (10.9.5) / x86_64 | OK | OK | OK | OK | ![]() |
Package: BiocParallel |
Version: 1.4.3 |
Command: /home/biocbuild/bbs-3.2-bioc/R/bin/R CMD INSTALL BiocParallel |
StartedAt: 2016-04-22 17:01:30 -0700 (Fri, 22 Apr 2016) |
EndedAt: 2016-04-22 17:01:32 -0700 (Fri, 22 Apr 2016) |
EllapsedTime: 2.1 seconds |
RetCode: 0 |
Status: OK |
############################################################################## ############################################################################## ### ### Running command: ### ### /home/biocbuild/bbs-3.2-bioc/R/bin/R CMD INSTALL BiocParallel ### ############################################################################## ############################################################################## * installing to library ‘/home/biocbuild/bbs-3.2-bioc/R/library’ * installing *source* package ‘BiocParallel’ ... ** R ** inst ** preparing package for lazy loading ** help *** installing help indices ** building package indices ** installing vignettes ** testing if installed package can be loaded * DONE (BiocParallel)