crlmm 1.27.0 Benilton S Carvalho , Robert Scharpf , Matt Ritchie
Snapshot Date: 2015-08-23 16:24:14 -0700 (Sun, 23 Aug 2015) | URL: https://hedgehog.fhcrc.org/bioconductor/trunk/madman/Rpacks/crlmm | Last Changed Rev: 102594 / Revision: 107696 | Last Changed Date: 2015-04-16 13:02:44 -0700 (Thu, 16 Apr 2015) |
| zin1 | Linux (Ubuntu 14.04.2 LTS) / x86_64 | [ OK ] | OK | OK | |  |
perceval | Mac OS X Snow Leopard (10.6.8) / x86_64 | OK | OK | OK | OK |  |
oaxaca | Mac OS X Mavericks (10.9.5) / x86_64 | OK | OK | OK | OK |  |
##############################################################################
##############################################################################
###
### Running command:
###
### /home/biocbuild/bbs-3.2-bioc/R/bin/R CMD INSTALL crlmm
###
##############################################################################
##############################################################################
* installing to library ‘/home/biocbuild/bbs-3.2-bioc/R/library’
* installing *source* package ‘crlmm’ ...
** libs
gcc -std=gnu99 -I/home/biocbuild/bbs-3.2-bioc/R/include -DNDEBUG -I/usr/local/include -I"/home/biocbuild/bbs-3.2-bioc/R/library/preprocessCore/include" -fpic -g -O2 -Wall -c gtypeCaller.c -o gtypeCaller.o
gcc -std=gnu99 -I/home/biocbuild/bbs-3.2-bioc/R/include -DNDEBUG -I/usr/local/include -I"/home/biocbuild/bbs-3.2-bioc/R/library/preprocessCore/include" -fpic -g -O2 -Wall -c init.c -o init.o
gcc -std=gnu99 -I/home/biocbuild/bbs-3.2-bioc/R/include -DNDEBUG -I/usr/local/include -I"/home/biocbuild/bbs-3.2-bioc/R/library/preprocessCore/include" -fpic -g -O2 -Wall -c trimmed.c -o trimmed.o
gcc -std=gnu99 -I/home/biocbuild/bbs-3.2-bioc/R/include -DNDEBUG -I/usr/local/include -I"/home/biocbuild/bbs-3.2-bioc/R/library/preprocessCore/include" -fpic -g -O2 -Wall -c utils.c -o utils.o
gcc -std=gnu99 -shared -L/home/biocbuild/bbs-3.2-bioc/R/lib -L/usr/local/lib -o crlmm.so gtypeCaller.o init.o trimmed.o utils.o -L/home/biocbuild/bbs-3.2-bioc/R/lib -lR
installing to /home/biocbuild/bbs-3.2-bioc/R/library/crlmm/libs
** R
** data
** inst
** preparing package for lazy loading
** help
*** installing help indices
** building package indices
** installing vignettes
‘AffyGW.Rnw’
‘CopyNumberOverview.Rnw’
‘IlluminaPreprocessCN.Rnw’
‘Infrastructure.Rnw’
‘genotyping.Rnw’
‘gtypeDownstream.Rnw’
** testing if installed package can be loaded
* DONE (crlmm)