Back to the "Multiple platform build/check report" A  B  C  D  E  F  G  H  I  J  K  L  M  N  O  P  Q [R] S  T  U  V  W  X  Y  Z 

BioC 3.2: BUILD report for rols on moscato1

This page was generated on 2015-08-20 13:20:51 -0700 (Thu, 20 Aug 2015).

Package 878/1069HostnameOS / ArchINSTALLBUILDCHECKBUILD BIN
rols 1.11.6
Laurent Gatto
Snapshot Date: 2015-08-19 16:24:33 -0700 (Wed, 19 Aug 2015)
URL: https://hedgehog.fhcrc.org/bioconductor/trunk/madman/Rpacks/rols
Last Changed Rev: 105777 / Revision: 107602
Last Changed Date: 2015-07-02 13:06:34 -0700 (Thu, 02 Jul 2015)
zin1 Linux (Ubuntu 14.04.2 LTS) / x86_64  OK  OK  ERROR 
moscato1 Windows Server 2008 R2 Enterprise SP1 (64-bit) / x64  OK [ OK ] ERROR  OK 
perceval Mac OS X Snow Leopard (10.6.8) / x86_64  OK  OK  ERROR  OK 
oaxaca Mac OS X Mavericks (10.9.5) / x86_64  OK  OK  ERROR  OK 

Summary

Package: rols
Version: 1.11.6
Command: chmod a+r rols -R && D:\biocbld\bbs-3.2-bioc\R\bin\R.exe CMD build --keep-empty-dirs --no-resave-data rols
StartedAt: 2015-08-19 21:43:01 -0700 (Wed, 19 Aug 2015)
EndedAt: 2015-08-19 21:43:48 -0700 (Wed, 19 Aug 2015)
EllapsedTime: 46.8 seconds
RetCode: 0
Status:  OK  
PackageFile: rols_1.11.6.tar.gz
PackageFileSize: 166 KiB

Command output

##############################################################################
##############################################################################
###
### Running command:
###
###   chmod a+r rols -R && D:\biocbld\bbs-3.2-bioc\R\bin\R.exe CMD build --keep-empty-dirs --no-resave-data rols
###
##############################################################################
##############################################################################


* checking for file 'rols/DESCRIPTION' ... OK
* preparing 'rols':
* checking DESCRIPTION meta-information ... OK
* installing the package to build vignettes
* creating vignettes ... OK
* checking for LF line-endings in source and make files
* checking for empty or unneeded directories
* building 'rols_1.11.6.tar.gz'