Back to the "Multiple platform build/check report" A  B  C  D  E  F  G  H  I  J  K  L [M] N  O  P  Q  R  S  T  U  V  W  X  Y  Z 

BioC 3.2: CHECK report for msmsTests on oaxaca

This page was generated on 2015-08-24 10:57:44 -0700 (Mon, 24 Aug 2015).

Package 656/1071HostnameOS / ArchINSTALLBUILDCHECKBUILD BIN
msmsTests 1.7.0
Josep Gregori i Font
Snapshot Date: 2015-08-23 16:24:14 -0700 (Sun, 23 Aug 2015)
URL: https://hedgehog.fhcrc.org/bioconductor/trunk/madman/Rpacks/msmsTests
Last Changed Rev: 102594 / Revision: 107696
Last Changed Date: 2015-04-16 13:02:44 -0700 (Thu, 16 Apr 2015)
zin1 Linux (Ubuntu 14.04.2 LTS) / x86_64  OK  OK  OK UNNEEDED, same version exists in internal repository
perceval Mac OS X Snow Leopard (10.6.8) / x86_64  OK  OK  OK  OK UNNEEDED, same version exists in internal repository
oaxaca Mac OS X Mavericks (10.9.5) / x86_64  OK  OK [ OK ] OK UNNEEDED, same version exists in internal repository

Summary

Package: msmsTests
Version: 1.7.0
Command: /Library/Frameworks/R.framework/Versions/Current/Resources/bin/R CMD check --no-vignettes --timings msmsTests_1.7.0.tar.gz
StartedAt: 2015-08-24 02:05:17 -0700 (Mon, 24 Aug 2015)
EndedAt: 2015-08-24 02:08:31 -0700 (Mon, 24 Aug 2015)
EllapsedTime: 193.9 seconds
RetCode: 0
Status:  OK 
CheckDir: msmsTests.Rcheck
Warnings: 0

Command output

##############################################################################
##############################################################################
###
### Running command:
###
###   /Library/Frameworks/R.framework/Versions/Current/Resources/bin/R CMD check --no-vignettes --timings msmsTests_1.7.0.tar.gz
###
##############################################################################
##############################################################################


* using log directory ‘/Users/biocbuild/bbs-3.2-bioc/meat/msmsTests.Rcheck’
* using R version 3.2.2 (2015-08-14)
* using platform: x86_64-apple-darwin13.4.0 (64-bit)
* using session charset: UTF-8
* using option ‘--no-vignettes’
* checking for file ‘msmsTests/DESCRIPTION’ ... OK
* checking extension type ... Package
* this is package ‘msmsTests’ version ‘1.7.0’
* checking package namespace information ... OK
* checking package dependencies ... OK
* checking if this is a source package ... OK
* checking if there is a namespace ... OK
* checking for hidden files and directories ... OK
* checking for portable file names ... OK
* checking for sufficient/correct file permissions ... OK
* checking whether package ‘msmsTests’ can be installed ... [14s/15s] OK
* checking installed package size ... OK
* checking package directory ... OK
* checking ‘build’ directory ... OK
* checking DESCRIPTION meta-information ... OK
* checking top-level files ... OK
* checking for left-over files ... OK
* checking index information ... OK
* checking package subdirectories ... OK
* checking R files for non-ASCII characters ... OK
* checking R files for syntax errors ... OK
* checking whether the package can be loaded ... OK
* checking whether the package can be loaded with stated dependencies ... OK
* checking whether the package can be unloaded cleanly ... OK
* checking whether the namespace can be loaded with stated dependencies ... OK
* checking whether the namespace can be unloaded cleanly ... OK
* checking dependencies in R code ... NOTE
Packages in Depends field not imported from:
  ‘MSnbase’ ‘msmsEDA’
  These packages need to be imported from (in the NAMESPACE file)
  for when this namespace is loaded but not attached.
* checking S3 generic/method consistency ... OK
* checking replacement functions ... OK
* checking foreign function calls ... OK
* checking R code for possible problems ... NOTE
msms.edgeR: no visible global function definition for ‘exprs’
msms.edgeR: no visible global function definition for ‘pData’
msms.glm.pois: no visible global function definition for ‘exprs’
msms.glm.pois: no visible global function definition for ‘pData’
msms.glm.qlll: no visible global function definition for ‘exprs’
msms.glm.qlll: no visible global function definition for ‘pData’
test.results: no visible global function definition for ‘exprs’
* checking Rd files ... OK
* checking Rd metadata ... OK
* checking Rd cross-references ... OK
* checking for missing documentation entries ... OK
* checking for code/documentation mismatches ... OK
* checking Rd \usage sections ... OK
* checking Rd contents ... OK
* checking for unstated dependencies in examples ... OK
* checking contents of ‘data’ directory ... OK
* checking data for non-ASCII characters ... OK
* checking data for ASCII and uncompressed saves ... OK
* checking sizes of PDF files under ‘inst/doc’ ... OK
* checking installed files from ‘inst/doc’ ... OK
* checking files in ‘vignettes’ ... OK
* checking examples ... [66s/67s] OK
Examples with CPU or elapsed time > 5s
                  user system elapsed
test.results    12.469  0.027  12.658
res.volcanoplot 12.365  0.033  12.568
msms.glm.qlll   11.775  0.023  11.885
msms.glm.pois   11.284  0.025  11.422
pval.by.fc       9.874  0.034  10.094
* checking for unstated dependencies in vignettes ... NOTE
'library' or 'require' call not declared from: ‘xtable’
* checking package vignettes in ‘inst/doc’ ... OK
* checking running R code from vignettes ... SKIPPED
* checking re-building of vignette outputs ... SKIPPED
* checking PDF version of manual ... OK
* DONE

Status: 3 NOTEs
See
  ‘/Users/biocbuild/bbs-3.2-bioc/meat/msmsTests.Rcheck/00check.log’
for details.


msmsTests.Rcheck/00install.out:

* installing *source* package ‘msmsTests’ ...
** R
** data
** inst
** preparing package for lazy loading
** help
*** installing help indices
** building package indices
** installing vignettes
** testing if installed package can be loaded
* DONE (msmsTests)

msmsTests.Rcheck/msmsTests-Ex.timings:

nameusersystemelapsed
msms.edgeR0.7790.0220.840
msms.glm.pois11.284 0.02511.422
msms.glm.qlll11.775 0.02311.885
msms.spk0.0080.0010.010
pval.by.fc 9.874 0.03410.094
res.volcanoplot12.365 0.03312.568
test.results12.469 0.02712.658