Back to the "Multiple platform build/check report" A  B  C  D  E  F  G  H  I  J  K  L [M] N  O  P  Q  R  S  T  U  V  W  X  Y  Z 

BioC 3.2: CHECK report for made4 on perceval

This page was generated on 2015-08-24 10:51:03 -0700 (Mon, 24 Aug 2015).

Package 564/1071HostnameOS / ArchINSTALLBUILDCHECKBUILD BIN
made4 1.43.0
Aedin Culhane
Snapshot Date: 2015-08-23 16:24:14 -0700 (Sun, 23 Aug 2015)
URL: https://hedgehog.fhcrc.org/bioconductor/trunk/madman/Rpacks/made4
Last Changed Rev: 102594 / Revision: 107696
Last Changed Date: 2015-04-16 13:02:44 -0700 (Thu, 16 Apr 2015)
zin1 Linux (Ubuntu 14.04.2 LTS) / x86_64  OK  OK  OK UNNEEDED, same version exists in internal repository
perceval Mac OS X Snow Leopard (10.6.8) / x86_64  OK  OK [ OK ] OK UNNEEDED, same version exists in internal repository
oaxaca Mac OS X Mavericks (10.9.5) / x86_64  OK  OK  OK  OK UNNEEDED, same version exists in internal repository

Summary

Package: made4
Version: 1.43.0
Command: /Library/Frameworks/R.framework/Versions/Current/Resources/bin/R CMD check --no-vignettes --timings made4_1.43.0.tar.gz
StartedAt: 2015-08-24 02:17:06 -0700 (Mon, 24 Aug 2015)
EndedAt: 2015-08-24 02:17:52 -0700 (Mon, 24 Aug 2015)
EllapsedTime: 45.8 seconds
RetCode: 0
Status:  OK 
CheckDir: made4.Rcheck
Warnings: 0

Command output

##############################################################################
##############################################################################
###
### Running command:
###
###   /Library/Frameworks/R.framework/Versions/Current/Resources/bin/R CMD check --no-vignettes --timings made4_1.43.0.tar.gz
###
##############################################################################
##############################################################################


* using log directory ‘/Users/biocbuild/bbs-3.2-bioc/meat/made4.Rcheck’
* using R version 3.2.2 Patched (2015-08-14 r69078)
* using platform: x86_64-apple-darwin10.8.0 (64-bit)
* using session charset: UTF-8
* using option ‘--no-vignettes’
* checking for file ‘made4/DESCRIPTION’ ... OK
* this is package ‘made4’ version ‘1.43.0’
* checking package namespace information ... OK
* checking package dependencies ... OK
* checking if this is a source package ... OK
* checking if there is a namespace ... OK
* checking for hidden files and directories ... OK
* checking for portable file names ... OK
* checking for sufficient/correct file permissions ... OK
* checking whether package ‘made4’ can be installed ... [2s/2s] OK
* checking installed package size ... OK
* checking package directory ... OK
* checking ‘build’ directory ... OK
* checking DESCRIPTION meta-information ... OK
* checking top-level files ... OK
* checking for left-over files ... OK
* checking index information ... OK
* checking package subdirectories ... OK
* checking R files for non-ASCII characters ... OK
* checking R files for syntax errors ... OK
* checking whether the package can be loaded ... OK
* checking whether the package can be loaded with stated dependencies ... OK
* checking whether the package can be unloaded cleanly ... OK
* checking whether the namespace can be loaded with stated dependencies ... OK
* checking whether the namespace can be unloaded cleanly ... OK
* checking dependencies in R code ... NOTE
'library' or 'require' calls to packages already attached by Depends:
  ‘gplots’ ‘RColorBrewer’ ‘scatterplot3d’
  Please remove these calls from your code.
'library' or 'require' call to ‘affy’ in package code.
  Please use :: or requireNamespace() instead.
  See section 'Suggested packages' in the 'Writing R Extensions' manual.
Packages in Depends field not imported from:
  ‘ade4’ ‘gplots’ ‘RColorBrewer’ ‘scatterplot3d’
  These packages need to be imported from (in the NAMESPACE file)
  for when this namespace is loaded but not attached.
* checking S3 generic/method consistency ... OK
* checking replacement functions ... OK
* checking foreign function calls ... OK
* checking R code for possible problems ... NOTE
plot.bga: warning in s.var(dudi.bga$bet$ls, xax = axis1, yax = axis2,
  col = as.vector(factor(dudi.bga$fac, labels = arraycol)), ...):
  partial argument match of 'col' to 'colpoints'
plot.ord: warning in s.var(dudi.ord$co, xax = axis1, yax = axis2, col =
  cols.array, label = arraylabels, ...): partial argument match of
  'col' to 'colpoints'
plot.ord: warning in plotgenes(dudi.ord$li, genelabels = genelabels,
  nlab = nlab, col = genecol, axis1 = axis1, axis2 = axis2, ...):
  partial argument match of 'col' to 'colpoints'
bet.coinertia: no visible global function definition for ‘dudi.nsc’
bet.coinertia: no visible global function definition for ‘bca’
bet.coinertia: no visible global function definition for ‘coinertia’
bet.coinertia: no visible global function definition for ‘dudi.pca’
bga: no visible global function definition for ‘bca’
cia: no visible global function definition for ‘dudi.nsc’
cia: no visible global function definition for ‘coinertia’
cia: no visible global function definition for ‘dudi.coa’
do3d: no visible global function definition for ‘scatterplot3d’
dudi.rwcoa: no visible global function definition for ‘dudi.coa’
getdata: no visible global function definition for ‘exprs’
heatplot : cols.gentleman: no visible global function definition for
  ‘brewer.pal’
heatplot: no visible global function definition for ‘heatmap.2’
ord: no visible global function definition for ‘dudi.coa’
ord: no visible global function definition for ‘dudi.pca’
ord: no visible global function definition for ‘dudi.nsc’
overview: no visible global function definition for ‘exprs’
plot.bga: no visible global function definition for ‘scatterutil.eigen’
plot.ord: no visible global function definition for ‘scatterutil.eigen’
s.groups: no visible global function definition for ‘scatterutil.base’
s.groups: no visible global function definition for ‘scatterutil.star’
s.groups: no visible global function definition for
  ‘scatterutil.ellipse’
s.groups: no visible global function definition for ‘scatterutil.eti’
s.match.col: no visible global function definition for
  ‘scatterutil.base’
s.match.col: no visible global function definition for
  ‘scatterutil.eti’
s.var: no visible global function definition for ‘scatterutil.base’
s.var: no visible global function definition for ‘scatterutil.eti’
suppl : suppl.coord: no visible global function definition for ‘suprow’
* checking Rd files ... NOTE
prepare_Rd: array2ade4.Rd:38: Dropping empty section \references
prepare_Rd: between.graph.Rd:40-42: Dropping empty section \value
prepare_Rd: between.graph.Rd:47: Dropping empty section \note
prepare_Rd: checkfac.Rd:15-16: Dropping empty section \details
prepare_Rd: checkfac.Rd:22: Dropping empty section \note
prepare_Rd: checkfac.Rd:23: Dropping empty section \seealso
prepare_Rd: checkfac.Rd:24-25: Dropping empty section \examples
prepare_Rd: chime3D.Rd:56: Dropping empty section \seealso
prepare_Rd: chime3D.Rd:57-59: Dropping empty section \examples
prepare_Rd: cia.Rd:106: Dropping empty section \note
prepare_Rd: commonMap.Rd:29-30: Dropping empty section \value
prepare_Rd: commonMap.Rd:31: Dropping empty section \references
prepare_Rd: do3d.Rd:73: Dropping empty section \note
prepare_Rd: do3d.Rd:71: Dropping empty section \references
prepare_Rd: dudi.rwcoa.Rd:39-41: Dropping empty section \examples
prepare_Rd: forrwcoa.Rd:38-40: Dropping empty section \examples
prepare_Rd: genes.Rd:28: Dropping empty section \value
prepare_Rd: genes.Rd:32-33: Dropping empty section \examples
prepare_Rd: genes1d.Rd:34: Dropping empty section \references
prepare_Rd: getdata.Rd:36: Dropping empty section \examples
prepare_Rd: graph1D.Rd:33-34: Dropping empty section \details
prepare_Rd: graph1D.Rd:35-37: Dropping empty section \value
prepare_Rd: graph1D.Rd:40: Dropping empty section \note
prepare_Rd: graph1D.Rd:38: Dropping empty section \references
prepare_Rd: html3D.Rd:74: Dropping empty section \seealso
prepare_Rd: jmol3D.Rd:37: Dropping empty section \seealso
prepare_Rd: jmol3D.Rd:38-39: Dropping empty section \examples
prepare_Rd: ord.Rd:93: Dropping empty section \references
prepare_Rd: overview.Rd:26: Dropping empty section \value
prepare_Rd: overview.Rd:29: Dropping empty section \note
prepare_Rd: overview.Rd:27: Dropping empty section \references
prepare_Rd: prettyDend.Rd:27: Dropping empty section \value
prepare_Rd: prettyDend.Rd:30: Dropping empty section \note
prepare_Rd: prettyDend.Rd:28: Dropping empty section \references
prepare_Rd: sumstats.Rd:52: Dropping empty section \note
prepare_Rd: sumstats.Rd:50: Dropping empty section \references
prepare_Rd: sumstats.Rd:56: Dropping empty section \seealso
prepare_Rd: topgenes.Rd:40: Dropping empty section \note
prepare_Rd: topgenes.Rd:38: Dropping empty section \references
* checking Rd metadata ... OK
* checking Rd cross-references ... OK
* checking for missing documentation entries ... OK
* checking for code/documentation mismatches ... OK
* checking Rd \usage sections ... OK
* checking Rd contents ... OK
* checking for unstated dependencies in examples ... OK
* checking contents of ‘data’ directory ... OK
* checking data for non-ASCII characters ... OK
* checking data for ASCII and uncompressed saves ... OK
* checking sizes of PDF files under ‘inst/doc’ ... OK
* checking installed files from ‘inst/doc’ ... OK
* checking files in ‘vignettes’ ... OK
* checking examples ... [12s/12s] OK
* checking for unstated dependencies in vignettes ... OK
* checking package vignettes in ‘inst/doc’ ... OK
* checking running R code from vignettes ... SKIPPED
* checking re-building of vignette outputs ... SKIPPED
* checking PDF version of manual ... OK
* DONE

Status: 3 NOTEs
See
  ‘/Users/biocbuild/bbs-3.2-bioc/meat/made4.Rcheck/00check.log’
for details.


made4.Rcheck/00install.out:

* installing *source* package ‘made4’ ...
** R
** data
** inst
** preparing package for lazy loading
** help
*** installing help indices
** building package indices
** installing vignettes
** testing if installed package can be loaded
* DONE (made4)

made4.Rcheck/made4-Ex.timings:

nameusersystemelapsed
NCI600.0320.0050.038
array2ade41.0760.0411.157
bet.coinertia0.0010.0000.001
between.graph0.3970.0170.416
bga0.5160.0130.529
bga.jackknife1.9780.0151.992
bga.suppl0.5880.0080.597
cia0.2450.0090.255
commonMap0.0310.0020.034
comparelists0.0010.0000.001
do3d0.5360.0090.545
genes1d0.2260.0060.232
getcol0.0170.0030.020
graph1D0.0960.0030.099
heatplot2.0420.0522.136
html3D0.3360.0070.345
khan0.0140.0010.015
ord0.2080.0070.218
overview0.1810.0070.192
plotarrays0.5160.0140.530
plotgenes0.1620.0060.169
prettyDend0.1490.0100.164
randomiser0.0030.0010.004
s.var0.3810.0080.391
sumstats0.3780.0080.390
suppl0.6530.0100.665
topgenes0.1380.0060.145