gwascat 2.1.15 VJ Carey
Snapshot Date: 2015-08-19 16:24:33 -0700 (Wed, 19 Aug 2015) | URL: https://hedgehog.fhcrc.org/bioconductor/trunk/madman/Rpacks/gwascat | Last Changed Rev: 107380 / Revision: 107602 | Last Changed Date: 2015-08-13 08:13:19 -0700 (Thu, 13 Aug 2015) |
| zin1 | Linux (Ubuntu 14.04.2 LTS) / x86_64 | OK | OK | OK | |  |
moscato1 | Windows Server 2008 R2 Enterprise SP1 (64-bit) / x64 | [ OK ] | OK | OK | OK |  |
perceval | Mac OS X Snow Leopard (10.6.8) / x86_64 | OK | OK | OK | OK |  |
oaxaca | Mac OS X Mavericks (10.9.5) / x86_64 | OK | OK | OK | OK |  |
##############################################################################
##############################################################################
###
### Running command:
###
### C:\cygwin\bin\curl.exe -O http://zin1/BBS/3.2/bioc/src/contrib/gwascat_2.1.15.tar.gz && D:\biocbld\bbs-3.2-bioc\R\bin\R.exe CMD INSTALL --merge-multiarch gwascat_2.1.15.tar.gz && rm gwascat_2.1.15.tar.gz
###
##############################################################################
##############################################################################
% Total % Received % Xferd Average Speed Time Time Time Current
Dload Upload Total Spent Left Speed
0 0 0 0 0 0 0 0 --:--:-- --:--:-- --:--:-- 0
100 35.3M 100 35.3M 0 0 90.2M 0 --:--:-- --:--:-- --:--:-- 91.4M
install for i386
* installing to library 'D:/biocbld/bbs-3.2-bioc/R/library'
* installing *source* package 'gwascat' ...
** R
** data
** inst
** preparing package for lazy loading
Now getting the GODb Object directly
Now getting the OrgDb Object directly
Now getting the TxDb Object directly
Warning: replacing previous import by 'ffbase::%in%' when loading 'gQTLstats'
Warning: replacing previous import by 'ffbase::table' when loading 'gQTLstats'
** help
*** installing help indices
** building package indices
** installing vignettes
** testing if installed package can be loaded
Now getting the GODb Object directly
Now getting the OrgDb Object directly
Now getting the TxDb Object directly
Warning: replacing previous import by 'ffbase::%in%' when loading 'gQTLstats'
Warning: replacing previous import by 'ffbase::table' when loading 'gQTLstats'
install for x64
* installing to library 'D:/biocbld/bbs-3.2-bioc/R/library'
* installing *source* package 'gwascat' ...
** testing if installed package can be loaded
Now getting the GODb Object directly
Now getting the OrgDb Object directly
Now getting the TxDb Object directly
Warning: replacing previous import by 'ffbase::table' when loading 'gQTLstats'
Warning: replacing previous import by 'ffbase::%in%' when loading 'gQTLstats'
* DONE (gwascat)