Back to the "Multiple platform build/check report" A  B  C  D  E  F [G] H  I  J  K  L  M  N  O  P  Q  R  S  T  U  V  W  X  Y  Z 

BioC 3.2: CHECK report for gCMAP on perceval

This page was generated on 2015-08-24 10:52:54 -0700 (Mon, 24 Aug 2015).

Package 378/1071HostnameOS / ArchINSTALLBUILDCHECKBUILD BIN
gCMAP 1.13.0
Thomas Sandmann
Snapshot Date: 2015-08-23 16:24:14 -0700 (Sun, 23 Aug 2015)
URL: https://hedgehog.fhcrc.org/bioconductor/trunk/madman/Rpacks/gCMAP
Last Changed Rev: 102594 / Revision: 107696
Last Changed Date: 2015-04-16 13:02:44 -0700 (Thu, 16 Apr 2015)
zin1 Linux (Ubuntu 14.04.2 LTS) / x86_64  OK  OK  OK UNNEEDED, same version exists in internal repository
perceval Mac OS X Snow Leopard (10.6.8) / x86_64  OK  OK [ OK ] OK UNNEEDED, same version exists in internal repository
oaxaca Mac OS X Mavericks (10.9.5) / x86_64  OK  OK  OK  OK UNNEEDED, same version exists in internal repository

Summary

Package: gCMAP
Version: 1.13.0
Command: /Library/Frameworks/R.framework/Versions/Current/Resources/bin/R CMD check --no-vignettes --timings gCMAP_1.13.0.tar.gz
StartedAt: 2015-08-24 00:50:45 -0700 (Mon, 24 Aug 2015)
EndedAt: 2015-08-24 00:56:22 -0700 (Mon, 24 Aug 2015)
EllapsedTime: 337.6 seconds
RetCode: 0
Status:  OK 
CheckDir: gCMAP.Rcheck
Warnings: 0

Command output

##############################################################################
##############################################################################
###
### Running command:
###
###   /Library/Frameworks/R.framework/Versions/Current/Resources/bin/R CMD check --no-vignettes --timings gCMAP_1.13.0.tar.gz
###
##############################################################################
##############################################################################


* using log directory ‘/Users/biocbuild/bbs-3.2-bioc/meat/gCMAP.Rcheck’
* using R version 3.2.2 Patched (2015-08-14 r69078)
* using platform: x86_64-apple-darwin10.8.0 (64-bit)
* using session charset: UTF-8
* using option ‘--no-vignettes’
* checking for file ‘gCMAP/DESCRIPTION’ ... OK
* checking extension type ... Package
* this is package ‘gCMAP’ version ‘1.13.0’
* checking package namespace information ... OK
* checking package dependencies ... NOTE
Package which this enhances but not available for checking: ‘bigmemoryExtras’
* checking if this is a source package ... OK
* checking if there is a namespace ... OK
* checking for hidden files and directories ... OK
* checking for portable file names ... OK
* checking for sufficient/correct file permissions ... OK
* checking whether package ‘gCMAP’ can be installed ... [30s/30s] OK
* checking installed package size ... OK
* checking package directory ... OK
* checking ‘build’ directory ... OK
* checking DESCRIPTION meta-information ... OK
* checking top-level files ... OK
* checking for left-over files ... OK
* checking index information ... OK
* checking package subdirectories ... OK
* checking R files for non-ASCII characters ... OK
* checking R files for syntax errors ... OK
* checking whether the package can be loaded ... OK
* checking whether the package can be loaded with stated dependencies ... OK
* checking whether the package can be unloaded cleanly ... OK
* checking whether the namespace can be loaded with stated dependencies ... OK
* checking whether the namespace can be unloaded cleanly ... OK
* checking dependencies in R code ... NOTE
'library' or 'require' calls in package code:
  ‘bigmemoryExtras’ ‘GO.db’ ‘KEGG.db’
  Please use :: or requireNamespace() instead.
  See section 'Suggested packages' in the 'Writing R Extensions' manual.
* checking S3 generic/method consistency ... OK
* checking replacement functions ... OK
* checking foreign function calls ... OK
* checking R code for possible problems ... NOTE
camera_score,eSet-CMAPCollection : .local: no visible global function
  definition for ‘camera’
induceCMAPCollection,eSet : .local : <anonymous>: no visible global
  function definition for ‘mwhich’
mroast_score,eSet-CMAPCollection : .local: no visible global function
  definition for ‘mroast’
romer_score,eSet-CMAPCollection : .local: no visible global function
  definition for ‘romer’
* checking Rd files ... OK
* checking Rd metadata ... OK
* checking Rd cross-references ... OK
* checking for missing documentation entries ... OK
* checking for code/documentation mismatches ... OK
* checking Rd \usage sections ... OK
* checking Rd contents ... OK
* checking for unstated dependencies in examples ... OK
* checking contents of ‘data’ directory ... OK
* checking data for non-ASCII characters ... OK
* checking data for ASCII and uncompressed saves ... OK
* checking sizes of PDF files under ‘inst/doc’ ... OK
* checking installed files from ‘inst/doc’ ... OK
* checking files in ‘vignettes’ ... OK
* checking examples ... [79s/70s] OK
Examples with CPU or elapsed time > 5s
                      user system elapsed
mgsa_score-methods  24.993  0.925  26.340
romer_score-methods  9.906  0.857  10.419
* checking for unstated dependencies in ‘tests’ ... OK
* checking tests ...
  Running ‘runTests.R’ [61s/54s]
 [61s/54s] OK
* checking for unstated dependencies in vignettes ... OK
* checking package vignettes in ‘inst/doc’ ... OK
* checking running R code from vignettes ... SKIPPED
* checking re-building of vignette outputs ... SKIPPED
* checking PDF version of manual ... OK
* DONE

Status: 3 NOTEs
See
  ‘/Users/biocbuild/bbs-3.2-bioc/meat/gCMAP.Rcheck/00check.log’
for details.


gCMAP.Rcheck/00install.out:

* installing *source* package ‘gCMAP’ ...
** R
** data
** inst
** byte-compile and prepare package for lazy loading
** help
*** installing help indices
** building package indices
** installing vignettes
** testing if installed package can be loaded
* DONE (gCMAP)

gCMAP.Rcheck/gCMAP-Ex.timings:

nameusersystemelapsed
CMAPCollection-class1.2680.6521.328
CMAPResults-class3.2620.1883.450
KEGG2cmap0.0010.0000.000
SignedGeneSet-class0.0640.0020.065
annotate_eset_list0.1070.0120.152
camera_score-methods0.5550.2071.354
center_eSet0.0390.0080.046
connectivity_score-methods1.8861.5601.429
eSetOnDisk0.0100.0020.011
eset_instances0.0930.0310.124
featureScores-methods0.5820.4240.904
fisher_score-methods1.3090.9410.966
gCMAPData-dataset0.5540.4440.884
geneIndex-methods0.9160.6771.063
generate_gCMAP_NChannelSet0.2400.0510.291
gsealm_jg_score-methods1.4531.1791.237
gsealm_score-methods2.9830.2513.717
induceCMAPCollection-methods0.8140.5590.741
mapNmerge0.0010.0000.001
memorize0.0100.0010.011
mergeCMAPs0.1150.0340.149
mgsa_score-methods24.993 0.92526.340
minSetSize-methods1.1031.0091.038
mroast_score-methods2.4141.3972.249
romer_score-methods 9.906 0.85710.419
signedRankSumTest0.0030.0000.003
splitPerturbations0.0900.0080.099
wilcox_score-methods1.4001.3671.432