chimera 1.11.0 Raffaele A Calogero
Snapshot Date: 2015-08-23 16:24:14 -0700 (Sun, 23 Aug 2015) | URL: https://hedgehog.fhcrc.org/bioconductor/trunk/madman/Rpacks/chimera | Last Changed Rev: 102594 / Revision: 107696 | Last Changed Date: 2015-04-16 13:02:44 -0700 (Thu, 16 Apr 2015) |
| zin1 | Linux (Ubuntu 14.04.2 LTS) / x86_64 | OK | OK | OK | |  |
perceval | Mac OS X Snow Leopard (10.6.8) / x86_64 | OK | OK | OK | OK |  |
oaxaca | Mac OS X Mavericks (10.9.5) / x86_64 | OK | OK | [ OK ] | OK |  |
##############################################################################
##############################################################################
###
### Running command:
###
### /Library/Frameworks/R.framework/Versions/Current/Resources/bin/R CMD check --no-vignettes --timings chimera_1.11.0.tar.gz
###
##############################################################################
##############################################################################
* using log directory ‘/Users/biocbuild/bbs-3.2-bioc/meat/chimera.Rcheck’
* using R version 3.2.2 (2015-08-14)
* using platform: x86_64-apple-darwin13.4.0 (64-bit)
* using session charset: UTF-8
* using option ‘--no-vignettes’
* checking for file ‘chimera/DESCRIPTION’ ... OK
* checking extension type ... Package
* this is package ‘chimera’ version ‘1.11.0’
* checking package namespace information ... OK
* checking package dependencies ... NOTE
Package which this enhances but not available for checking: ‘Rsubread’
Depends: includes the non-default packages:
‘Biobase’ ‘GenomicRanges’ ‘Rsamtools’ ‘GenomicAlignments’
‘AnnotationDbi’ ‘BSgenome.Hsapiens.UCSC.hg19’
‘TxDb.Hsapiens.UCSC.hg19.knownGene’ ‘Homo.sapiens’
Adding so many packages to the search path is excessive and importing
selectively is preferable.
* checking if this is a source package ... OK
* checking if there is a namespace ... OK
* checking for hidden files and directories ... OK
* checking for portable file names ... OK
* checking for sufficient/correct file permissions ... OK
* checking whether package ‘chimera’ can be installed ... [26s/26s] OK
* checking installed package size ... NOTE
installed size is 6.3Mb
sub-directories of 1Mb or more:
examples 5.7Mb
* checking package directory ... OK
* checking ‘build’ directory ... OK
* checking DESCRIPTION meta-information ... OK
* checking top-level files ... OK
* checking for left-over files ... OK
* checking index information ... OK
* checking package subdirectories ... OK
* checking R files for non-ASCII characters ... OK
* checking R files for syntax errors ... OK
* checking whether the package can be loaded ... OK
* checking whether the package can be loaded with stated dependencies ... OK
* checking whether the package can be unloaded cleanly ... OK
* checking whether the namespace can be loaded with stated dependencies ... OK
* checking whether the namespace can be unloaded cleanly ... OK
* checking dependencies in R code ... NOTE
'library' or 'require' calls in package code:
‘BSgenome.Hsapiens.NCBI.GRCh38’ ‘BSgenome.Mmusculus.UCSC.mm10’
‘BSgenome.Mmusculus.UCSC.mm9’ ‘BiocParallel’ ‘Mus.musculus’
‘Rsubread’ ‘TxDb.Hsapiens.UCSC.hg38.knownGene’
‘TxDb.Mmusculus.UCSC.mm10.knownGene’
‘TxDb.Mmusculus.UCSC.mm9.knownGene’
Please use :: or requireNamespace() instead.
See section 'Suggested packages' in the 'Writing R Extensions' manual.
* checking S3 generic/method consistency ... OK
* checking replacement functions ... OK
* checking foreign function calls ... OK
* checking R code for possible problems ... NOTE
.bfImport: no visible global function definition for ‘IRanges’
.buildFusion: no visible global function definition for ‘exons’
.buildFusion: no visible global function definition for ‘IRanges’
.buildFusion: no visible global function definition for ‘DNAString’
.csImport: no visible global function definition for ‘IRanges’
.detectIntronic: no visible binding for global variable
‘org.Hs.egSYMBOL’
.detectIntronic: no visible global function definition for
‘transcripts’
.dfImport: no visible global function definition for ‘IRanges’
.fcImport: no visible global function definition for ‘IRanges’
.ffImport: no visible global function definition for ‘IRanges’
.fhImport: no visible global function definition for ‘IRanges’
.fmImport: no visible global function definition for ‘IRanges’
.geneLevelAnnotation: no visible global function definition for ‘genes’
.geneLevelAnnotation: no visible global function definition for
‘select’
.geneLevelAnnotation: no visible binding for global variable
‘TxDb.Mmusculus.UCSC.mm9.knownGene’
.geneLevelAnnotation: no visible binding for global variable
‘Mus.musculus’
.geneLevelAnnotation: no visible binding for global variable
‘TxDb.Mmusculus.UCSC.mm10.knownGene’
.geneLevelAnnotation: no visible binding for global variable
‘TxDb.Hsapiens.UCSC.hg38.knownGene’
.gfWrap: no visible global function definition for ‘writeXStringSet’
.msImport: no visible global function definition for ‘IRanges’
.onlyExons: no visible global function definition for ‘exons’
.rsImport: no visible global function definition for ‘MulticoreParam’
.rsImport : .fusionInfo: no visible global function definition for
‘IRanges’
.rsImport : .fusionInfo: no visible binding for global variable
‘BSgenome.Hsapiens.NCBI.GRCh38’
.rsImport : .fusionInfo: no visible global function definition for
‘seqlevelsStyle<-’
.rsImport: no visible global function definition for ‘bplapply’
.starImport: no visible global function definition for ‘IRanges’
.thfImport: no visible global function definition for ‘IRanges’
.thfPostImport: no visible global function definition for ‘IRanges’
bam2fastq: no visible global function definition for ‘MulticoreParam’
bam2fastq: no visible global function definition for ‘bplapply’
breakpointOverlaps: no visible global function definition for ‘IRanges’
breakpointOverlaps: no visible global function definition for
‘seqlengths<-’
breakpointOverlaps: no visible global function definition for
‘seqlengths’
chimeraSeqSet: no visible global function definition for
‘MulticoreParam’
chimeraSeqSet: no visible global function definition for ‘bplapply’
chimeraSeqSet : <anonymous>: no visible global function definition for
‘DNAStringSet’
chimeraSeqs: no visible binding for global variable ‘org.Hs.egSYMBOL’
chimeraSeqs: no visible global function definition for ‘transcripts’
chimeraSeqs: no visible global function definition for ‘DNAStringSet’
defuseTPTN : .my.newfset: no visible global function definition for
‘IRanges’
defuseTPTN : .my.newfset: no visible global function definition for
‘DNAStringSet’
filterList: no visible global function definition for ‘MulticoreParam’
filterList: no visible global function definition for ‘bplapply’
fusionName: no visible global function definition for ‘MulticoreParam’
fusionName: no visible global function definition for ‘bplapply’
fusionPeptides: no visible binding for global variable
‘org.Hs.egUCSCKG’
fusionPeptides: no visible binding for global variable
‘org.Hs.egSYMBOL’
fusionPeptides: no visible global function definition for ‘cdsBy’
fusionPeptides: no visible global function definition for
‘extractTranscriptSeqs’
fusionPeptides: no visible global function definition for ‘translate’
fusionPeptides: no visible global function definition for ‘AAStringSet’
fusionPeptides : <anonymous>: no visible global function definition for
‘pairwiseAlignment’
fusionPeptides: no visible global function definition for ‘pattern’
fusionPeptides: no visible global function definition for
‘matchPattern’
gapfillerRun: no visible global function definition for
‘readDNAStringSet’
gapfillerRun: no visible global function definition for
‘pairwiseAlignment’
gapfillerRun: no visible global function definition for ‘Views’
gapfillerRun: no visible global function definition for ‘DNAStringSet’
gapfillerWrap: no visible global function definition for
‘MulticoreParam’
gapfillerWrap: no visible global function definition for ‘bplapply’
newfSet: no visible global function definition for ‘DNAStringSet’
plotCoverage: no visible binding for global variable ‘org.Hs.egSYMBOL’
plotCoverage: no visible global function definition for ‘transcripts’
plotCoverage: no visible global function definition for ‘exons’
plotCoverage: no visible global function definition for ‘IRanges’
starReads: no visible global function definition for ‘MulticoreParam’
starReads: no visible global function definition for ‘IRanges’
subreadRun: no visible global function definition for ‘bowtie_build’
subreadRun: no visible global function definition for ‘bowtie’
supportingReads: no visible global function definition for
‘MulticoreParam’
supportingReads: no visible global function definition for ‘bplapply’
* checking Rd files ... OK
* checking Rd metadata ... OK
* checking Rd cross-references ... OK
* checking for missing documentation entries ... OK
* checking for code/documentation mismatches ... OK
* checking Rd \usage sections ... OK
* checking Rd contents ... OK
* checking for unstated dependencies in examples ... OK
* checking line endings in C/C++/Fortran sources/headers ... OK
* checking compiled code ... OK
* checking sizes of PDF files under ‘inst/doc’ ... OK
* checking installed files from ‘inst/doc’ ... OK
* checking files in ‘vignettes’ ... OK
* checking examples ... [382s/385s] OK
Examples with CPU or elapsed time > 5s
user system elapsed
fusionPeptides 85.925 1.064 87.578
plotCoverage 86.689 0.254 87.513
chimeraSeqSet 45.482 0.217 45.996
chimeraSeqs 32.332 0.150 32.565
class.fSet 30.353 0.139 30.553
breakpointOverlaps 16.534 0.219 16.813
is.fSet 13.607 0.152 13.855
supportingReads 13.491 0.140 13.707
fusionName 11.731 0.101 12.047
filterList 11.488 0.105 11.640
importFusionData 10.900 0.135 11.228
defuseTPTN 8.554 0.017 8.606
* checking for unstated dependencies in vignettes ... NOTE
'library' or 'require' call not declared from: ‘xtable’
* checking package vignettes in ‘inst/doc’ ... OK
* checking running R code from vignettes ... SKIPPED
* checking re-building of vignette outputs ... SKIPPED
* checking PDF version of manual ... OK
* DONE
Status: 5 NOTEs
See
‘/Users/biocbuild/bbs-3.2-bioc/meat/chimera.Rcheck/00check.log’
for details.
* installing *source* package ‘chimera’ ...
** libs
clang++ -I/Library/Frameworks/R.framework/Resources/include -DNDEBUG -I/usr/local/include -I/usr/local/include/freetype2 -I/opt/X11/include -fPIC -Wall -mtune=core2 -g -O2 -c StarParser.cpp -o StarParser.o
clang++ -dynamiclib -Wl,-headerpad_max_install_names -undefined dynamic_lookup -single_module -multiply_defined suppress -L/Library/Frameworks/R.framework/Resources/lib -L/usr/local/lib -o chimera.so StarParser.o -F/Library/Frameworks/R.framework/.. -framework R -Wl,-framework -Wl,CoreFoundation
installing to /Users/biocbuild/bbs-3.2-bioc/meat/chimera.Rcheck/chimera/libs
** R
** inst
** preparing package for lazy loading
Now getting the GODb Object directly
Now getting the OrgDb Object directly
Now getting the TxDb Object directly
** help
*** installing help indices
** building package indices
** installing vignettes
** testing if installed package can be loaded
Now getting the GODb Object directly
Now getting the OrgDb Object directly
Now getting the TxDb Object directly
* DONE (chimera)