ballgown 2.1.1 Alyssa Frazee
Snapshot Date: 2015-08-19 16:24:33 -0700 (Wed, 19 Aug 2015) | URL: https://hedgehog.fhcrc.org/bioconductor/trunk/madman/Rpacks/ballgown | Last Changed Rev: 105646 / Revision: 107602 | Last Changed Date: 2015-06-29 21:29:06 -0700 (Mon, 29 Jun 2015) |
| zin1 | Linux (Ubuntu 14.04.2 LTS) / x86_64 | OK | OK | OK | |  |
moscato1 | Windows Server 2008 R2 Enterprise SP1 (64-bit) / x64 | [ OK ] | OK | OK | OK |  |
perceval | Mac OS X Snow Leopard (10.6.8) / x86_64 | OK | OK | OK | OK |  |
oaxaca | Mac OS X Mavericks (10.9.5) / x86_64 | OK | OK | OK | OK |  |
##############################################################################
##############################################################################
###
### Running command:
###
### C:\cygwin\bin\curl.exe -O http://zin1/BBS/3.2/bioc/src/contrib/ballgown_2.1.1.tar.gz && D:\biocbld\bbs-3.2-bioc\R\bin\R.exe CMD INSTALL --merge-multiarch ballgown_2.1.1.tar.gz && rm ballgown_2.1.1.tar.gz
###
##############################################################################
##############################################################################
% Total % Received % Xferd Average Speed Time Time Time Current
Dload Upload Total Spent Left Speed
0 0 0 0 0 0 0 0 --:--:-- --:--:-- --:--:-- 0
0 3127k 0 15816 0 0 45668 0 0:01:10 --:--:-- 0:01:10 46654
100 3127k 100 3127k 0 0 7639k 0 --:--:-- --:--:-- --:--:-- 7779k
install for i386
* installing to library 'D:/biocbld/bbs-3.2-bioc/R/library'
* installing *source* package 'ballgown' ...
** R
** data
** inst
** preparing package for lazy loading
Creating a new generic function for 'structure' in package 'ballgown'
** help
*** installing help indices
** building package indices
** installing vignettes
'ballgown.Rmd'
** testing if installed package can be loaded
install for x64
* installing to library 'D:/biocbld/bbs-3.2-bioc/R/library'
* installing *source* package 'ballgown' ...
** testing if installed package can be loaded
* DONE (ballgown)