ProtGenerics 1.1.0 Laurent Gatto
Snapshot Date: 2015-08-23 16:24:14 -0700 (Sun, 23 Aug 2015) | URL: https://hedgehog.fhcrc.org/bioconductor/trunk/madman/Rpacks/ProtGenerics | Last Changed Rev: 103367 / Revision: 107696 | Last Changed Date: 2015-05-01 09:44:50 -0700 (Fri, 01 May 2015) |
| zin1 | Linux (Ubuntu 14.04.2 LTS) / x86_64 | OK | OK | OK | |  |
perceval | Mac OS X Snow Leopard (10.6.8) / x86_64 | OK | OK | OK | OK |  |
oaxaca | Mac OS X Mavericks (10.9.5) / x86_64 | OK | OK | OK | [ OK ] |  |
##############################################################################
##############################################################################
###
### Running command:
###
### rm -rf ProtGenerics.buildbin-libdir && mkdir ProtGenerics.buildbin-libdir && /Users/biocbuild/BBS/utils/build-universal.sh ProtGenerics_1.1.0.tar.gz /Library/Frameworks/R.framework/Versions/Current/Resources/bin/R ProtGenerics.buildbin-libdir
###
##############################################################################
##############################################################################
>>>>>>>
>>>>>>> INSTALLATION WITH 'R CMD INSTALL --preclean --no-multiarch --library=ProtGenerics.buildbin-libdir ProtGenerics_1.1.0.tar.gz'
>>>>>>>
* installing *source* package ‘ProtGenerics’ ...
** R
** preparing package for lazy loading
** help
*** installing help indices
** building package indices
** testing if installed package can be loaded
* DONE (ProtGenerics)