Back to the "Multiple platform build/check report" A  B  C  D  E  F  G  H  I  J  K  L  M  N  O [P] Q  R  S  T  U  V  W  X  Y  Z 

BioC 3.2: CHECK report for PWMEnrich on moscato1

This page was generated on 2015-08-20 13:20:53 -0700 (Thu, 20 Aug 2015).

Package 791/1069HostnameOS / ArchINSTALLBUILDCHECKBUILD BIN
PWMEnrich 4.5.0
Robert Stojnic
Snapshot Date: 2015-08-19 16:24:33 -0700 (Wed, 19 Aug 2015)
URL: https://hedgehog.fhcrc.org/bioconductor/trunk/madman/Rpacks/PWMEnrich
Last Changed Rev: 102594 / Revision: 107602
Last Changed Date: 2015-04-16 13:02:44 -0700 (Thu, 16 Apr 2015)
zin1 Linux (Ubuntu 14.04.2 LTS) / x86_64  OK  OK  OK UNNEEDED, same version exists in internal repository
moscato1 Windows Server 2008 R2 Enterprise SP1 (64-bit) / x64  OK  OK [ OK ] OK UNNEEDED, same version exists in internal repository
perceval Mac OS X Snow Leopard (10.6.8) / x86_64  OK  OK  OK  OK UNNEEDED, same version exists in internal repository
oaxaca Mac OS X Mavericks (10.9.5) / x86_64  OK  OK  OK  OK UNNEEDED, same version exists in internal repository

Summary

Package: PWMEnrich
Version: 4.5.0
Command: rm -rf PWMEnrich.buildbin-libdir PWMEnrich.Rcheck && mkdir PWMEnrich.buildbin-libdir PWMEnrich.Rcheck && D:\biocbld\bbs-3.2-bioc\R\bin\R.exe CMD INSTALL --build --merge-multiarch --library=PWMEnrich.buildbin-libdir PWMEnrich_4.5.0.tar.gz >PWMEnrich.Rcheck\00install.out 2>&1 && cp PWMEnrich.Rcheck\00install.out PWMEnrich-install.out && D:\biocbld\bbs-3.2-bioc\R\bin\R.exe CMD check --library=PWMEnrich.buildbin-libdir --install="check:PWMEnrich-install.out" --force-multiarch --no-vignettes --timings PWMEnrich_4.5.0.tar.gz
StartedAt: 2015-08-20 09:00:45 -0700 (Thu, 20 Aug 2015)
EndedAt: 2015-08-20 09:05:06 -0700 (Thu, 20 Aug 2015)
EllapsedTime: 261.8 seconds
RetCode: 0
Status:  OK  
CheckDir: PWMEnrich.Rcheck
Warnings: 0

Command output

##############################################################################
##############################################################################
###
### Running command:
###
###   rm -rf PWMEnrich.buildbin-libdir PWMEnrich.Rcheck && mkdir PWMEnrich.buildbin-libdir PWMEnrich.Rcheck && D:\biocbld\bbs-3.2-bioc\R\bin\R.exe CMD INSTALL --build --merge-multiarch --library=PWMEnrich.buildbin-libdir PWMEnrich_4.5.0.tar.gz >PWMEnrich.Rcheck\00install.out 2>&1 && cp PWMEnrich.Rcheck\00install.out PWMEnrich-install.out  && D:\biocbld\bbs-3.2-bioc\R\bin\R.exe CMD check --library=PWMEnrich.buildbin-libdir --install="check:PWMEnrich-install.out" --force-multiarch --no-vignettes --timings PWMEnrich_4.5.0.tar.gz
###
##############################################################################
##############################################################################


* using log directory 'D:/biocbld/bbs-3.2-bioc/meat/PWMEnrich.Rcheck'
* using R version 3.2.2 (2015-08-14)
* using platform: x86_64-w64-mingw32 (64-bit)
* using session charset: ISO8859-1
* using option '--no-vignettes'
* checking for file 'PWMEnrich/DESCRIPTION' ... OK
* checking extension type ... Package
* this is package 'PWMEnrich' version '4.5.0'
* checking package namespace information ... OK
* checking package dependencies ... OK
* checking if this is a source package ... OK
* checking if there is a namespace ... OK
* checking for hidden files and directories ... OK
* checking for portable file names ... OK
* checking whether package 'PWMEnrich' can be installed ... OK
* checking installed package size ... NOTE
  installed size is  5.1Mb
  sub-directories of 1Mb or more:
    doc       1.3Mb
    extdata   3.4Mb
* checking package directory ... OK
* checking 'build' directory ... OK
* checking DESCRIPTION meta-information ... OK
* checking top-level files ... OK
* checking for left-over files ... OK
* checking index information ... OK
* checking package subdirectories ... OK
* checking R files for non-ASCII characters ... OK
* checking R files for syntax errors ... OK
* loading checks for arch 'i386'
** checking whether the package can be loaded ... OK
** checking whether the package can be loaded with stated dependencies ... OK
** checking whether the package can be unloaded cleanly ... OK
** checking whether the namespace can be loaded with stated dependencies ... OK
** checking whether the namespace can be unloaded cleanly ... OK
* loading checks for arch 'x64'
** checking whether the package can be loaded ... OK
** checking whether the package can be loaded with stated dependencies ... OK
** checking whether the package can be unloaded cleanly ... OK
** checking whether the namespace can be loaded with stated dependencies ... OK
** checking whether the namespace can be unloaded cleanly ... OK
* checking dependencies in R code ... NOTE
'library' or 'require' calls in package code:
  'PWMEnrich.Dmelanogaster.background' 'PWMEnrich.Hsapiens.background'
  'PWMEnrich.Mmusculus.background' 'parallel'
  Please use :: or requireNamespace() instead.
  See section 'Suggested packages' in the 'Writing R Extensions' manual.
* checking S3 generic/method consistency ... OK
* checking replacement functions ... OK
* checking foreign function calls ... OK
* checking R code for possible problems ... NOTE
getPromoters: no visible global function definition for
  'providerVersion'
motifScores: no visible global function definition for 'mclapply'
motifScoresBigMemory: no visible global function definition for
  'mclapply'
registerCoresPWMEnrich: no visible global function definition for
  'detectCores'
* checking Rd files ... OK
* checking Rd metadata ... OK
* checking Rd cross-references ... OK
* checking for missing documentation entries ... OK
* checking for code/documentation mismatches ... OK
* checking Rd \usage sections ... OK
* checking Rd contents ... OK
* checking for unstated dependencies in examples ... OK
* checking installed files from 'inst/doc' ... OK
* checking files in 'vignettes' ... OK
* checking examples ...
** running examples for arch 'i386' ... [43s] OK
Examples with CPU or elapsed time > 5s
                user system elapsed
motifScores     5.05   0.05     5.1
motifEnrichment 5.05   0.00     5.2
** running examples for arch 'x64' ... [51s] OK
Examples with CPU or elapsed time > 5s
                                                  user system elapsed
motifScores                                       6.02   0.01    6.04
motifEnrichment                                   5.19   0.00    5.20
sequenceReport-commaMotifEnrichmentResults-method 5.00   0.01    5.02
* checking for unstated dependencies in 'tests' ... OK
* checking tests ...
** running tests for arch 'i386' ...
  Running 'test-all.R' [6s]
 [7s] OK
** running tests for arch 'x64' ...
  Running 'test-all.R' [8s]
 [8s] OK
* checking for unstated dependencies in vignettes ... OK
* checking package vignettes in 'inst/doc' ... OK
* checking running R code from vignettes ... SKIPPED
* checking re-building of vignette outputs ... SKIPPED
* checking PDF version of manual ... OK
* DONE

Status: 3 NOTEs
See
  'D:/biocbld/bbs-3.2-bioc/meat/PWMEnrich.Rcheck/00check.log'
for details.


PWMEnrich.Rcheck/00install.out:


install for i386

* installing *source* package 'PWMEnrich' ...
** R
** inst
** preparing package for lazy loading
** help
*** installing help indices
** building package indices
** installing vignettes
** testing if installed package can be loaded

install for x64

* installing *source* package 'PWMEnrich' ...
** testing if installed package can be loaded
* MD5 sums
packaged installation of 'PWMEnrich' as PWMEnrich_4.5.0.zip
* DONE (PWMEnrich)

PWMEnrich.Rcheck/examples_i386/PWMEnrich-Ex.timings:

nameusersystemelapsed
PFMtoPWM2.820.053.92
PWMUnscaled0.490.030.51
getBackgroundFrequencies000
groupReport-commaMotifEnrichmentResults-method2.860.032.93
makeBackground000
makePWMCutoffBackground000
makePWMEmpiricalBackground000
makePWMGEVBackground000
makePWMLognBackground000
makePWMPvalCutoffBackground000
makePWMPvalCutoffBackgroundFromSeq000
makePriors000
motifDiffEnrichment3.290.003.29
motifEnrichment5.050.005.20
motifIC0.080.000.19
motifRankingForGroup-commaMotifEnrichmentResults-method2.420.002.41
motifRankingForSequence-commaMotifEnrichmentResults-method2.040.002.05
motifScores5.050.055.10
motifSimilarity0.110.000.11
plot0.390.000.39
plotMotifScores0.140.010.16
plotTopMotifsGroup-commaMotifEnrichmentResults-method3.050.003.04
plotTopMotifsSequence-commaMotifEnrichmentResults-method2.840.002.84
readMotifs0.100.000.11
registerCoresPWMEnrich000
reverseComplement0.040.000.03
scanWithPWM0.040.000.05
sequenceReport-commaMotifEnrichmentResults-method4.660.024.68
toPWM2.620.052.67
useBigMemoryPWMEnrich000

PWMEnrich.Rcheck/examples_x64/PWMEnrich-Ex.timings:

nameusersystemelapsed
PFMtoPWM3.170.203.37
PWMUnscaled0.720.020.73
getBackgroundFrequencies000
groupReport-commaMotifEnrichmentResults-method4.130.034.33
makeBackground0.020.000.01
makePWMCutoffBackground000
makePWMEmpiricalBackground000
makePWMGEVBackground000
makePWMLognBackground000
makePWMPvalCutoffBackground000
makePWMPvalCutoffBackgroundFromSeq000
makePriors0.020.000.01
motifDiffEnrichment4.370.004.37
motifEnrichment5.190.005.20
motifIC0.080.000.07
motifRankingForGroup-commaMotifEnrichmentResults-method2.560.002.56
motifRankingForSequence-commaMotifEnrichmentResults-method3.180.003.23
motifScores6.020.016.04
motifSimilarity0.140.000.14
plot0.250.000.42
plotMotifScores0.090.000.09
plotTopMotifsGroup-commaMotifEnrichmentResults-method3.420.023.44
plotTopMotifsSequence-commaMotifEnrichmentResults-method3.660.003.66
readMotifs0.110.030.14
registerCoresPWMEnrich000
reverseComplement0.050.000.05
scanWithPWM0.080.000.08
sequenceReport-commaMotifEnrichmentResults-method5.000.015.02
toPWM3.260.243.51
useBigMemoryPWMEnrich000