Biobase 2.29.1 Bioconductor Package Maintainer
Snapshot Date: 2015-08-23 16:24:14 -0700 (Sun, 23 Aug 2015) | URL: https://hedgehog.fhcrc.org/bioconductor/trunk/madman/Rpacks/Biobase | Last Changed Rev: 103388 / Revision: 107696 | Last Changed Date: 2015-05-02 15:14:07 -0700 (Sat, 02 May 2015) |
| zin1 | Linux (Ubuntu 14.04.2 LTS) / x86_64 | OK | OK | OK | |  |
perceval | Mac OS X Snow Leopard (10.6.8) / x86_64 | [ OK ] | OK | OK | OK |  |
oaxaca | Mac OS X Mavericks (10.9.5) / x86_64 | OK | OK | OK | OK |  |
##############################################################################
##############################################################################
###
### Running command:
###
### /Library/Frameworks/R.framework/Versions/Current/Resources/bin/R CMD INSTALL Biobase
###
##############################################################################
##############################################################################
* installing to library ‘/Library/Frameworks/R.framework/Versions/3.2/Resources/library’
* installing *source* package ‘Biobase’ ...
** libs
llvm-gcc-4.2 -arch x86_64 -std=gnu99 -I/Library/Frameworks/R.framework/Resources/include -DNDEBUG -I/usr/local/include -fPIC -mtune=core2 -g -O2 -Wall -c Rinit.c -o Rinit.o
llvm-gcc-4.2 -arch x86_64 -std=gnu99 -I/Library/Frameworks/R.framework/Resources/include -DNDEBUG -I/usr/local/include -fPIC -mtune=core2 -g -O2 -Wall -c anyMissing.c -o anyMissing.o
llvm-gcc-4.2 -arch x86_64 -std=gnu99 -I/Library/Frameworks/R.framework/Resources/include -DNDEBUG -I/usr/local/include -fPIC -mtune=core2 -g -O2 -Wall -c envir.c -o envir.o
llvm-gcc-4.2 -arch x86_64 -std=gnu99 -I/Library/Frameworks/R.framework/Resources/include -DNDEBUG -I/usr/local/include -fPIC -mtune=core2 -g -O2 -Wall -c matchpt.c -o matchpt.o
llvm-gcc-4.2 -arch x86_64 -std=gnu99 -I/Library/Frameworks/R.framework/Resources/include -DNDEBUG -I/usr/local/include -fPIC -mtune=core2 -g -O2 -Wall -c rowMedians.c -o rowMedians.o
llvm-gcc-4.2 -arch x86_64 -std=gnu99 -I/Library/Frameworks/R.framework/Resources/include -DNDEBUG -I/usr/local/include -fPIC -mtune=core2 -g -O2 -Wall -c sublist_extract.c -o sublist_extract.o
llvm-gcc-4.2 -arch x86_64 -std=gnu99 -dynamiclib -Wl,-headerpad_max_install_names -undefined dynamic_lookup -single_module -multiply_defined suppress -L/Library/Frameworks/R.framework/Resources/lib -L/usr/local/lib -L/usr/local/lib -o Biobase.so Rinit.o anyMissing.o envir.o matchpt.o rowMedians.o sublist_extract.o -F/Library/Frameworks/R.framework/.. -framework R -Wl,-framework -Wl,CoreFoundation
installing to /Library/Frameworks/R.framework/Versions/3.2/Resources/library/Biobase/libs
** R
** data
** inst
** preparing package for lazy loading
** help
*** installing help indices
** building package indices
** installing vignettes
** testing if installed package can be loaded
* DONE (Biobase)