Back to Multiple platform build/check report for BioC 3.19: simplified long |
|
This page was generated on 2024-10-18 20:39 -0400 (Fri, 18 Oct 2024).
Hostname | OS | Arch (*) | R version | Installed pkgs |
---|---|---|---|---|
nebbiolo1 | Linux (Ubuntu 22.04.3 LTS) | x86_64 | 4.4.1 (2024-06-14) -- "Race for Your Life" | 4763 |
palomino7 | Windows Server 2022 Datacenter | x64 | 4.4.1 (2024-06-14 ucrt) -- "Race for Your Life" | 4500 |
merida1 | macOS 12.7.5 Monterey | x86_64 | 4.4.1 (2024-06-14) -- "Race for Your Life" | 4530 |
kjohnson1 | macOS 13.6.6 Ventura | arm64 | 4.4.1 (2024-06-14) -- "Race for Your Life" | 4480 |
Click on any hostname to see more info about the system (e.g. compilers) (*) as reported by 'uname -p', except on Windows and Mac OS X |
Package 2220/2300 | Hostname | OS / Arch | INSTALL | BUILD | CHECK | BUILD BIN | ||||||||
ttgsea 1.12.0 (landing page) Dongmin Jung
| nebbiolo1 | Linux (Ubuntu 22.04.3 LTS) / x86_64 | OK | OK | OK | ![]() | ||||||||
palomino7 | Windows Server 2022 Datacenter / x64 | OK | ERROR | skipped | skipped | |||||||||
merida1 | macOS 12.7.5 Monterey / x86_64 | OK | OK | OK | OK | ![]() | ||||||||
kjohnson1 | macOS 13.6.6 Ventura / arm64 | OK | OK | OK | NA | |||||||||
To the developers/maintainers of the ttgsea package: - Allow up to 24 hours (and sometimes 48 hours) for your latest push to git@git.bioconductor.org:packages/ttgsea.git to reflect on this report. See Troubleshooting Build Report for more information. - Use the following Renviron settings to reproduce errors and warnings. - If 'R CMD check' started to fail recently on the Linux builder(s) over a missing dependency, add the missing dependency to 'Suggests:' in your DESCRIPTION file. See Renviron.bioc for more information. |
Package: ttgsea |
Version: 1.12.0 |
Command: /home/biocbuild/bbs-3.19-bioc/R/bin/R CMD check --install=check:ttgsea.install-out.txt --library=/home/biocbuild/bbs-3.19-bioc/R/site-library --timings ttgsea_1.12.0.tar.gz |
StartedAt: 2024-10-17 06:07:45 -0400 (Thu, 17 Oct 2024) |
EndedAt: 2024-10-17 06:10:38 -0400 (Thu, 17 Oct 2024) |
EllapsedTime: 173.4 seconds |
RetCode: 0 |
Status: OK |
CheckDir: ttgsea.Rcheck |
Warnings: 0 |
############################################################################## ############################################################################## ### ### Running command: ### ### /home/biocbuild/bbs-3.19-bioc/R/bin/R CMD check --install=check:ttgsea.install-out.txt --library=/home/biocbuild/bbs-3.19-bioc/R/site-library --timings ttgsea_1.12.0.tar.gz ### ############################################################################## ############################################################################## * using log directory ‘/home/biocbuild/bbs-3.19-bioc/meat/ttgsea.Rcheck’ * using R version 4.4.1 (2024-06-14) * using platform: x86_64-pc-linux-gnu * R was compiled by gcc (Ubuntu 11.4.0-1ubuntu1~22.04) 11.4.0 GNU Fortran (Ubuntu 11.4.0-1ubuntu1~22.04) 11.4.0 * running under: Ubuntu 22.04.5 LTS * using session charset: UTF-8 * checking for file ‘ttgsea/DESCRIPTION’ ... OK * checking extension type ... Package * this is package ‘ttgsea’ version ‘1.12.0’ * checking package namespace information ... OK * checking package dependencies ... OK * checking if this is a source package ... OK * checking if there is a namespace ... OK * checking for hidden files and directories ... OK * checking for portable file names ... OK * checking for sufficient/correct file permissions ... OK * checking whether package ‘ttgsea’ can be installed ... OK * checking installed package size ... OK * checking package directory ... OK * checking ‘build’ directory ... OK * checking DESCRIPTION meta-information ... OK * checking top-level files ... OK * checking for left-over files ... OK * checking index information ... OK * checking package subdirectories ... OK * checking code files for non-ASCII characters ... OK * checking R files for syntax errors ... OK * checking whether the package can be loaded ... OK * checking whether the package can be loaded with stated dependencies ... OK * checking whether the package can be unloaded cleanly ... OK * checking whether the namespace can be loaded with stated dependencies ... OK * checking whether the namespace can be unloaded cleanly ... OK * checking loading without being on the library search path ... OK * checking dependencies in R code ... OK * checking S3 generic/method consistency ... OK * checking replacement functions ... OK * checking foreign function calls ... OK * checking R code for possible problems ... OK * checking Rd files ... OK * checking Rd metadata ... OK * checking Rd cross-references ... OK * checking for missing documentation entries ... OK * checking for code/documentation mismatches ... OK * checking Rd \usage sections ... OK * checking Rd contents ... OK * checking for unstated dependencies in examples ... OK * checking files in ‘vignettes’ ... OK * checking examples ... OK Examples with CPU (user + system) or elapsed time > 5s user system elapsed predict_model 26.879 3.831 14.569 fit_model 24.644 2.916 15.299 token_vector 9.442 0.403 6.181 text_token 9.352 0.342 6.046 bi_gru 3.412 0.685 6.008 * checking for unstated dependencies in ‘tests’ ... OK * checking tests ... Running ‘testthat.R’ OK * checking for unstated dependencies in vignettes ... OK * checking package vignettes ... OK * checking re-building of vignette outputs ... OK * checking PDF version of manual ... OK * DONE Status: OK
ttgsea.Rcheck/00install.out
############################################################################## ############################################################################## ### ### Running command: ### ### /home/biocbuild/bbs-3.19-bioc/R/bin/R CMD INSTALL ttgsea ### ############################################################################## ############################################################################## * installing to library ‘/home/biocbuild/bbs-3.19-bioc/R/site-library’ * installing *source* package ‘ttgsea’ ... ** using staged installation ** R ** byte-compile and prepare package for lazy loading ** help *** installing help indices ** building package indices ** installing vignettes ** testing if installed package can be loaded from temporary location ** testing if installed package can be loaded from final location ** testing if installed package keeps a record of temporary installation path * DONE (ttgsea)
ttgsea.Rcheck/tests/testthat.Rout
R version 4.4.1 (2024-06-14) -- "Race for Your Life" Copyright (C) 2024 The R Foundation for Statistical Computing Platform: x86_64-pc-linux-gnu R is free software and comes with ABSOLUTELY NO WARRANTY. You are welcome to redistribute it under certain conditions. Type 'license()' or 'licence()' for distribution details. R is a collaborative project with many contributors. Type 'contributors()' for more information and 'citation()' on how to cite R or R packages in publications. Type 'demo()' for some demos, 'help()' for on-line help, or 'help.start()' for an HTML browser interface to help. Type 'q()' to quit R. > library(testthat) > library(ttgsea) Loading required package: keras > > test_check("ttgsea") 2024-10-17 06:09:39.178232: I tensorflow/core/platform/cpu_feature_guard.cc:193] This TensorFlow binary is optimized with oneAPI Deep Neural Network Library (oneDNN) to use the following CPU instructions in performance-critical operations: AVX2 AVX512F AVX512_VNNI FMA To enable them in other operations, rebuild TensorFlow with the appropriate compiler flags. 2024-10-17 06:09:39.401259: I tensorflow/core/util/util.cc:169] oneDNN custom operations are on. You may see slightly different numerical results due to floating-point round-off errors from different computation orders. To turn them off, set the environment variable `TF_ENABLE_ONEDNN_OPTS=0`. 2024-10-17 06:09:39.444427: E tensorflow/stream_executor/cuda/cuda_blas.cc:2981] Unable to register cuBLAS factory: Attempting to register factory for plugin cuBLAS when one has already been registered 2024-10-17 06:09:40.315262: W tensorflow/stream_executor/platform/default/dso_loader.cc:64] Could not load dynamic library 'libnvinfer.so.7'; dlerror: libnvinfer.so.7: cannot open shared object file: No such file or directory; LD_LIBRARY_PATH: /home/biocbuild/bbs-3.19-bioc/R/lib:/usr/local/lib:/usr/lib/x86_64-linux-gnu:/usr/lib/jvm/java-11-openjdk-amd64/lib/server:/home/biocbuild/bbs-3.19-bioc/R/lib:/usr/local/lib:/usr/lib/x86_64-linux-gnu:/usr/lib/jvm/java-11-openjdk-amd64/lib/server:/home/biocbuild/bbs-3.19-bioc/R/lib:/usr/local/lib:/usr/lib/x86_64-linux-gnu:/usr/lib/jvm/java-11-openjdk-amd64/lib/server:/home/biocbuild/bbs-3.19-bioc/R/lib:/usr/local/lib:/usr/lib/x86_64-linux-gnu:/usr/lib/jvm/java-11-openjdk-amd64/lib/server:/home/biocbuild/bbs-3.19-bioc/R/lib:/usr/local/lib:/usr/lib/x86_64-linux-gnu:/usr/lib/jvm/java-11-openjdk-amd64/lib/server 2024-10-17 06:09:40.315403: W tensorflow/stream_executor/platform/default/dso_loader.cc:64] Could not load dynamic library 'libnvinfer_plugin.so.7'; dlerror: libnvinfer_plugin.so.7: cannot open shared object file: No such file or directory; LD_LIBRARY_PATH: /home/biocbuild/bbs-3.19-bioc/R/lib:/usr/local/lib:/usr/lib/x86_64-linux-gnu:/usr/lib/jvm/java-11-openjdk-amd64/lib/server:/home/biocbuild/bbs-3.19-bioc/R/lib:/usr/local/lib:/usr/lib/x86_64-linux-gnu:/usr/lib/jvm/java-11-openjdk-amd64/lib/server:/home/biocbuild/bbs-3.19-bioc/R/lib:/usr/local/lib:/usr/lib/x86_64-linux-gnu:/usr/lib/jvm/java-11-openjdk-amd64/lib/server:/home/biocbuild/bbs-3.19-bioc/R/lib:/usr/local/lib:/usr/lib/x86_64-linux-gnu:/usr/lib/jvm/java-11-openjdk-amd64/lib/server:/home/biocbuild/bbs-3.19-bioc/R/lib:/usr/local/lib:/usr/lib/x86_64-linux-gnu:/usr/lib/jvm/java-11-openjdk-amd64/lib/server 2024-10-17 06:09:40.315425: W tensorflow/compiler/tf2tensorrt/utils/py_utils.cc:38] TF-TRT Warning: Cannot dlopen some TensorRT libraries. If you would like to use Nvidia GPU with TensorRT, please make sure the missing libraries mentioned above are installed properly. 2024-10-17 06:09:42.187277: E tensorflow/stream_executor/cuda/cuda_driver.cc:265] failed call to cuInit: CUDA_ERROR_NO_DEVICE: no CUDA-capable device is detected 2024-10-17 06:09:42.187366: I tensorflow/stream_executor/cuda/cuda_diagnostics.cc:156] kernel driver does not appear to be running on this host (nebbiolo1): /proc/driver/nvidia/version does not exist 2024-10-17 06:09:42.187776: I tensorflow/core/platform/cpu_feature_guard.cc:193] This TensorFlow binary is optimized with oneAPI Deep Neural Network Library (oneDNN) to use the following CPU instructions in performance-critical operations: AVX2 AVX512F AVX512_VNNI FMA To enable them in other operations, rebuild TensorFlow with the appropriate compiler flags. 1/45 [..............................] - ETA: 2:29 - loss: 1.5278 - pearson_correlation: 0.1614 3/45 [=>............................] - ETA: 1s - loss: 1.6245 - pearson_correlation: 0.0853 5/45 [==>...........................] - ETA: 1s - loss: 1.5872 - pearson_correlation: 0.0416 7/45 [===>..........................] - ETA: 1s - loss: 1.6291 - pearson_correlation: -0.0163 9/45 [=====>........................] - ETA: 1s - loss: 1.6670 - pearson_correlation: -0.0263 11/45 [======>.......................] - ETA: 1s - loss: 1.6712 - pearson_correlation: 0.0114 13/45 [=======>......................] - ETA: 1s - loss: 1.6594 - pearson_correlation: -0.0064 15/45 [=========>....................] - ETA: 0s - loss: 1.6532 - pearson_correlation: -0.0261 17/45 [==========>...................] - ETA: 0s - loss: 1.6069 - pearson_correlation: -2.2289e-04 19/45 [===========>..................] - ETA: 0s - loss: 1.6025 - pearson_correlation: 0.0269 21/45 [=============>................] - ETA: 0s - loss: 1.5951 - pearson_correlation: 0.0403 23/45 [==============>...............] - ETA: 0s - loss: 1.5997 - pearson_correlation: 0.0358 25/45 [===============>..............] - ETA: 0s - loss: 1.5944 - pearson_correlation: 0.0457 27/45 [=================>............] - ETA: 0s - loss: 1.5842 - pearson_correlation: 0.0353 29/45 [==================>...........] - ETA: 0s - loss: 1.5737 - pearson_correlation: 0.0429 31/45 [===================>..........] - ETA: 0s - loss: 1.5634 - pearson_correlation: 0.0477 33/45 [=====================>........] - ETA: 0s - loss: 1.5626 - pearson_correlation: 0.0566 35/45 [======================>.......] - ETA: 0s - loss: 1.5616 - pearson_correlation: 0.0523 37/45 [=======================>......] - ETA: 0s - loss: 1.5624 - pearson_correlation: 0.0558 39/45 [=========================>....] - ETA: 0s - loss: 1.5643 - pearson_correlation: 0.0635 41/45 [==========================>...] - ETA: 0s - loss: 1.5621 - pearson_correlation: 0.0660 43/45 [===========================>..] - ETA: 0s - loss: 1.5706 - pearson_correlation: 0.0670 45/45 [==============================] - ETA: 0s - loss: 1.5658 - pearson_correlation: 0.0620 45/45 [==============================] - 5s 34ms/step - loss: 1.5658 - pearson_correlation: 0.0620 1/4 [======>.......................] - ETA: 1s 4/4 [==============================] - 0s 7ms/step 1/1 [==============================] - ETA: 0s 1/1 [==============================] - 0s 26ms/step 1/32 [..............................] - ETA: 0s 10/32 [========>.....................] - ETA: 0s 19/32 [================>.............] - ETA: 0s 28/32 [=========================>....] - ETA: 0s 32/32 [==============================] - 0s 6ms/step 1/32 [..............................] - ETA: 0s 10/32 [========>.....................] - ETA: 0s 18/32 [===============>..............] - ETA: 0s 27/32 [========================>.....] - ETA: 0s 32/32 [==============================] - 0s 6ms/step 1/1 [==============================] - ETA: 0s 1/1 [==============================] - 0s 29ms/step 1/32 [..............................] - ETA: 0s 10/32 [========>.....................] - ETA: 0s 19/32 [================>.............] - ETA: 0s 26/32 [=======================>......] - ETA: 0s 32/32 [==============================] - 0s 6ms/step 1/32 [..............................] - ETA: 0s 10/32 [========>.....................] - ETA: 0s 17/32 [==============>...............] - ETA: 0s 23/32 [====================>.........] - ETA: 0s 30/32 [===========================>..] - ETA: 0s 32/32 [==============================] - 0s 7ms/step 1/32 [..............................] - ETA: 0s 11/32 [=========>....................] - ETA: 0s 20/32 [=================>............] - ETA: 0s 28/32 [=========================>....] - ETA: 0s 32/32 [==============================] - 0s 6ms/step 1/32 [..............................] - ETA: 0s 10/32 [========>.....................] - ETA: 0s 17/32 [==============>...............] - ETA: 0s 22/32 [===================>..........] - ETA: 0s 27/32 [========================>.....] - ETA: 0s 32/32 [==============================] - ETA: 0s 32/32 [==============================] - 0s 9ms/step [ FAIL 0 | WARN 0 | SKIP 0 | PASS 13 ] > > proc.time() user system elapsed 26.971 4.097 18.427
ttgsea.Rcheck/ttgsea-Ex.timings
name | user | system | elapsed | |
bi_gru | 3.412 | 0.685 | 6.008 | |
bi_lstm | 0.219 | 0.001 | 0.219 | |
fit_model | 24.644 | 2.916 | 15.299 | |
metric_pearson_correlation | 0.01 | 0.00 | 0.01 | |
plot_model | 0.187 | 0.009 | 0.188 | |
predict_model | 26.879 | 3.831 | 14.569 | |
sampling_generator | 0.001 | 0.000 | 0.001 | |
text_token | 9.352 | 0.342 | 6.046 | |
token_vector | 9.442 | 0.403 | 6.181 | |