Back to Build/check report for BioC 3.17
ABCDEFGHIJKL[M]NOPQRSTUVWXYZ

This page was generated on 2023-01-02 09:00:38 -0500 (Mon, 02 Jan 2023).

HostnameOSArch (*)R versionInstalled pkgs
palomino5Windows Server 2022 Datacenterx64R Under development (unstable) (2022-12-25 r83502 ucrt) -- "Unsuffered Consequences" 4165
Click on any hostname to see more info about the system (e.g. compilers)      (*) as reported by 'uname -p', except on Windows and Mac OS X

CHECK results for methylInheritance on palomino5


To the developers/maintainers of the methylInheritance package:
Make sure to use the following settings in order to reproduce any error or warning you see on this page.

raw results

Package 1156/2158HostnameOS / ArchINSTALLBUILDCHECKBUILD BIN
methylInheritance 1.23.0  (landing page)
Astrid Deschênes
Snapshot Date: 2022-12-28 11:00:06 -0500 (Wed, 28 Dec 2022)
git_url: https://git.bioconductor.org/packages/methylInheritance
git_branch: master
git_last_commit: 4002def
git_last_commit_date: 2022-11-01 11:15:34 -0500 (Tue, 01 Nov 2022)
palomino5Windows Server 2022 Datacenter / x64  OK    OK    OK    OK  

Summary

Package: methylInheritance
Version: 1.23.0
Command: F:\biocbuild\bbs-3.17-bioc\R\bin\R.exe CMD check --no-multiarch --install=check:methylInheritance.install-out.txt --library=F:\biocbuild\bbs-3.17-bioc\R\library --no-vignettes --timings methylInheritance_1.23.0.tar.gz
StartedAt: 2022-12-29 01:16:40 -0500 (Thu, 29 Dec 2022)
EndedAt: 2022-12-29 01:23:24 -0500 (Thu, 29 Dec 2022)
EllapsedTime: 404.2 seconds
RetCode: 0
Status:   OK  
CheckDir: methylInheritance.Rcheck
Warnings: 0

Command output

##############################################################################
##############################################################################
###
### Running command:
###
###   F:\biocbuild\bbs-3.17-bioc\R\bin\R.exe CMD check --no-multiarch --install=check:methylInheritance.install-out.txt --library=F:\biocbuild\bbs-3.17-bioc\R\library --no-vignettes --timings methylInheritance_1.23.0.tar.gz
###
##############################################################################
##############################################################################


* using log directory 'F:/biocbuild/bbs-3.17-bioc-rtools43/meat/methylInheritance.Rcheck'
* using R Under development (unstable) (2022-12-25 r83502 ucrt)
* using platform: x86_64-w64-mingw32 (64-bit)
* R was compiled by
    gcc.exe (GCC) 10.4.0
    GNU Fortran (GCC) 10.4.0
* running under: Windows Server x64 (build 20348)
* using session charset: UTF-8
* using option '--no-vignettes'
* checking for file 'methylInheritance/DESCRIPTION' ... OK
* this is package 'methylInheritance' version '1.23.0'
* package encoding: UTF-8
* checking package namespace information ... OK
* checking package dependencies ... OK
* checking if this is a source package ... OK
* checking if there is a namespace ... OK
* checking for hidden files and directories ... OK
* checking for portable file names ... OK
* checking whether package 'methylInheritance' can be installed ... OK
* checking installed package size ... OK
* checking package directory ... OK
* checking 'build' directory ... OK
* checking DESCRIPTION meta-information ... OK
* checking top-level files ... OK
* checking for left-over files ... OK
* checking index information ... OK
* checking package subdirectories ... OK
* checking R files for non-ASCII characters ... OK
* checking R files for syntax errors ... OK
* checking whether the package can be loaded ... OK
* checking whether the package can be loaded with stated dependencies ... OK
* checking whether the package can be unloaded cleanly ... OK
* checking whether the namespace can be loaded with stated dependencies ... OK
* checking whether the namespace can be unloaded cleanly ... OK
* checking dependencies in R code ... OK
* checking S3 generic/method consistency ... OK
* checking replacement functions ... OK
* checking foreign function calls ... OK
* checking R code for possible problems ... OK
* checking Rd files ... OK
* checking Rd metadata ... OK
* checking Rd cross-references ... OK
* checking for missing documentation entries ... OK
* checking for code/documentation mismatches ... OK
* checking Rd \usage sections ... OK
* checking Rd contents ... OK
* checking for unstated dependencies in examples ... OK
* checking contents of 'data' directory ... OK
* checking data for non-ASCII characters ... OK
* checking data for ASCII and uncompressed saves ... OK
* checking files in 'vignettes' ... OK
* checking examples ... OK
Examples with CPU (user + system) or elapsed time > 5s
                                     user system elapsed
runPermutation                      91.62   1.29   92.97
runObservation                      40.81   0.72   41.52
samplesForTransgenerationalAnalysis 30.50   0.61   31.22
runOnePermutationOnAllGenerations    9.85   0.14   10.03
demoForTransgenerationalAnalysis     5.04   0.16    5.19
* checking for unstated dependencies in 'tests' ... OK
* checking tests ...
  Running 'runTests.R'
 OK
* checking for unstated dependencies in vignettes ... OK
* checking package vignettes in 'inst/doc' ... OK
* checking running R code from vignettes ... SKIPPED
* checking re-building of vignette outputs ... SKIPPED
* checking PDF version of manual ... OK
* DONE

Status: OK


Installation output

methylInheritance.Rcheck/00install.out

##############################################################################
##############################################################################
###
### Running command:
###
###   F:\biocbuild\bbs-3.17-bioc\R\bin\R.exe CMD INSTALL methylInheritance
###
##############################################################################
##############################################################################


* installing to library 'F:/biocbuild/bbs-3.17-bioc/R/library'
* installing *source* package 'methylInheritance' ...
** using staged installation
** R
** data
** inst
** byte-compile and prepare package for lazy loading
** help
*** installing help indices
** building package indices
** installing vignettes
** testing if installed package can be loaded from temporary location
** testing if installed package can be loaded from final location
** testing if installed package keeps a record of temporary installation path
* DONE (methylInheritance)

Tests output

methylInheritance.Rcheck/tests/runTests.Rout


R Under development (unstable) (2022-12-25 r83502 ucrt) -- "Unsuffered Consequences"
Copyright (C) 2022 The R Foundation for Statistical Computing
Platform: x86_64-w64-mingw32/x64 (64-bit)

R is free software and comes with ABSOLUTELY NO WARRANTY.
You are welcome to redistribute it under certain conditions.
Type 'license()' or 'licence()' for distribution details.

R is a collaborative project with many contributors.
Type 'contributors()' for more information and
'citation()' on how to cite R or R packages in publications.

Type 'demo()' for some demos, 'help()' for on-line help, or
'help.start()' for an HTML browser interface to help.
Type 'q()' to quit R.

> ## Run all tests presnt in the package
> BiocGenerics:::testPackage("methylInheritance")
Loading required package: stats4
Loading required package: BiocGenerics

Attaching package: 'BiocGenerics'

The following objects are masked from 'package:stats':

    IQR, mad, sd, var, xtabs

The following objects are masked from 'package:base':

    Filter, Find, Map, Position, Reduce, anyDuplicated, aperm, append,
    as.data.frame, basename, cbind, colnames, dirname, do.call,
    duplicated, eval, evalq, get, grep, grepl, intersect, is.unsorted,
    lapply, mapply, match, mget, order, paste, pmax, pmax.int, pmin,
    pmin.int, rank, rbind, rownames, sapply, setdiff, sort, table,
    tapply, union, unique, unsplit, which.max, which.min

Loading required package: S4Vectors

Attaching package: 'S4Vectors'

The following objects are masked from 'package:base':

    I, expand.grid, unname

Loading required package: IRanges

Attaching package: 'IRanges'

The following object is masked from 'package:grDevices':

    windows

Loading required package: GenomeInfoDb
uniting...
uniting...
uniting...
uniting...
uniting...
uniting...
uniting...
uniting...
uniting...
uniting...
uniting...
uniting...
uniting...
uniting...
uniting...
uniting...
uniting...
uniting...
Permutation Analysis

Number of Generations:  3 
Number of Permutations:  20 

Observation Results: 
        SOURCE ELEMENT ANALYSIS   TYPE RESULT
1  OBSERVATION   SITES       i2 HYPER1      4
2  OBSERVATION   SITES       i2 HYPER2      1
3  OBSERVATION   SITES       i2  HYPO1      2
4  OBSERVATION   SITES       i2  HYPO2      2
5  OBSERVATION   SITES     iAll  HYPER      0
6  OBSERVATION   SITES     iAll   HYPO      0
7  OBSERVATION   TILES       i2 HYPER1   1000
8  OBSERVATION   TILES       i2 HYPER2      0
9  OBSERVATION   TILES       i2  HYPO1      0
10 OBSERVATION   TILES       i2  HYPO2      0
11 OBSERVATION   TILES     iAll  HYPER      0
12 OBSERVATION   TILES     iAll   HYPO      0


RUNIT TEST PROTOCOL -- Thu Dec 29 01:23:13 2022 
*********************************************** 
Number of test functions: 75 
Number of errors: 0 
Number of failures: 0 

 
1 Test Suite : 
methylInheritance RUnit Tests - 75 test functions, 0 errors, 0 failures
Number of test functions: 75 
Number of errors: 0 
Number of failures: 0 
Warning messages:
1: Use of `formatForGraphDataFrame$RESULT` is discouraged.
ℹ Use `RESULT` instead. 
2: In max(i) : no non-missing arguments to max; returning -Inf
3: In max(i) : no non-missing arguments to max; returning -Inf
> 
> proc.time()
   user  system elapsed 
  28.76    1.07   29.79 

Example timings

methylInheritance.Rcheck/methylInheritance-Ex.timings

nameusersystemelapsed
calculateSignificantLevel0.000.020.01
createDataStructure0.030.010.05
createOutputDir000
demoForTransgenerationalAnalysis5.040.165.19
extractInfo0.150.000.16
formatInputMethylData0.190.030.22
getGRangesFromMethylDiff0.080.010.09
interGeneration0.760.020.78
isInterGenerationResults000
loadAllRDSResults0.140.000.14
loadConvergenceData0.140.030.19
mergePermutationAndObservation000
methylInheritanceAllResults000
methylInheritanceResults0.000.010.01
plotConvergenceGraph0.380.000.37
plotGraph0.390.000.39
readInterGenerationResults0.030.000.03
runObservation40.81 0.7241.52
runOnePermutationOnAllGenerations 9.85 0.1410.03
runPermutation91.62 1.2992.97
samplesForTransgenerationalAnalysis30.50 0.6131.22
saveInterGenerationResults1.050.001.05
validateExtractInfo000
validateLoadConvergenceData0.010.000.01
validateMergePermutationAndObservation000
validateRunObservation0.110.000.11
validateRunPermutation0.130.000.13