Back to Multiple platform build/check report for BioC 3.13 |
|
This page was generated on 2021-10-15 15:06:13 -0400 (Fri, 15 Oct 2021).
To the developers/maintainers of the muscat package: - Please allow up to 24 hours (and sometimes 48 hours) for your latest push to git@git.bioconductor.org:packages/muscat.git to reflect on this report. See How and When does the builder pull? When will my changes propagate? here for more information. - Make sure to use the following settings in order to reproduce any error or warning you see on this page. |
Package 1233/2041 | Hostname | OS / Arch | INSTALL | BUILD | CHECK | BUILD BIN | ||||||||
muscat 1.6.0 (landing page) Helena L. Crowell
| nebbiolo1 | Linux (Ubuntu 20.04.2 LTS) / x86_64 | OK | OK | OK | ![]() | ||||||||
tokay2 | Windows Server 2012 R2 Standard / x64 | OK | OK | ERROR | OK | |||||||||
machv2 | macOS 10.14.6 Mojave / x86_64 | OK | OK | OK | OK | ![]() | ||||||||
Package: muscat |
Version: 1.6.0 |
Command: C:\cygwin\bin\curl.exe -O http://155.52.207.165/BBS/3.13/bioc/src/contrib/muscat_1.6.0.tar.gz && rm -rf muscat.buildbin-libdir && mkdir muscat.buildbin-libdir && C:\Users\biocbuild\bbs-3.13-bioc\R\bin\R.exe CMD INSTALL --merge-multiarch --build --library=muscat.buildbin-libdir muscat_1.6.0.tar.gz && C:\Users\biocbuild\bbs-3.13-bioc\R\bin\R.exe CMD INSTALL muscat_1.6.0.zip && rm muscat_1.6.0.tar.gz muscat_1.6.0.zip |
StartedAt: 2021-10-14 09:53:11 -0400 (Thu, 14 Oct 2021) |
EndedAt: 2021-10-14 09:54:41 -0400 (Thu, 14 Oct 2021) |
EllapsedTime: 90.0 seconds |
RetCode: 0 |
Status: OK |
############################################################################## ############################################################################## ### ### Running command: ### ### C:\cygwin\bin\curl.exe -O http://155.52.207.165/BBS/3.13/bioc/src/contrib/muscat_1.6.0.tar.gz && rm -rf muscat.buildbin-libdir && mkdir muscat.buildbin-libdir && C:\Users\biocbuild\bbs-3.13-bioc\R\bin\R.exe CMD INSTALL --merge-multiarch --build --library=muscat.buildbin-libdir muscat_1.6.0.tar.gz && C:\Users\biocbuild\bbs-3.13-bioc\R\bin\R.exe CMD INSTALL muscat_1.6.0.zip && rm muscat_1.6.0.tar.gz muscat_1.6.0.zip ### ############################################################################## ############################################################################## % Total % Received % Xferd Average Speed Time Time Time Current Dload Upload Total Spent Left Speed 0 0 0 0 0 0 0 0 --:--:-- --:--:-- --:--:-- 0 100 2034k 100 2034k 0 0 3160k 0 --:--:-- --:--:-- --:--:-- 3163k install for i386 * installing *source* package 'muscat' ... ** using staged installation ** R ** data *** moving datasets to lazyload DB ** inst ** byte-compile and prepare package for lazy loading Warning in checkDepPackageVersion(dep_pkg = "TMB") : Package version inconsistency detected. glmmTMB was built with TMB version 1.7.21 Current TMB version is 1.7.22 Please re-install glmmTMB from source or restore original 'TMB' package (see '?reinstalling' for more information) ** help *** installing help indices converting help for package 'muscat' finding HTML links ... done aggregateData html calcExprFreqs html data html mmDS html pbDS html pbFlatten html pbHeatmap html finding level-2 HTML links ... done pbMDS html prepSCE html prepSim html resDS html simData html ** building package indices ** installing vignettes ** testing if installed package can be loaded from temporary location Warning in checkDepPackageVersion(dep_pkg = "TMB") : Package version inconsistency detected. glmmTMB was built with TMB version 1.7.21 Current TMB version is 1.7.22 Please re-install glmmTMB from source or restore original 'TMB' package (see '?reinstalling' for more information) ** testing if installed package can be loaded from final location Warning in checkDepPackageVersion(dep_pkg = "TMB") : Package version inconsistency detected. glmmTMB was built with TMB version 1.7.21 Current TMB version is 1.7.22 Please re-install glmmTMB from source or restore original 'TMB' package (see '?reinstalling' for more information) ** testing if installed package keeps a record of temporary installation path install for x64 * installing *source* package 'muscat' ... ** testing if installed package can be loaded Warning in checkDepPackageVersion(dep_pkg = "TMB") : Package version inconsistency detected. glmmTMB was built with TMB version 1.7.21 Current TMB version is 1.7.22 Please re-install glmmTMB from source or restore original 'TMB' package (see '?reinstalling' for more information) * MD5 sums packaged installation of 'muscat' as muscat_1.6.0.zip * DONE (muscat) * installing to library 'C:/Users/biocbuild/bbs-3.13-bioc/R/library' package 'muscat' successfully unpacked and MD5 sums checked