Back to Multiple platform build/check report for BioC 3.10 |
|
This page was generated on 2020-04-15 12:27:24 -0400 (Wed, 15 Apr 2020).
Package 887/1823 | Hostname | OS / Arch | INSTALL | BUILD | CHECK | BUILD BIN | ||||||
KEGGlincs 1.12.0 Shana White
| malbec1 | Linux (Ubuntu 18.04.4 LTS) / x86_64 | OK | OK | OK | ![]() | ||||||
tokay1 | Windows Server 2012 R2 Standard / x64 | OK | OK | [ OK ] | OK | ![]() | ||||||
merida1 | OS X 10.11.6 El Capitan / x86_64 | OK | OK | OK | OK | ![]() |
Package: KEGGlincs |
Version: 1.12.0 |
Command: C:\Users\biocbuild\bbs-3.10-bioc\R\bin\R.exe CMD check --force-multiarch --install=check:KEGGlincs.install-out.txt --library=C:\Users\biocbuild\bbs-3.10-bioc\R\library --no-vignettes --timings KEGGlincs_1.12.0.tar.gz |
StartedAt: 2020-04-15 04:14:34 -0400 (Wed, 15 Apr 2020) |
EndedAt: 2020-04-15 04:19:15 -0400 (Wed, 15 Apr 2020) |
EllapsedTime: 280.8 seconds |
RetCode: 0 |
Status: OK |
CheckDir: KEGGlincs.Rcheck |
Warnings: 0 |
############################################################################## ############################################################################## ### ### Running command: ### ### C:\Users\biocbuild\bbs-3.10-bioc\R\bin\R.exe CMD check --force-multiarch --install=check:KEGGlincs.install-out.txt --library=C:\Users\biocbuild\bbs-3.10-bioc\R\library --no-vignettes --timings KEGGlincs_1.12.0.tar.gz ### ############################################################################## ############################################################################## * using log directory 'C:/Users/biocbuild/bbs-3.10-bioc/meat/KEGGlincs.Rcheck' * using R version 3.6.3 (2020-02-29) * using platform: x86_64-w64-mingw32 (64-bit) * using session charset: ISO8859-1 * using option '--no-vignettes' * checking for file 'KEGGlincs/DESCRIPTION' ... OK * checking extension type ... Package * this is package 'KEGGlincs' version '1.12.0' * checking package namespace information ... OK * checking package dependencies ... OK * checking if this is a source package ... OK * checking if there is a namespace ... OK * checking for hidden files and directories ... OK * checking for portable file names ... OK * checking whether package 'KEGGlincs' can be installed ... OK * checking installed package size ... OK * checking package directory ... OK * checking 'build' directory ... OK * checking DESCRIPTION meta-information ... OK * checking top-level files ... OK * checking for left-over files ... OK * checking index information ... OK * checking package subdirectories ... OK * checking R files for non-ASCII characters ... OK * checking R files for syntax errors ... OK * loading checks for arch 'i386' ** checking whether the package can be loaded ... OK ** checking whether the package can be loaded with stated dependencies ... OK ** checking whether the package can be unloaded cleanly ... OK ** checking whether the namespace can be loaded with stated dependencies ... OK ** checking whether the namespace can be unloaded cleanly ... OK * loading checks for arch 'x64' ** checking whether the package can be loaded ... OK ** checking whether the package can be loaded with stated dependencies ... OK ** checking whether the package can be unloaded cleanly ... OK ** checking whether the namespace can be loaded with stated dependencies ... OK ** checking whether the namespace can be unloaded cleanly ... OK * checking dependencies in R code ... NOTE Namespace in Imports field not imported from: 'XML' All declared Imports should be used. * checking S3 generic/method consistency ... OK * checking replacement functions ... OK * checking foreign function calls ... OK * checking R code for possible problems ... OK * checking Rd files ... OK * checking Rd metadata ... OK * checking Rd cross-references ... OK * checking for missing documentation entries ... OK * checking for code/documentation mismatches ... OK * checking Rd \usage sections ... OK * checking Rd contents ... OK * checking for unstated dependencies in examples ... OK * checking files in 'vignettes' ... OK * checking examples ... ** running examples for arch 'i386' ... OK Examples with CPU or elapsed time > 5s user system elapsed add_edge_data 14.55 1.64 17.64 overlap_info 13.67 1.14 15.01 edge_mapping_info 8.86 0.41 9.47 refine_mappings 7.90 0.31 8.49 path_genes_by_cell_type 7.86 0.31 8.37 ** running examples for arch 'x64' ... OK Examples with CPU or elapsed time > 5s user system elapsed overlap_info 15.71 0.64 16.55 add_edge_data 14.32 0.46 15.17 edge_mapping_info 9.51 0.36 10.06 path_genes_by_cell_type 7.90 0.23 8.35 refine_mappings 7.47 0.27 7.92 get_graph_object 6.36 0.19 6.76 * checking for unstated dependencies in vignettes ... OK * checking package vignettes in 'inst/doc' ... OK * checking running R code from vignettes ... SKIPPED * checking re-building of vignette outputs ... SKIPPED * checking PDF version of manual ... OK * DONE Status: 1 NOTE See 'C:/Users/biocbuild/bbs-3.10-bioc/meat/KEGGlincs.Rcheck/00check.log' for details.
KEGGlincs.Rcheck/00install.out
############################################################################## ############################################################################## ### ### Running command: ### ### C:\cygwin\bin\curl.exe -O https://malbec1.bioconductor.org/BBS/3.10/bioc/src/contrib/KEGGlincs_1.12.0.tar.gz && rm -rf KEGGlincs.buildbin-libdir && mkdir KEGGlincs.buildbin-libdir && C:\Users\biocbuild\bbs-3.10-bioc\R\bin\R.exe CMD INSTALL --merge-multiarch --build --library=KEGGlincs.buildbin-libdir KEGGlincs_1.12.0.tar.gz && C:\Users\biocbuild\bbs-3.10-bioc\R\bin\R.exe CMD INSTALL KEGGlincs_1.12.0.zip && rm KEGGlincs_1.12.0.tar.gz KEGGlincs_1.12.0.zip ### ############################################################################## ############################################################################## % Total % Received % Xferd Average Speed Time Time Time Current Dload Upload Total Spent Left Speed 0 0 0 0 0 0 0 0 --:--:-- --:--:-- --:--:-- 0 100 2148k 100 2148k 0 0 22.0M 0 --:--:-- --:--:-- --:--:-- 23.0M install for i386 * installing *source* package 'KEGGlincs' ... ** using staged installation ** R ** inst ** byte-compile and prepare package for lazy loading ** help *** installing help indices converting help for package 'KEGGlincs' finding HTML links ... done KEGG_lincs html KEGGlincs html KL_compare html add_edge_data html cyto_vis html edge_mapping_info html expand_KEGG_edges html expand_KEGG_mappings html generate_mappings html get_KGML html get_fisher_info html get_graph_object html keggerize_edges html node_mapping_info html overlap_info html path_genes_by_cell_type html refine_mappings html tidy_edge html toCytoscape html ** building package indices ** installing vignettes ** testing if installed package can be loaded from temporary location ** testing if installed package can be loaded from final location ** testing if installed package keeps a record of temporary installation path install for x64 * installing *source* package 'KEGGlincs' ... ** testing if installed package can be loaded * MD5 sums packaged installation of 'KEGGlincs' as KEGGlincs_1.12.0.zip * DONE (KEGGlincs) * installing to library 'C:/Users/biocbuild/bbs-3.10-bioc/R/library' package 'KEGGlincs' successfully unpacked and MD5 sums checked
KEGGlincs.Rcheck/examples_i386/KEGGlincs-Ex.timings
|
KEGGlincs.Rcheck/examples_x64/KEGGlincs-Ex.timings
|