Back to the "Multiple platform build/check report" |
Package 1/120 | Hostname | OS / Arch | BUILD | CHECK | BUILD BIN | ||||
affycompData 1.1.2 Harris Jaffee
| wilson2 | Linux (openSUSE 11.4) / x86_64 | OK | OK | |||||
moscato1 | Windows Server 2008 R2 Enterprise SP1 (64-bit) / x64 | OK | OK | OK | |||||
pitt | Mac OS X Leopard (10.5.8) / i386 | OK | OK | [ OK ] |
Package: affycompData |
Version: 1.1.2 |
Command: rm -rf affycompData.buildbin-libdir && mkdir affycompData.buildbin-libdir && /Users/biocbuild/BBS/utils/build-universal.sh affycompData_1.1.2.tar.gz /Library/Frameworks/R.framework/Versions/2.14/Resources/bin/R affycompData.buildbin-libdir |
StartedAt: 2012-03-23 14:47:20 -0700 (Fri, 23 Mar 2012) |
EndedAt: 2012-03-23 14:47:46 -0700 (Fri, 23 Mar 2012) |
EllapsedTime: 25.7 seconds |
RetCode: 0 |
Status: OK |
PackageFile: affycompData_1.1.2.tgz |
PackageFileSize: 68.62 MiB |
>>>>>>> >>>>>>> INSTALLATION WITH 'R CMD INSTALL --preclean --no-multiarch --library=affycompData.buildbin-libdir affycompData_1.1.2.tar.gz' >>>>>>> * installing *source* package 'affycompData' ... ** data ** help *** installing help indices ** building package indices ... ** testing if installed package can be loaded * DONE (affycompData)