Back to the "Multiple platform build/check report" |
Package 80/120 | Hostname | OS / Arch | BUILD | CHECK | BUILD BIN | ||||
MAQCsubset 1.0.24 VJ Carey
| wilson2 | Linux (openSUSE 11.4) / x86_64 | OK | OK | |||||
moscato1 | Windows Server 2008 R2 Enterprise SP1 (64-bit) / x64 | OK | OK | OK | |||||
pitt | Mac OS X Leopard (10.5.8) / i386 | OK | OK | [ OK ] |
Package: MAQCsubset |
Version: 1.0.24 |
Command: rm -rf MAQCsubset.buildbin-libdir && mkdir MAQCsubset.buildbin-libdir && /Users/biocbuild/BBS/utils/build-universal.sh MAQCsubset_1.0.24.tar.gz /Library/Frameworks/R.framework/Versions/2.14/Resources/bin/R MAQCsubset.buildbin-libdir |
StartedAt: 2012-03-23 15:00:27 -0700 (Fri, 23 Mar 2012) |
EndedAt: 2012-03-23 15:01:14 -0700 (Fri, 23 Mar 2012) |
EllapsedTime: 46.8 seconds |
RetCode: 0 |
Status: OK |
PackageFile: MAQCsubset_1.0.24.tgz |
PackageFileSize: 64.57 MiB |
>>>>>>> >>>>>>> INSTALLATION WITH 'R CMD INSTALL --preclean --no-multiarch --library=MAQCsubset.buildbin-libdir MAQCsubset_1.0.24.tar.gz' >>>>>>> * installing *source* package 'MAQCsubset' ... ** R ** data ** inst ** preparing package for lazy loading Creating a generic function for 'lines' from package 'graphics' in package 'MAQCsubset' ** help *** installing help indices ** building package indices ... *** tangling vignette sources ... 'maqcNotes.Rnw' ** testing if installed package can be loaded * DONE (MAQCsubset)