Back to the "Multiple platform build/check report" |
Package 100/106 | Hostname | OS / Arch | BUILD | CHECK | BUILD BIN | ||||
tinesath1probe 1.0.2 Tine Casneuf
| lamb1 | Linux (openSUSE 11.3) / x86_64 | OK | OK | |||||
gewurz | Windows Server 2008 R2 Enterprise SP1 (64-bit) / x64 | OK | OK | OK | |||||
pelham | Mac OS X Leopard (10.5.8) / i386 | OK | OK | [ OK ] |
Package: tinesath1probe |
Version: 1.0.2 |
Command: rm -rf tinesath1probe.buildbin-libdir && mkdir tinesath1probe.buildbin-libdir && /Users/biocbuild/BBS/utils/build-universal.sh tinesath1probe_1.0.2.tar.gz /Library/Frameworks/R.framework/Versions/2.13/Resources/bin/R tinesath1probe.buildbin-libdir |
StartedAt: 2011-10-19 01:59:21 -0700 (Wed, 19 Oct 2011) |
EndedAt: 2011-10-19 01:59:31 -0700 (Wed, 19 Oct 2011) |
EllapsedTime: 9.5 seconds |
RetCode: 0 |
Status: OK |
PackageFile: tinesath1probe_1.0.2.tgz |
PackageFileSize: 3.042 MiB |
>>>>>>> >>>>>>> INSTALLATION WITH 'R CMD INSTALL --preclean --library=tinesath1probe.buildbin-libdir tinesath1probe_1.0.2.tar.gz' >>>>>>> * installing *source* package 'tinesath1probe' ... ** R ** data ** preparing package for lazy loading ** help *** installing help indices ** building package indices ... ** testing if installed package can be loaded * DONE (tinesath1probe)