Back to the "Multiple platform build/check report" |
Package 36/98 | Hostname | OS / Arch | BUILD | CHECK | BUILD BIN | ||||
gaschYHS 1.0.3 Vince Carey
| lamb1 | Linux (openSUSE 11.3) / x86_64 | OK | OK | |||||
gewurz | Windows Server 2008 R2 Enterprise (64-bit) / x64 | OK | OK | OK | |||||
petty | Mac OS X Snow Leopard (10.6.7) / i386 | [ OK ] | OK | OK |
Package: gaschYHS |
Version: 1.0.3 |
Command: /Library/Frameworks/R.framework/Versions/2.13/Resources/bin/R CMD build --keep-empty-dirs --no-resave-data gaschYHS |
StartedAt: 2011-07-03 00:23:22 -0700 (Sun, 03 Jul 2011) |
EndedAt: 2011-07-03 00:23:23 -0700 (Sun, 03 Jul 2011) |
EllapsedTime: 1.9 seconds |
RetCode: 0 |
Status: OK |
PackageFile: gaschYHS_1.0.3.tar.gz |
PackageFileSize: 1.757 MiB |
* checking for file 'gaschYHS/DESCRIPTION' ... OK * preparing 'gaschYHS': * checking DESCRIPTION meta-information ... OK * checking for LF line-endings in source and make files * checking for empty or unneeded directories * looking to see if a 'data/datalist' file should be added * building 'gaschYHS_1.0.3.tar.gz'