Back to the "Multiple platform build/check report" |
Package 13/92 | Hostname | OS / Arch | BUILD | CHECK | BUILD BIN | ||||
breastCancerVDX 0.99.0 Markus Schroeder
| lamb2 | Linux (openSUSE 11.2) / x86_64 | [ OK ] | OK | |||||
gewurz | Windows Server 2008 R2 Enterprise (64-bit) / x64 | OK | OK | OK | |||||
petty | Mac OS X Snow Leopard (10.6.6) / i386 | OK | OK | OK |
Package: breastCancerVDX |
Version: 0.99.0 |
Command: /home/biocbuild/bbs-2.7-bioc/R/bin/R CMD build breastCancerVDX |
StartedAt: 2011-04-06 14:04:10 -0700 (Wed, 06 Apr 2011) |
EndedAt: 2011-04-06 14:04:17 -0700 (Wed, 06 Apr 2011) |
EllapsedTime: 6.5 seconds |
RetCode: 0 |
Status: OK |
PackageFile: breastCancerVDX_0.99.0.tar.gz |
PackageFileSize: 39.52 MiB |
* checking for file ‘breastCancerVDX/DESCRIPTION’ ... OK * preparing ‘breastCancerVDX’: * checking DESCRIPTION meta-information ... OK * checking whether ‘INDEX’ is up-to-date ... NO * use '--force' to remove the existing ‘INDEX’ * checking for LF line-endings in source and make files * checking for empty or unneeded directories * building ‘breastCancerVDX_0.99.0.tar.gz’