>>>>>>>
>>>>>>> INSTALLATION WITH 'R CMD INSTALL --preclean --library=affydata.buildbin-libdir affydata_1.11.11.tar.gz'
>>>>>>>
* installing *source* package 'affydata' ...
** R
** data
** inst
** preparing package for lazy loading
Loading required package: Biobase
Welcome to Bioconductor
Vignettes contain introductory material. To view, type
'openVignette()'. To cite Bioconductor, see
'citation("Biobase")' and for packages 'citation(pkgname)'.
** help
*** installing help indices
** building package indices ...
** testing if installed package can be loaded
Package
[1,] "affydata"
LibPath
[1,] "/Users/biocbuild/bbs-2.7-data-experiment/meat/affydata.buildbin-libdir"
Item Title
[1,] "Dilution" "AffyBatch instance Dilution"
* DONE (affydata)