Back to the "Multiple platform build/check report" |
Package 61/83 | Hostname | OS / Arch | BUILD | CHECK | BUILD BIN | ||||
MAQCsubsetILM 1.0.2 Laurent Gatto
| wilson1 | Linux (openSUSE 11.1) / x86_64 | OK | OK | |||||
liverpool | Windows Server 2003 R2 (32-bit) / x64 | OK | OK | OK | |||||
pelham | Mac OS X Leopard (10.5.8) / i386 | [ OK ] | OK | OK |
Package: MAQCsubsetILM |
Version: 1.0.2 |
Command: /Library/Frameworks/R.framework/Versions/2.11/Resources/bin/R CMD build MAQCsubsetILM |
StartedAt: 2010-09-24 02:20:46 -0700 (Fri, 24 Sep 2010) |
EndedAt: 2010-09-24 02:21:30 -0700 (Fri, 24 Sep 2010) |
EllapsedTime: 44.0 seconds |
RetCode: 0 |
Status: OK |
PackageFile: MAQCsubsetILM_1.0.2.tar.gz |
PackageFileSize: 7.085 MiB |
* checking for file 'MAQCsubsetILM/DESCRIPTION' ... OK * preparing 'MAQCsubsetILM': * checking DESCRIPTION meta-information ... OK * installing the package to re-build vignettes * installing *source* package ‘MAQCsubsetILM’ ... ** data ** inst ** help *** installing help indices ** building package indices ... ** testing if installed package can be loaded * DONE (MAQCsubsetILM) * creating vignettes ... OK * removing junk files * checking for LF line-endings in source and make files * checking for empty or unneeded directories * building 'MAQCsubsetILM_1.0.2.tar.gz'