Back to the "Multiple platform build/check report" | A B C D E F G H I J K L [M] N O P Q R S T U V W X Y Z |
Package 226/353 | Hostname | OS / Arch | BUILD | CHECK | BUILD BIN | ||||
multtest 2.2.0 Katherine S. Pollard
| wilson2 | Linux (openSUSE 11.1) / x86_64 | OK | OK | |||||
liverpool | Windows Server 2003 R2 (32-bit) / x64 | [ OK ] | OK | OK | |||||
pitt | Mac OS X Tiger (10.4.11) / i386 | OK | OK | OK | |||||
pelham | Mac OS X Leopard (10.5.8) / i386 | OK | OK | OK |
Package: multtest |
Version: 2.2.0 |
Command: E:\biocbld\bbs-2.5-bioc\R\bin\R.exe CMD build multtest |
StartedAt: 2010-04-03 01:23:52 -0700 (Sat, 03 Apr 2010) |
EndedAt: 2010-04-03 01:23:57 -0700 (Sat, 03 Apr 2010) |
EllapsedTime: 4.8 seconds |
RetCode: 0 |
Status: OK |
PackageFile: multtest_2.2.0.tar.gz |
PackageFileSize: 1.378 MiB |
* checking for file 'multtest/DESCRIPTION' ... OK * preparing 'multtest': * checking DESCRIPTION meta-information ... OK * cleaning src make: Nothing to be done for `clean'. * removing junk files * checking for LF line-endings in source and make files * checking for empty or unneeded directories * building 'multtest_2.2.0.tar.gz'