Back to the "Multiple platform build/check report" | A B C D E F G H I J K L [M] N O P Q R S T U V W X Y Z |
Package 212/353 | Hostname | OS / Arch | BUILD | CHECK | BUILD BIN | ||||
MeasurementError.cor 1.18.0 Beiying Ding
| wilson2 | Linux (openSUSE 11.1) / x86_64 | OK | OK | |||||
liverpool | Windows Server 2003 R2 (32-bit) / x64 | OK | OK | OK | |||||
pitt | Mac OS X Tiger (10.4.11) / i386 | OK | OK | OK | |||||
pelham | Mac OS X Leopard (10.5.8) / i386 | OK | OK | [ OK ] |
Package: MeasurementError.cor |
Version: 1.18.0 |
Command: /Users/biocbuild/BBS/utils/build-universal.sh MeasurementError.cor_1.18.0.tar.gz /Library/Frameworks/R.framework/Versions/2.10/Resources/bin/R MeasurementError.cor.buildbin-libdir |
StartedAt: 2010-04-03 07:33:59 -0700 (Sat, 03 Apr 2010) |
EndedAt: 2010-04-03 07:34:02 -0700 (Sat, 03 Apr 2010) |
EllapsedTime: 2.8 seconds |
RetCode: 0 |
Status: OK |
PackageFile: MeasurementError.cor_1.18.0.tgz |
PackageFileSize: 60.92 KiB |
INSTALLATION WITH 'R CMD INSTALL --preclean --library=MeasurementError.cor.buildbin-libdir MeasurementError.cor_1.18.0.tar.gz' * installing *source* package ‘MeasurementError.cor’ ... ** R ** inst ** preparing package for lazy loading ** help *** installing help indices ** building package indices ... * DONE (MeasurementError.cor)