* Installing *source* package 'tinesath1cdf' ...
Using auto-selected zip options '--use-zip-data '
** R
** data
** preparing package for lazy loading
** help
*** installing help indices
>>> Building/Updating help pages for package 'tinesath1cdf'
Formats: text html latex example chm
geometry text html latex example chm
tinesath1cdf text html latex chm
Microsoft HTML Help Compiler 4.74.8702
Compiling e:\biocbld\bbs-2.4-data-experiment\tmpdir\RtmpXQc1dV\R.INSTALL678418be\tinesath1cdf\chm\tinesath1cdf.chm
Compile time: 0 minutes, 1 second
3 Topics
5 Local links
0 Internet links
1 Graphic
Created e:\biocbld\bbs-2.4-data-experiment\tmpdir\RtmpXQc1dV\R.INSTALL678418be\tinesath1cdf\chm\tinesath1cdf.chm, 16,347 bytes
Compression increased file by 7,595 bytes.
** building package indices ...
** MD5 sums
packaged installation of 'tinesath1cdf' as tinesath1cdf_1.0.2.zip
* DONE (tinesath1cdf)