* checking for working pdflatex ... OK
* using log directory '/Users/biocbuild/bbs-2.4-data-experiment/meat/ITALICSData.Rcheck'
* using R version 2.9.1 Patched (2009-06-28 r48863)
* using session charset: ASCII
* using option '--no-vignettes'
* checking for file 'ITALICSData/DESCRIPTION' ... OK
* this is package 'ITALICSData' version '2.0.1'
* checking package dependencies ... OK
* checking if this is a source package ... OK
* checking whether package 'ITALICSData' can be installed ... OK
* checking package directory ... OK
* checking for portable file names ... OK
* checking for sufficient/correct file permissions ... OK
* checking DESCRIPTION meta-information ... OK
* checking top-level files ... OK
* checking index information ... OK
* checking package subdirectories ... OK
* checking whether the package can be loaded ... OK
* checking whether the package can be loaded with stated dependencies ... OK
* checking Rd files ... OK
* checking Rd files against version 2 parser ... OK
* checking Rd cross-references ... OK
* checking for missing documentation entries ... OK
* checking for code/documentation mismatches ... OK
* checking Rd \usage sections ... OK
* checking data for non-ASCII characters ... OK
* checking examples ... OK
* checking PDF version of manual ... OK
* Installing *source* package 'ITALICSData' ...
** data
** help
*** installing help indices
>>> Building/Updating help pages for package 'ITALICSData'
Formats: text html latex example
Note: removing empty section \source in file 'Hind.QuartetEffect.Rd'
Note: removing empty section \usage in file 'Hind.QuartetEffect.Rd'
Note: removing empty section \format in file 'Hind.QuartetEffect.Rd'
Note: removing empty section \references in file 'Hind.QuartetEffect.Rd'
Hind.QuartetEffect text html latex
Note: removing empty section \source in file 'Nsp.QuartetEffect.Rd'
Note: removing empty section \usage in file 'Nsp.QuartetEffect.Rd'
Note: removing empty section \format in file 'Nsp.QuartetEffect.Rd'
Note: removing empty section \references in file 'Nsp.QuartetEffect.Rd'
Nsp.QuartetEffect text html latex
Note: removing empty section \source in file 'Sty.QuartetEffect.Rd'
Note: removing empty section \usage in file 'Sty.QuartetEffect.Rd'
Note: removing empty section \format in file 'Sty.QuartetEffect.Rd'
Note: removing empty section \references in file 'Sty.QuartetEffect.Rd'
Sty.QuartetEffect text html latex
Note: removing empty section \source in file 'Xba.QuartetEffect.Rd'
Note: removing empty section \usage in file 'Xba.QuartetEffect.Rd'
Note: removing empty section \format in file 'Xba.QuartetEffect.Rd'
Note: removing empty section \references in file 'Xba.QuartetEffect.Rd'
Xba.QuartetEffect text html latex
Note: removing empty section \source in file 'quartetInfo.Rd'
Note: removing empty section \format in file 'quartetInfo.Rd'
Note: removing empty section \references in file 'quartetInfo.Rd'
quartetInfo text html latex
Note: removing empty section \source in file 'snpInfo.Rd'
Note: removing empty section \format in file 'snpInfo.Rd'
Note: removing empty section \references in file 'snpInfo.Rd'
snpInfo text html latex
** building package indices ...
* DONE (ITALICSData)