* checking for file 'spkTools/DESCRIPTION' ... OK
* preparing 'spkTools':
* checking DESCRIPTION meta-information ... OK
* installing the package to re-build vignettes
* Installing *source* package ‘spkTools’ ...
** R
** data
** inst
** preparing package for lazy loading
Welcome to Bioconductor
Vignettes contain introductory material. To view, type
'openVignette()'. To cite Bioconductor, see
'citation("Biobase")' and for packages 'citation(pkgname)'.
** help
*** installing help indices
>>> Building/Updating help pages for package 'spkTools'
Formats: text html latex example
SpikeInExpressSet-class text html latex example
affy text html latex
plotSpkBox text html latex example
spkAccSD text html latex example
spkAll text html latex example
spkAnova text html latex example
spkBal text html latex example
spkBox text html latex example
spkDensity text html latex example
spkGNN text html latex example
spkMA text html latex example
spkPair text html latex example
spkPairNS text html latex example
spkPot text html latex example
spkQuantile text html latex example
spkSlope text html latex example
spkTools text html latex example
spkVar text html latex example
summarySpkBox text html latex example
** building package indices ...
* DONE (spkTools)
* creating vignettes ... OK
* removing junk files
* checking for LF line-endings in source and make files
* checking for empty or unneeded directories
* building 'spkTools_1.0.0.tar.gz'