* checking for file 'affypdnn/DESCRIPTION' ... OK
* preparing 'affypdnn':
* checking DESCRIPTION meta-information ... OK
* installing the package to re-build vignettes
* Installing *source* package 'affypdnn' ...
** R
** data
** inst
** preparing package for lazy loading
Loading required package: Biobase
Welcome to Bioconductor
Vignettes contain introductory material. To view, type
'openVignette()'. To cite Bioconductor, see
'citation("Biobase")' and for packages 'citation(pkgname)'.
** help
*** installing help indices
>>> Building/Updating help pages for package 'affypdnn'
Formats: text html latex example
chiptype.pdnn.params text html latex example
expressopdnn text html latex example
find.params.pdnn text html latex example
generateExprVal.method.pdnn text html latex example
matplotProbesPDNN text html latex example
params.dilution text html latex example
pdnn.params.chiptype text html latex example
transform.ProbeSet text html latex example
** building package indices ...
* DONE (affypdnn)
* creating vignettes ... OK
* removing junk files
* checking for LF line-endings in source and make files
* checking for empty or unneeded directories
* building 'affypdnn_1.18.0.tar.gz'