INSTALLATION WITH 'R CMD INSTALL --preclean --library=BioMVCClass.buildbin-libdir BioMVCClass_1.12.0.tar.gz'
* Installing *source* package ‘BioMVCClass’ ...
** R
** inst
** preparing package for lazy loading
Welcome to Bioconductor
Vignettes contain introductory material. To view, type
'openVignette()'. To cite Bioconductor, see
'citation("Biobase")' and for packages 'citation(pkgname)'.
Loading required package: grid
Warning in fun(...) :
Rgraphviz built with Graphviz version 2.22.2.
Found installed Graphviz version 2.24.0. This _may_ cause problems.
Attaching package: 'Rgraphviz'
The following object(s) are masked from package:MVCClass :
from
** help
*** installing help indices
>>> Building/Updating help pages for package 'BioMVCClass'
Formats: text html latex example
Note: removing empty section \examples in file 'GSE-class.Rd'
GSE-class text html latex
Note: removing empty section \examples in file 'exprModel-class.Rd'
exprModel-class text html latex
Note: removing empty section \examples in file 'graphModel-class.Rd'
graphModel-class text html latex
Note: removing empty section \examples in file 'graphView-class.Rd'
graphView-class text html latex
Note: removing empty section \examples in file 'gseModel-class.Rd'
gseModel-class text html latex
Note: removing empty section \examples in file 'heatmapView-class.Rd'
heatmapView-class text html latex
** building package indices ...
* DONE (BioMVCClass)